BEGIN:VCALENDAR
VERSION:2.0
PRODID:-//Barrie Film Festival - ECPv6.7.0//NONSGML v1.0//EN
CALSCALE:GREGORIAN
METHOD:PUBLISH
X-ORIGINAL-URL:https://barriefilmfestival.netgaindev.com
X-WR-CALDESC:Events for Barrie Film Festival
REFRESH-INTERVAL;VALUE=DURATION:PT1H
X-Robots-Tag:noindex
X-PUBLISHED-TTL:PT1H
BEGIN:VTIMEZONE
TZID:America/Toronto
BEGIN:DAYLIGHT
TZOFFSETFROM:-0500
TZOFFSETTO:-0400
TZNAME:EDT
DTSTART:20180311T070000
END:DAYLIGHT
BEGIN:STANDARD
TZOFFSETFROM:-0400
TZOFFSETTO:-0500
TZNAME:EST
DTSTART:20181104T060000
END:STANDARD
END:VTIMEZONE
BEGIN:VEVENT
DTSTART;TZID=America/Toronto:20180202T160000
DTEND;TZID=America/Toronto:20180202T172800
DTSTAMP:20260425T200302
CREATED:20180110T002838Z
LAST-MODIFIED:20180110T002838Z
UID:3980-1517587200-1517592480@barriefilmfestival.netgaindev.com
SUMMARY:PECKING ORDER - 4PM
DESCRIPTION:[col_one ] \n \nPECKING ORDER – Buy Tickets Now!\n\nFriday\, February 2\, 4:00 pm\nSunday\, February 4\, 7:30 pm \nWritten and Directed by: Slavko Martinov\nDocumentary\, PG\, 88 min. (New Zealand) \n  \n“An absolutely hilarious and very pointed exploration of politics and culture on the smallest possible scale. And a lot of good-lookin’ chickens.” – Mary Ann Johanson\, Flick Filosopher \n  \n“This is quirkily compulsive viewing.” – David Aldridge\, Radio Times \n  \n“As feathers are ruffled by ego and envy\, the film doubles as a surprisingly affecting fable of fun turning fowl.” – Simon Kinnear\, Total Film \n  \n“A documentary about New Zealand’s leading chicken breeders may not immediately seize the imagination\, but\, like Best in Show\, the mockumentary it often resembles\, Slavko Martinov’s film is often hilarious.” – Ed Potton\, Times (UK) \n  \nThis feel good feather-ruffling flockumentary takes you into the distinctly Kiwi world of competitive poultry pageantry\, inhabited by a group of understated\, witty and likable chicken lovers hell-bent on victory at the New Zealand National Poultry Show. \nThis heart-warming film about the circle of life\, power struggles and the need for progress\, follows members of the Christchurch Poultry\, Pigeon and Bantam Club struggling to peak at nationals while decades of club infighting threaten to tear their 148-year-old club apart. Who will ‘Rule the Roost’? \n  \nAwards: \nNominated\, Best Documentary\, Adelaide Film Festival\, 2017\nNominated\, Best Documentary\, Edinburgh International Film Festival\, 2017\nNominated\, Best Foreign Documentary Trailer\, Golden Trailer Awards\, 2017\nNominated\, People’s Choice Award – Best Documentary\, Melbourne International Film Festival\, 2017 \n  \n[embed_video video_site=”vimeo” video_url=”https://vimeo.com/200252021″ video_width=”640″ video_height=”360″ ] \n[/col_one]
URL:https://barriefilmfestival.netgaindev.com/now-playing/pecking-order-4pm/
LOCATION:Annual Barrie Film Festival
END:VEVENT
BEGIN:VEVENT
DTSTART;TZID=America/Toronto:20180202T190000
DTEND;TZID=America/Toronto:20180202T212000
DTSTAMP:20260425T200302
CREATED:20180109T235215Z
LAST-MODIFIED:20180109T235215Z
UID:3967-1517598000-1517606400@barriefilmfestival.netgaindev.com
SUMMARY:HUMAN FLOW - 7PM
DESCRIPTION:[col_one ] \n \nHUMAN FLOW – Buy Tickets Now!\n\nFriday\, February 2\, 7:00 pm \nDirected by: Ai Weiwei\nDocumentary\, PG for mature themes including a disturbing image\, 140 min. Language: English (Germany) \n  \n“The imagery encourages viewers to adopt a global perspective in considering the subject matter.” – Ben Sachs\, Chicago Reader \n  \n“Ai Weiwei has made something beautiful: Human Flow is neither indulgent nor pedantic\, but clear-eyed in its view of the enormity of the crisis too vast for most of us to comprehend.” – Murray White\, Toronto Star \n  \nOver 65 million people around the world have been forced from their homes to escape famine\, climate change and war in the greatest human displacement since World War II. Human Flow\, an epic film journey led by the internationally renowned artist Ai Weiwei\, gives a powerful visual expression to this massive human migration. The documentary elucidates both the staggering scale of the refugee crisis and its profoundly personal human impact. Captured over the course of an eventful year in 23 countries\, the film follows a chain of urgent human stories that stretches across the globe. \n  \nAwards: \nWon\, Courage\, Bambi Awards\, 2017\nWon\, 4 Awards\, Venice Film Festival\, 2017\nNominated\, Best Documentary\, Detroit Film Critic Society\, 2017 \n  \n[embed_video video_site=”vimeo” video_url=”https://vimeo.com/232676153″ video_width=”640″ video_height=”360″ ] \n  \n[/col_one]
URL:https://barriefilmfestival.netgaindev.com/now-playing/human-flow-7pm/
LOCATION:Annual Barrie Film Festival
END:VEVENT
END:VCALENDAR