BEGIN:VCALENDAR
VERSION:2.0
PRODID:-//Barrie Film Festival - ECPv6.7.0//NONSGML v1.0//EN
CALSCALE:GREGORIAN
METHOD:PUBLISH
X-ORIGINAL-URL:https://barriefilmfestival.netgaindev.com
X-WR-CALDESC:Events for Barrie Film Festival
REFRESH-INTERVAL;VALUE=DURATION:PT1H
X-Robots-Tag:noindex
X-PUBLISHED-TTL:PT1H
BEGIN:VTIMEZONE
TZID:America/Toronto
BEGIN:DAYLIGHT
TZOFFSETFROM:-0500
TZOFFSETTO:-0400
TZNAME:EDT
DTSTART:20180311T070000
END:DAYLIGHT
BEGIN:STANDARD
TZOFFSETFROM:-0400
TZOFFSETTO:-0500
TZNAME:EST
DTSTART:20181104T060000
END:STANDARD
END:VTIMEZONE
BEGIN:VEVENT
DTSTART;TZID=America/Toronto:20180203T130000
DTEND;TZID=America/Toronto:20180203T144900
DTSTAMP:20260425T200258
CREATED:20180110T001555Z
LAST-MODIFIED:20180110T001555Z
UID:3976-1517662800-1517669340@barriefilmfestival.netgaindev.com
SUMMARY:PAST LIFE - 1PM
DESCRIPTION:[col_one ] \n \nPAST LIFE – Buy Tickets Now!\n\nSaturday\, February 3\, 1:00 pm \nWritten and Directed by: Avi Nesher\nDrama\, 14A for nudity and disturbing content\, 109 min.\, Language: English and German\, Polish\, Hebrew with English subtitles (Israel/Poland) \n  \n“A striking and thought-provoking picture.” – Glenn Kenny\, RogerEbert.com \n  \n“While so many films have examined the war and the Holocaust that took such an egregious toll on the Jewish community\, Past Life looks at it from a novel perspective\, examining the possible “crimes” committed by a survivor.” – Bruce Demara\, Toronto Star \n  \nBased on actual events and set in the late 1970s\, Past Life centers on the daughters of Holocaust survivors: combative liberal journalist Nana and her younger sister Sephi\, a soprano and aspiring composer. After a performance in West Berlin\, Sephi is accosted by an elderly Polish woman who angrily accuses her father of murder. Traumatized by the startling encounter\, the sisters launch an investigation\, attempting to discover what really happened to their father in Poland during the war. As guilty secrets and troubling revelations are dredged up\, the story boldly charts dangerous emotional territory as Nana and Sephi unravel the shocking truth about their father’s murky wartime experiences. \n  \nAwards: \nNominated\, Best Actress / Supporting Actress / Art Direction / Costume Design / Music\, Israeli Film Academy\, 2017 \n  \n[embed_video video_site=”youtube” video_url=”https://www.youtube.com/watch?v=IUfKAzZxiCs” video_width=”640″ video_height=”360″ ] \n[/col_one]
URL:https://barriefilmfestival.netgaindev.com/now-playing/past-life-1pm/
LOCATION:Annual Barrie Film Festival
END:VEVENT
BEGIN:VEVENT
DTSTART;TZID=America/Toronto:20180203T153000
DTEND;TZID=America/Toronto:20180203T163700
DTSTAMP:20260425T200258
CREATED:20180109T234611Z
LAST-MODIFIED:20180109T234611Z
UID:3962-1517671800-1517675820@barriefilmfestival.netgaindev.com
SUMMARY:BRIMSTONE & GLORY - 3:30PM
DESCRIPTION:[col_one ] \n \nBRIMSTONE & GLORY – Buy Tickets Now!\n\nSaturday\, February 3\, 3:30 pm \nDirected by: Viktor Jakovleski\nDocumentary\, PG\, 67 min.\nLanguage: Spanish with English subtitles (Mexico/USA) \n  \n“Brimstone & Glory is community as catharsis\, and you can’t stop staring in stupefied astonishment.” – Tim Grierson\, Paste Magazine \n  \n“A movie that repays being seen on a big reflective screen\, one on which the image is projected rather than one from which the image emanates.” – Glenn Kenny\, RogerEbert.com \n  \n  \nThe National Pyrotechnic Festival in Tultepec\, Mexico is a site of festivity unlike any other in the world. In celebration of San Juan de Dios (the patron saint of firework makers)\, conflagrant revelry engulfs the town for ten days. More than three quarters of Tultepec’s residents work in pyrotechnics\, and the festival anchors a way of life built around the generations-old\, homegrown business of making fireworks by hand. For the town’s citizens\, this extraordinary event is explosive celebration and unrestrained delight… combined with genuine peril. \n  \nAwards: \nWon\, Special Mention\, Sheffield International Documentary Festival\, 2017\nWon\, Best Documentary Feature\, San Francisco International Film Festival\, 2017\nWon\, Special Citation\, San Francisco Film Critics Circle\, 2017\nWon\, Best Director/Best Picture\, Austin Fantastic Fest\, 2017 \n  \n[embed_video video_site=”youtube” video_url=”https://www.youtube.com/watch?v=36iHKZmeH60″ video_width=”640″ video_height=”360″ ] \n[/col_one]
URL:https://barriefilmfestival.netgaindev.com/now-playing/brimstone-glory-330pm/
LOCATION:Annual Barrie Film Festival
END:VEVENT
BEGIN:VEVENT
DTSTART;TZID=America/Toronto:20180203T171500
DTEND;TZID=America/Toronto:20180203T184500
DTSTAMP:20260425T200258
CREATED:20180109T233855Z
LAST-MODIFIED:20180109T233855Z
UID:3959-1517678100-1517683500@barriefilmfestival.netgaindev.com
SUMMARY:BOMBSHELL: THE HEDY LAMARR STORY - 5:15M
DESCRIPTION:  \n[col_one ] \n \nBOMBSHELL: THE HEDY LAMARR STORY – Buy Tickets Now!\n\nSaturday\, February 3\, 5:15 pm \nWritten and Directed by: Alexandra Dean\nDocumentary/Biography\, PG for mature content and nudity in a non-sexual context\, 90 min. (USA) \n  \n“What makes “Bombshell” intriguing is not just Lamarr’s gift for invention\, it’s also what a fiery individualist she was\, someone who had no regrets about her eventful life (“You learn from everything”)\, not even its racy\, tabloid elements.” – Kenneth Turan\, Los Angeles Times \n  \n“Recognition (and compensation) proved elusive in Lamarr’s lifetime\, but in this marvelous documentary\, a brilliant woman – “I’m a very simple\, complicated person” – finally gets her due.” – Chuck Wilson\, Village Voice \n  \nHollywood star Hedy Lamarr was known as the world’s most beautiful woman – Snow White and Cat Woman were both based on her iconic look. However\, her arresting beauty and glamorous life stood in the way of her being given the credit she deserved as an ingenious inventor\, whose pioneering work helped revolutionize modern communication. \nWeaving interviews and clips with never-before-heard audio tapes of Hedy speaking about her incredible life combined with intimate reflections from her children\, closest friends\, family and admirers\, Bombshell (executive produced by Susan Sarandon\, Michael Kantor\, Regina Scully) finally gives Hedy Lamarr the chance to tell her own story. \n  \nAwards: \nWon\, Audience Award\, Middlebury New Filmmakers Festival\, 2017\nWon\, Excellence in Filmmaking Award\, Nantucket Film Festival\, 2017\nWon\, Audience Award\, San Francisco Jewish Film Festival\, 2017\nWon\, Audience Award/Best Film\, Scottsdale International Film Festival\, 2017\nNominated\, Audience Favourite\, Aspen Filmfest\, 2017\nNominated\, Best Documentary\, Dallas Video Festival\, 2017\nNominated\, Best Documentary\, Jerusalem Film Festival\, 2017\nWon\, Audience Award-Feature\, Middlebury New Filmmakers Festival\, 2017 \n  \n[embed_video video_site=”vimeo” video_url=”https://vimeo.com/231434755″ video_width=”640″ video_height=”360″ ] \n[/col_one]
URL:https://barriefilmfestival.netgaindev.com/now-playing/bombshell-the-hedy-lamarr-story-515m/
LOCATION:Annual Barrie Film Festival
END:VEVENT
BEGIN:VEVENT
DTSTART;TZID=America/Toronto:20180203T193000
DTEND;TZID=America/Toronto:20180203T212800
DTSTAMP:20260425T200258
CREATED:20180110T004252Z
LAST-MODIFIED:20180110T004252Z
UID:3987-1517686200-1517693280@barriefilmfestival.netgaindev.com
SUMMARY:TAKE EVERY WAVE - 7:30PM
DESCRIPTION:[col_one ] \n \nTAKE EVERY WAVE:\nTHE LIFE OF LAIRD HAMILTON – Buy Tickets Now!\n\nSaturday\, February 3\, 7:30 pm  \nDirected by: Rory Kennedy\nDocumentary/Sport\, PG language may offend\, not recommended for young children\, 118 min. (USA) \n  \n“This is Kennedy’s profile in courage\, a film about the connection between the great man and the “incorrigible egomaniac.” For all the awesome surfing footage\, Take Every Wave is a serious film about the death-or-glory attitude of an extreme athlete.” – Liam Lacey\, Original Cin \n  \n“The line between dedication and addiction is a thin one\, and … that line is even thinner for the surfer who’s the subject of this involving documentary.” – Mark Dujik\, Mark Reviews Movies \n  \nThis exciting film tracks the remarkable life and legendary career of big-wave surfer Laird Hamilton. Much admired by the public (though often disdained or ignored by the surf industry itself)\, Hamilton is a unique sports icon. He’s an athlete who has refused to compete professionally\, yet has dominated big-wave surfing as no other figure has ever done. Transcending the surf genre\, this in-depth portrait of a hard-charging athlete explores the fear\, courage and ambition that push a man to greatness as well as the cost that comes with it. Threaded throughout is a revealing\, deeply personal interview with Hamilton himself\, as well conversations with the family members\, friends\, collaborators and detractors who know him best. \n  \nAwards: \nWon\, Most Compelling Living Subject\, Critics Choice Documentary Awards\, 2017 Nominated\, Best Sports Documentary\, Critics Choice Documentary Awards\, 2017 \n  \n[embed_video video_site=”youtube” video_url=”https://www.youtube.com/watch?v=06BoDz9JzZE” video_width=”640″ video_height=”360″ ] \n[/col_one]
URL:https://barriefilmfestival.netgaindev.com/now-playing/take-every-wave-730pm/
LOCATION:Annual Barrie Film Festival
END:VEVENT
END:VCALENDAR