BEGIN:VCALENDAR
VERSION:2.0
PRODID:-//Barrie Film Festival - ECPv6.7.0//NONSGML v1.0//EN
CALSCALE:GREGORIAN
METHOD:PUBLISH
X-ORIGINAL-URL:https://barriefilmfestival.netgaindev.com
X-WR-CALDESC:Events for Barrie Film Festival
REFRESH-INTERVAL;VALUE=DURATION:PT1H
X-Robots-Tag:noindex
X-PUBLISHED-TTL:PT1H
BEGIN:VTIMEZONE
TZID:America/Toronto
BEGIN:DAYLIGHT
TZOFFSETFROM:-0500
TZOFFSETTO:-0400
TZNAME:EDT
DTSTART:20180311T070000
END:DAYLIGHT
BEGIN:STANDARD
TZOFFSETFROM:-0400
TZOFFSETTO:-0500
TZNAME:EST
DTSTART:20181104T060000
END:STANDARD
END:VTIMEZONE
BEGIN:VEVENT
DTSTART;TZID=America/Toronto:20180215T160000
DTEND;TZID=America/Toronto:20180215T175300
DTSTAMP:20260425T183742
CREATED:20180211T132718Z
LAST-MODIFIED:20180211T132718Z
UID:4060-1518710400-1518717180@barriefilmfestival.netgaindev.com
SUMMARY:Back to Burgundy - 4PM
DESCRIPTION:[col_one] \n \n[col_two_thirds ] \nBack to Burgundy (Ce qui nous lie)\nScreening: Thursday\, February 15\, 2018 – 4pm\, 7pm\nUptown Theatre\, 55 Dunlop St. W.\, Barrie\nCo-written and Directed by: Cédric Klapisch\nCast: Pio Marmaï\, Ana Girardot\, François Civil\, Jean-Marc Roulot and Marîa Valverde\nComedy/Drama\, 14A for mature thematics\, 113 minutes French/English/Spanish with English subtitles (France) \n  \n[btnsx id=”4040″] \n  \n“Have you come back from your holiday brimming with buy-your-own-vineyard fantasies? Slake that thirst with this French art house crowd-pleaser.” – Larushka Ivan-Zadeh\, Times (UK) \n  \n“The performances are engaging and the film is very likeable\, especially as we witness the landscapes through the changing seasons of sun-dappled summer and snow-clad winter.” – Allan Hunter\, Daily Express (UK) \n  \nBack to Burgundy tells the story of Jean\, who left his family and his native Burgundy ten years ago to tour the world. When learning of his father’s imminent death he returns to his childhood home where he\, his sister\, Juliette\, and brother\, Jérémie\, inherit their family vineyard. As the seasons go by and they work to save the vineyard\, they’ll have to learn to trust each other again and reinvent their relationship. \n  \n  \n[embed_video video_site=”vimeo” video_url=”https://vimeo.com/233544545″ video_width=”640″ video_height=”360″ ] \n  \nProgram is Sponsored by: \n \n[/col_one]
URL:https://barriefilmfestival.netgaindev.com/now-playing/back-to-burgundy-4pm/
LOCATION:Annual Barrie Film Festival
END:VEVENT
BEGIN:VEVENT
DTSTART;TZID=America/Toronto:20180215T190000
DTEND;TZID=America/Toronto:20180215T205300
DTSTAMP:20260425T183742
CREATED:20180211T132922Z
LAST-MODIFIED:20180211T132922Z
UID:4064-1518721200-1518727980@barriefilmfestival.netgaindev.com
SUMMARY:Back to Burgundy - 7PM
DESCRIPTION:[col_one] \n \n[col_two_thirds ] \nBack to Burgundy (Ce qui nous lie)\nScreening: Thursday\, February 15\, 2018 – 4pm\, 7pm\nUptown Theatre\, 55 Dunlop St. W.\, Barrie\nCo-written and Directed by: Cédric Klapisch\nCast: Pio Marmaï\, Ana Girardot\, François Civil\, Jean-Marc Roulot and Marîa Valverde\nComedy/Drama\, 14A for mature thematics\, 113 minutes French/English/Spanish with English subtitles (France) \n  \n[btnsx id=”4040″] \n  \n“Have you come back from your holiday brimming with buy-your-own-vineyard fantasies? Slake that thirst with this French art house crowd-pleaser.” – Larushka Ivan-Zadeh\, Times (UK) \n  \n“The performances are engaging and the film is very likeable\, especially as we witness the landscapes through the changing seasons of sun-dappled summer and snow-clad winter.” – Allan Hunter\, Daily Express (UK) \n  \nBack to Burgundy tells the story of Jean\, who left his family and his native Burgundy ten years ago to tour the world. When learning of his father’s imminent death he returns to his childhood home where he\, his sister\, Juliette\, and brother\, Jérémie\, inherit their family vineyard. As the seasons go by and they work to save the vineyard\, they’ll have to learn to trust each other again and reinvent their relationship. \n  \n  \n[embed_video video_site=”vimeo” video_url=”https://vimeo.com/233544545″ video_width=”640″ video_height=”360″ ] \n  \nProgram is Sponsored by: \n \n[/col_one]
URL:https://barriefilmfestival.netgaindev.com/now-playing/back-to-burgundy-7pm/
LOCATION:Annual Barrie Film Festival
END:VEVENT
END:VCALENDAR