BEGIN:VCALENDAR
VERSION:2.0
PRODID:-//Barrie Film Festival - ECPv6.7.0//NONSGML v1.0//EN
CALSCALE:GREGORIAN
METHOD:PUBLISH
X-WR-CALNAME:Barrie Film Festival
X-ORIGINAL-URL:https://barriefilmfestival.netgaindev.com
X-WR-CALDESC:Events for Barrie Film Festival
REFRESH-INTERVAL;VALUE=DURATION:PT1H
X-Robots-Tag:noindex
X-PUBLISHED-TTL:PT1H
BEGIN:VTIMEZONE
TZID:America/Toronto
BEGIN:DAYLIGHT
TZOFFSETFROM:-0500
TZOFFSETTO:-0400
TZNAME:EDT
DTSTART:20180311T070000
END:DAYLIGHT
BEGIN:STANDARD
TZOFFSETFROM:-0400
TZOFFSETTO:-0500
TZNAME:EST
DTSTART:20181104T060000
END:STANDARD
END:VTIMEZONE
BEGIN:VEVENT
DTSTART;TZID=America/Toronto:20180404T160000
DTEND;TZID=America/Toronto:20180404T175100
DTSTAMP:20260425T141209
CREATED:20180315T145115Z
LAST-MODIFIED:20180315T145115Z
UID:4119-1522857600-1522864260@barriefilmfestival.netgaindev.com
SUMMARY:Finding Your Feet - 4PM
DESCRIPTION:[col_one_third ] \n \n[/col_one_third] \n[col_two_thirds ] \nFinding Your Feet\n\nScreening:\nWednesday\, April 4\, 2018 – 4 pm\, 7 pm\nThursday\, April 5\, 2018 – 4 pm\, 7 pm\nLocation: Uptown Theatre\, 55 Dunlop St. W.\, Barrie \n  \n[btnsx id=”4116″] \n  \nDirector: Richard Loncraine\nCast: Imelda Staunton\, Celia Imrie\, Timothy Spall\, David Hayman\, John Sessions\, Joanna Lumley\nComedy/Drama\, PG for mature theme/language\, 111 minutes (United Kingdom) \n  \n\n\n“The cast lend charm to this feelgood fairy tale and Celia Imrie is especially good as the inspiring Bif.”\n– Allan Hunter\, DAILY EXPRESS (UK) \n\n  \n[/col_two_thirds] \n[col_one ] \nWhen ‘Lady’ Sandra Abbott (Academy Award nominee Imelda Staunton\, Maleficent\, Pride\, Vera Drake) discovers that her husband of forty years (John Sessions) is having an affair with her best friend (Josie Lawrence) she seeks refuge in London with her estranged\, older sister Bif (Celia Imrie\, Best Exotic Marigold Hotel). e two could not be more different – Sandra is a fish out of water next to her outspoken\, serial dating\, free spirited sibling. But different is just what Sandra needs at the moment\, and she reluctantly lets Bif drag her along to a community dance class\, where gradually she starts finding her feet and romance as she meets her sister’s friends\, Charlie (Timothy Spall\, Mr. Turner\, Denial)\, Jackie (Joanna Lumley) and Ted (David Hayman). is colourful\, defiant and energetic group start to show Sandra that retirement is in fact only the beginning\, and that divorce might just give her a whole new lease on love and life. \n  \nAwards:\nWon\, Audience Award (Best Narrative Feature)\, Palm Springs International Film Festival\, 2018 \n  \n[embed_video video_site=”youtube” video_url=”https://www.youtube.com/watch?v=mNDKh6E-2CU” video_width=”640″ video_height=”360″ ] \n  \n  \n \n[/col_one]
URL:https://barriefilmfestival.netgaindev.com/now-playing/finding-your-feet-4pm/
LOCATION:Annual Barrie Film Festival
END:VEVENT
BEGIN:VEVENT
DTSTART;TZID=America/Toronto:20180404T190000
DTEND;TZID=America/Toronto:20180404T205100
DTSTAMP:20260425T141209
CREATED:20180315T145334Z
LAST-MODIFIED:20180315T145334Z
UID:4122-1522868400-1522875060@barriefilmfestival.netgaindev.com
SUMMARY:Finding Your Feet - 7PM
DESCRIPTION:[col_one_third ] \n \n[/col_one_third] \n[col_two_thirds ] \nFinding Your Feet\n\nScreening:\nWednesday\, April 4\, 2018 – 4 pm\, 7 pm\nThursday\, April 5\, 2018 – 4 pm\, 7 pm\nLocation: Uptown Theatre\, 55 Dunlop St. W.\, Barrie \n  \n[btnsx id=”4116″] \n  \nDirector: Richard Loncraine\nCast: Imelda Staunton\, Celia Imrie\, Timothy Spall\, David Hayman\, John Sessions\, Joanna Lumley\nComedy/Drama\, PG for mature theme/language\, 111 minutes (United Kingdom) \n  \n\n\n“The cast lend charm to this feelgood fairy tale and Celia Imrie is especially good as the inspiring Bif.”\n– Allan Hunter\, DAILY EXPRESS (UK) \n\n  \n[/col_two_thirds] \n[col_one ] \nWhen ‘Lady’ Sandra Abbott (Academy Award nominee Imelda Staunton\, Maleficent\, Pride\, Vera Drake) discovers that her husband of forty years (John Sessions) is having an affair with her best friend (Josie Lawrence) she seeks refuge in London with her estranged\, older sister Bif (Celia Imrie\, Best Exotic Marigold Hotel). e two could not be more different – Sandra is a fish out of water next to her outspoken\, serial dating\, free spirited sibling. But different is just what Sandra needs at the moment\, and she reluctantly lets Bif drag her along to a community dance class\, where gradually she starts finding her feet and romance as she meets her sister’s friends\, Charlie (Timothy Spall\, Mr. Turner\, Denial)\, Jackie (Joanna Lumley) and Ted (David Hayman). is colourful\, defiant and energetic group start to show Sandra that retirement is in fact only the beginning\, and that divorce might just give her a whole new lease on love and life. \n  \nAwards:\nWon\, Audience Award (Best Narrative Feature)\, Palm Springs International Film Festival\, 2018 \n  \n[embed_video video_site=”youtube” video_url=”https://www.youtube.com/watch?v=mNDKh6E-2CU” video_width=”640″ video_height=”360″ ] \n  \n  \n \n[/col_one]
URL:https://barriefilmfestival.netgaindev.com/now-playing/finding-your-feet-7pm/
LOCATION:Annual Barrie Film Festival
END:VEVENT
END:VCALENDAR