BEGIN:VCALENDAR
VERSION:2.0
PRODID:-//Barrie Film Festival - ECPv6.7.0//NONSGML v1.0//EN
CALSCALE:GREGORIAN
METHOD:PUBLISH
X-WR-CALNAME:Barrie Film Festival
X-ORIGINAL-URL:https://barriefilmfestival.netgaindev.com
X-WR-CALDESC:Events for Barrie Film Festival
REFRESH-INTERVAL;VALUE=DURATION:PT1H
X-Robots-Tag:noindex
X-PUBLISHED-TTL:PT1H
BEGIN:VTIMEZONE
TZID:America/Toronto
BEGIN:DAYLIGHT
TZOFFSETFROM:-0500
TZOFFSETTO:-0400
TZNAME:EDT
DTSTART:20180311T070000
END:DAYLIGHT
BEGIN:STANDARD
TZOFFSETFROM:-0400
TZOFFSETTO:-0500
TZNAME:EST
DTSTART:20181104T060000
END:STANDARD
END:VTIMEZONE
BEGIN:VEVENT
DTSTART;TZID=America/Toronto:20180503T160000
DTEND;TZID=America/Toronto:20180503T174300
DTSTAMP:20260425T123410
CREATED:20180409T174031Z
LAST-MODIFIED:20180409T174031Z
UID:4174-1525363200-1525369380@barriefilmfestival.netgaindev.com
SUMMARY:AVA - 4PM
DESCRIPTION:[col_one_third ] \n[col_one_third ] \n \n[/col_one_third] \n[col_two_thirds ] \nAVA\n\nScreening:\nWednesday\, May 2\, 2018 – 4 pm\, 7 pm\nThursday\, May 3\, 2018 – 4 pm\, 7 pm\nLocation: Uptown Theatre\, 55 Dunlop St. W.\, Barrie \n  \nWritten and Directed by: Sadaf Foroughi\nCast: Mahour Jabbari\, Bahar Noohian\, Leili Rashidi\, Vahid Aghapour\, Shayesteh Sajadi\nDrama\, PG for mature theme/language\, 103 minutes\, Language: Persian with English subtitles (Iran/Canada/Qatar) \n[btnsx id=”4188″]\n[/col_two_thirds] \n[col_one ] \n“Ava’s rebellion is against more than her parents’ mistrust; it’s about the cage of societal norms in Iran that stifles female creativity and self-expression. The clarity with which Foroughi presents the situation makes it easy for international audiences to follow the unfolding drama with its rising stakes.” – Deborah Young\, The Hollywood Reporter \n  \nBased on her own adolescent experiences\, Sadaf Foroughi’s Ava is a gripping debut about a young girl’s coming-of-age in a strict\, traditional society. Living with her well-to-do parents in Tehran\, Ava is a bright and focused teen whose concerns — friendships\, music\, social status\, academic performance — resemble that of nearly any teenager. When Ava’s mistrustful and overprotective mother questions her relationship with a boy — going so far as to visit a gynecologist – Ava is overwhelmed by a newfound rage. Formerly a model student\, Ava begins to rebel against the strictures imposed by her parents\, her school\, and the society at large. \n  \nAwards:\n \nNominated\, International Debut Award\, Göteborg Film Festival\, 2018\nWinner\, Best Canadian First Feature Film/Honourable Mention\, International Critics’ Award\, Toronto International Film Festival\, 2017 \n  \n[embed_video video_site=”youtube” video_url=”https://www.youtube.com/watch?v=rF9pDPmF3is” video_width=”640″ video_height=”360″ ] \n  \n  \n \n[/col_one]
URL:https://barriefilmfestival.netgaindev.com/now-playing/ava-4pm-2/
LOCATION:Annual Barrie Film Festival
END:VEVENT
BEGIN:VEVENT
DTSTART;TZID=America/Toronto:20180503T190000
DTEND;TZID=America/Toronto:20180503T204300
DTSTAMP:20260425T123410
CREATED:20180409T174132Z
LAST-MODIFIED:20180409T174132Z
UID:4176-1525374000-1525380180@barriefilmfestival.netgaindev.com
SUMMARY:AVA - 7PM
DESCRIPTION:[col_one_third ] \n[col_one_third ] \n \n[/col_one_third] \n[col_two_thirds ] \nAVA\n\nScreening:\nWednesday\, May 2\, 2018 – 4 pm\, 7 pm\nThursday\, May 3\, 2018 – 4 pm\, 7 pm\nLocation: Uptown Theatre\, 55 Dunlop St. W.\, Barrie \n  \nWritten and Directed by: Sadaf Foroughi\nCast: Mahour Jabbari\, Bahar Noohian\, Leili Rashidi\, Vahid Aghapour\, Shayesteh Sajadi\nDrama\, PG for mature theme/language\, 103 minutes\, Language: Persian with English subtitles (Iran/Canada/Qatar) \n[btnsx id=”4188″]\n[/col_two_thirds] \n[col_one ] \n“Ava’s rebellion is against more than her parents’ mistrust; it’s about the cage of societal norms in Iran that stifles female creativity and self-expression. The clarity with which Foroughi presents the situation makes it easy for international audiences to follow the unfolding drama with its rising stakes.” – Deborah Young\, The Hollywood Reporter \n  \nBased on her own adolescent experiences\, Sadaf Foroughi’s Ava is a gripping debut about a young girl’s coming-of-age in a strict\, traditional society. Living with her well-to-do parents in Tehran\, Ava is a bright and focused teen whose concerns — friendships\, music\, social status\, academic performance — resemble that of nearly any teenager. When Ava’s mistrustful and overprotective mother questions her relationship with a boy — going so far as to visit a gynecologist – Ava is overwhelmed by a newfound rage. Formerly a model student\, Ava begins to rebel against the strictures imposed by her parents\, her school\, and the society at large. \n  \nAwards:\n \nNominated\, International Debut Award\, Göteborg Film Festival\, 2018\nWinner\, Best Canadian First Feature Film/Honourable Mention\, International Critics’ Award\, Toronto International Film Festival\, 2017 \n  \n[embed_video video_site=”youtube” video_url=”https://www.youtube.com/watch?v=rF9pDPmF3is” video_width=”640″ video_height=”360″ ] \n  \n  \n \n[/col_one]
URL:https://barriefilmfestival.netgaindev.com/now-playing/ava-7pm-2/
LOCATION:Annual Barrie Film Festival
END:VEVENT
END:VCALENDAR