BEGIN:VCALENDAR
VERSION:2.0
PRODID:-//Barrie Film Festival - ECPv6.7.0//NONSGML v1.0//EN
CALSCALE:GREGORIAN
METHOD:PUBLISH
X-WR-CALNAME:Barrie Film Festival
X-ORIGINAL-URL:https://barriefilmfestival.netgaindev.com
X-WR-CALDESC:Events for Barrie Film Festival
REFRESH-INTERVAL;VALUE=DURATION:PT1H
X-Robots-Tag:noindex
X-PUBLISHED-TTL:PT1H
BEGIN:VTIMEZONE
TZID:America/Toronto
BEGIN:DAYLIGHT
TZOFFSETFROM:-0500
TZOFFSETTO:-0400
TZNAME:EDT
DTSTART:20180311T070000
END:DAYLIGHT
BEGIN:STANDARD
TZOFFSETFROM:-0400
TZOFFSETTO:-0500
TZNAME:EST
DTSTART:20181104T060000
END:STANDARD
END:VTIMEZONE
BEGIN:VEVENT
DTSTART;TZID=America/Toronto:20180705T160000
DTEND;TZID=America/Toronto:20180705T180700
DTSTAMP:20260425T123411
CREATED:20180614T153506Z
LAST-MODIFIED:20180614T153506Z
UID:4414-1530806400-1530814020@barriefilmfestival.netgaindev.com
SUMMARY:Loveless - 4PM
DESCRIPTION:[col_one ] \n \nLoveless (Nelyubov)\n\nScreening:\nWednesday\, July 4\, 2018 – 4pm\, 7pm\nThursday\, July 5\, 2018 – 4pm\, 7pm\nLocation: Uptown Theatre\, 55 Dunlop St. W.\, Barrie \n  \nCo-written and Directed by: Andrey Zvyagintsev\nCast: Maryana Spivak\, Aleksey Rozin\, Matvey Novikov \nDrama\, 18A for sexual content\, disturbing content\, coarse language\, 127 minutes\, Russian with English subtitles\n(Russia/France/Germany/Belgium) \n  \n[btnsx id=”4434″] \n  \n    \n  \n  \n“Beautifully shot and acted\, the story and themes get deep under the skin.” – Rich Cline\, Shadows on the Wall \n  \n“Everything here – from the image to the dialogue to the landscape to the film’s vision and judgment – is clean\, cold\, and bracing.” – Matthew Lickona\, San Diego Reader \n  \n“Loveless is about a state of mind\, a lament\, an indictment of crimes against the human spirit.” – David Edelstein\, New York Magazine/Vulture \n  \n  \nStill living under the same roof\, the Moscow couple of Boris and Zhenya is in the terrible final stages of a bitter divorce. Under those circumstances\, as both have already found new partners\, the insults pour down like rain in this toxic familial battle zone\, always pivoting around the irresolvable and urgent matter of Alyosha’s custody\, their 12-year-old only son. Unheard\, unloved\, and above all\, unwanted\, the introverted and unhappy boy feels that he is an intolerable burden\, however\, what his parents don’t know is that he can hear every single word. As a result\, when Boris and Zhenya finally realize that Alyosha has been missing for nearly two days\, it is already too late. But is this a simple case of a runaway teenager? \n  \nAwards: 30 nominations and 17 Wins \nNominated – Oscar\, Best Foreign Language Film\, Academy Awards\, 2018\nNominated – Best Foreign Language Film\, Golden Globes\, 2018\nWon – Jury Prize\, Cannes Film Festival\, 2017\nWon – Carlo di Palma Award for Cinematography\, European Film Awards\, 2017\nWon – Best Film\, London Film Festival\, 2017 \n  \n  \n[embed_video video_site=”youtube” video_url=”https://www.youtube.com/watch?v=6h5GuecUU-Q” video_width=”640″ video_height=”360″ ] \n  \n  \n \n  \nIndividual Tickets: Adults $10\, Seniors/Students $8\n(prices include HST) \n[/col_one] \n 
URL:https://barriefilmfestival.netgaindev.com/now-playing/loveless-4pm-2/
LOCATION:Annual Barrie Film Festival
END:VEVENT
BEGIN:VEVENT
DTSTART;TZID=America/Toronto:20180705T190000
DTEND;TZID=America/Toronto:20180705T210700
DTSTAMP:20260425T123411
CREATED:20180614T153611Z
LAST-MODIFIED:20180614T153611Z
UID:4416-1530817200-1530824820@barriefilmfestival.netgaindev.com
SUMMARY:Loveless - 7PM
DESCRIPTION:[col_one ] \n \nLoveless (Nelyubov)\n\nScreening:\nWednesday\, July 4\, 2018 – 4pm\, 7pm\nThursday\, July 5\, 2018 – 4pm\, 7pm\nLocation: Uptown Theatre\, 55 Dunlop St. W.\, Barrie \n  \nCo-written and Directed by: Andrey Zvyagintsev\nCast: Maryana Spivak\, Aleksey Rozin\, Matvey Novikov \nDrama\, 18A for sexual content\, disturbing content\, coarse language\, 127 minutes\, Russian with English subtitles\n(Russia/France/Germany/Belgium) \n  \n[btnsx id=”4434″] \n  \n    \n  \n  \n“Beautifully shot and acted\, the story and themes get deep under the skin.” – Rich Cline\, Shadows on the Wall \n  \n“Everything here – from the image to the dialogue to the landscape to the film’s vision and judgment – is clean\, cold\, and bracing.” – Matthew Lickona\, San Diego Reader \n  \n“Loveless is about a state of mind\, a lament\, an indictment of crimes against the human spirit.” – David Edelstein\, New York Magazine/Vulture \n  \n  \nStill living under the same roof\, the Moscow couple of Boris and Zhenya is in the terrible final stages of a bitter divorce. Under those circumstances\, as both have already found new partners\, the insults pour down like rain in this toxic familial battle zone\, always pivoting around the irresolvable and urgent matter of Alyosha’s custody\, their 12-year-old only son. Unheard\, unloved\, and above all\, unwanted\, the introverted and unhappy boy feels that he is an intolerable burden\, however\, what his parents don’t know is that he can hear every single word. As a result\, when Boris and Zhenya finally realize that Alyosha has been missing for nearly two days\, it is already too late. But is this a simple case of a runaway teenager? \n  \nAwards: 30 nominations and 17 Wins \nNominated – Oscar\, Best Foreign Language Film\, Academy Awards\, 2018\nNominated – Best Foreign Language Film\, Golden Globes\, 2018\nWon – Jury Prize\, Cannes Film Festival\, 2017\nWon – Carlo di Palma Award for Cinematography\, European Film Awards\, 2017\nWon – Best Film\, London Film Festival\, 2017 \n  \n  \n[embed_video video_site=”youtube” video_url=”https://www.youtube.com/watch?v=6h5GuecUU-Q” video_width=”640″ video_height=”360″ ] \n  \n  \n \n  \nIndividual Tickets: Adults $10\, Seniors/Students $8\n(prices include HST) \n[/col_one] \n 
URL:https://barriefilmfestival.netgaindev.com/now-playing/loveless-7pm-2/
LOCATION:Annual Barrie Film Festival
END:VEVENT
END:VCALENDAR