BEGIN:VCALENDAR
VERSION:2.0
PRODID:-//Barrie Film Festival - ECPv6.7.0//NONSGML v1.0//EN
CALSCALE:GREGORIAN
METHOD:PUBLISH
X-WR-CALNAME:Barrie Film Festival
X-ORIGINAL-URL:https://barriefilmfestival.netgaindev.com
X-WR-CALDESC:Events for Barrie Film Festival
REFRESH-INTERVAL;VALUE=DURATION:PT1H
X-Robots-Tag:noindex
X-PUBLISHED-TTL:PT1H
BEGIN:VTIMEZONE
TZID:America/Toronto
BEGIN:DAYLIGHT
TZOFFSETFROM:-0500
TZOFFSETTO:-0400
TZNAME:EDT
DTSTART:20180311T070000
END:DAYLIGHT
BEGIN:STANDARD
TZOFFSETFROM:-0400
TZOFFSETTO:-0500
TZNAME:EST
DTSTART:20181104T060000
END:STANDARD
END:VTIMEZONE
BEGIN:VEVENT
DTSTART;TZID=America/Toronto:20180711T211500
DTEND;TZID=America/Toronto:20180711T211500
DTSTAMP:20260425T123411
CREATED:20180528T182413Z
LAST-MODIFIED:20180528T182413Z
UID:4302-1531343700-1531343700@barriefilmfestival.netgaindev.com
SUMMARY:Outdoor Screening - FERDINAND
DESCRIPTION:[fullwidth ] \n[col_one ] \n \nFerdinand\nWednesday\, July 11\, 2018\nMeridian Place\, Downtown Barrie\n\nStarts at dusk (approx. 9:15/9:20pm)\, weather permitting (rain date is July 12). Admission is Free. \n2017\, 108 min.\, G – cartoon/animation action (USA) \nAfter Ferdinand\, a bull with a big heart\, is mistaken for a dangerous beast\, he is captured and torn from his home. Determined to return to his family\, he rallies a misfit team on the ultimate adventure. \n  \n \n  \n[embed_video video_site=”youtube” video_url=”https://www.youtube.com/watch?v=HBXVM7oUPVk” video_width=”640″ video_height=”360″ ] \nSponsored by: \n   \n  \n \n[/col_one] \n[/fullwidth]
URL:https://barriefilmfestival.netgaindev.com/now-playing/outdoor-screening-ferdinand/
LOCATION:Meridian Place\, 30 Simcoe Street\, Barrie\, ON\, L4M 1A7\, Canada
END:VEVENT
END:VCALENDAR