BEGIN:VCALENDAR
VERSION:2.0
PRODID:-//Barrie Film Festival - ECPv6.7.0//NONSGML v1.0//EN
CALSCALE:GREGORIAN
METHOD:PUBLISH
X-WR-CALNAME:Barrie Film Festival
X-ORIGINAL-URL:https://barriefilmfestival.netgaindev.com
X-WR-CALDESC:Events for Barrie Film Festival
REFRESH-INTERVAL;VALUE=DURATION:PT1H
X-Robots-Tag:noindex
X-PUBLISHED-TTL:PT1H
BEGIN:VTIMEZONE
TZID:America/Toronto
BEGIN:DAYLIGHT
TZOFFSETFROM:-0500
TZOFFSETTO:-0400
TZNAME:EDT
DTSTART:20180311T070000
END:DAYLIGHT
BEGIN:STANDARD
TZOFFSETFROM:-0400
TZOFFSETTO:-0500
TZNAME:EST
DTSTART:20181104T060000
END:STANDARD
END:VTIMEZONE
BEGIN:VEVENT
DTSTART;TZID=America/Toronto:20180718T211500
DTEND;TZID=America/Toronto:20180718T211500
DTSTAMP:20260425T123410
CREATED:20180528T183430Z
LAST-MODIFIED:20180528T183430Z
UID:4310-1531948500-1531948500@barriefilmfestival.netgaindev.com
SUMMARY:Outdoor Screening - PADDINGTON 2
DESCRIPTION:[fullwidth ] \n[col_one ] \n \nPaddington 2\nWednesday\, July 18\, 2018\nMeridian Place\, Downtown Barrie\n\nStarts at dusk (approx. 9:15/9:20pm)\, weather permitting (rain date is July 19). Admission is Free. \n2018\, 104 min.\, G – some scary scenes (UK/France/USA) \nPaddington is happily settled with the Brown family in Windsor Gardens\, where he has become a popular member of the community\, spreading joy and marmalade wherever he goes. While searching for the perfect present for his beloved Aunt Lucy’s 100th birthday\, Paddington spots a unique pop-up book in Mr. Gruber’s antique shop\, and embarks upon a series of odd jobs to buy it. But when the book is stolen\, it’s up to Paddington and the Browns to unmask the thief. \n  \n[embed_video video_site=”youtube” video_url=”https://www.youtube.com/watch?v=52x5HJ9H8DM” video_width=”640″ video_height=”360″ ] \n  \nSponsored by \n    \n  \n \n[/col_one] \n[/fullwidth]
URL:https://barriefilmfestival.netgaindev.com/now-playing/outdoor-screening-paddington-2/
LOCATION:Meridian Place\, 30 Simcoe Street\, Barrie\, ON\, L4M 1A7\, Canada
END:VEVENT
END:VCALENDAR