BEGIN:VCALENDAR
VERSION:2.0
PRODID:-//Barrie Film Festival - ECPv6.7.0//NONSGML v1.0//EN
CALSCALE:GREGORIAN
METHOD:PUBLISH
X-WR-CALNAME:Barrie Film Festival
X-ORIGINAL-URL:https://barriefilmfestival.netgaindev.com
X-WR-CALDESC:Events for Barrie Film Festival
REFRESH-INTERVAL;VALUE=DURATION:PT1H
X-Robots-Tag:noindex
X-PUBLISHED-TTL:PT1H
BEGIN:VTIMEZONE
TZID:America/Toronto
BEGIN:DAYLIGHT
TZOFFSETFROM:-0500
TZOFFSETTO:-0400
TZNAME:EDT
DTSTART:20180311T070000
END:DAYLIGHT
BEGIN:STANDARD
TZOFFSETFROM:-0400
TZOFFSETTO:-0500
TZNAME:EST
DTSTART:20181104T060000
END:STANDARD
END:VTIMEZONE
BEGIN:VEVENT
DTSTART;TZID=America/Toronto:20180801T160000
DTEND;TZID=America/Toronto:20180801T173700
DTSTAMP:20260425T063610
CREATED:20180706T152103Z
LAST-MODIFIED:20180706T152103Z
UID:4490-1533139200-1533145020@barriefilmfestival.netgaindev.com
SUMMARY:Hearts Beat Loud - 4PM
DESCRIPTION:  \n[col_one_third ] \n[col_one_third ] \n \n[/col_one_third] \n[col_two_thirds ] \nHearts Beat Loud\n\nScreening:\nWednesday\, August 1\, 2018 – 4pm\, 7pm\nThursday\, August 2\, 2018 – 4pm\, 7pm\nLocation: Uptown Theatre\, 55 Dunlop St. W.\, Barrie \n  \nCo-written and Directed by: Brett Haley\nCast: Nick Offerman\, Kiersey Clemons\, Ted Danson\, Toni Collette\, Sasha Lane\, Blythe Danner\nComedy/Drama\, PG for mature theme\, some language\, 97 minutes (USA) \n  \n[btnsx id=”4546″]\n[/col_two_thirds] \n[col_one ] \n“This is a movie you not only want to see\, but also to put on the turntable.” – Peter Howell\, Toronto Star \n  \n“Haley engagingly traces the arc of the father-daughter relationship while deftly avoiding sentimentality. And he elicits fine performances from a splendid cast.” – Calvin Wilson\, St. Louis Post-Dispatch \n  \n“A keenly observed story of a Brooklyn father and daughter\, charged with the kind of music as free-spirited as the duo is.” – Tomris Laffly\, RogerEbert.com \n  \n  \nIn the hip Brooklyn neighbourhood of Red Hook\, single dad and record store owner Frank (Nick Offerman) is preparing to send his hard-working daughter Sam (Kiersey Clemons) off to college\, while being forced to close his vintage shop. Hoping to stay connected through their shared musical passions\, Frank urges Sam to turn their weekly “jam sesh” into a father-daughter live act. After their first song becomes an Internet breakout\, the two embark on a journey of love\, growing up and musical discovery. \n  \nAwards: \nWon – Audience Award – Best Narrative Feature Film\, Sarasota Film Festival\, 2018\nWon – Audience Award – Best Narrative Feature Film\, Wisconsin Film Festival\, 2018\nNominated – Music Movies Competition\, Cleveland International Film Festival\, 2018\nNominated – Audience Award\, Edinburgh International Film Festival\, 2018 \n  \n[embed_video video_site=”youtube” video_url=”https://www.youtube.com/watch?v=Jh6F2QqWExc” video_width=”640″ video_height=”360″ ] \n  \n  \n \n[/col_one]
URL:https://barriefilmfestival.netgaindev.com/now-playing/hearts-beat-loud-4pm/
LOCATION:Annual Barrie Film Festival
END:VEVENT
BEGIN:VEVENT
DTSTART;TZID=America/Toronto:20180801T190000
DTEND;TZID=America/Toronto:20180801T203700
DTSTAMP:20260425T063610
CREATED:20180706T152228Z
LAST-MODIFIED:20180706T152228Z
UID:4493-1533150000-1533155820@barriefilmfestival.netgaindev.com
SUMMARY:Hearts Beat Loud - 7PM
DESCRIPTION:[col_one_third ] \n \n[/col_one_third] \n[col_two_thirds ] \nHearts Beat Loud\n\nScreening:\nWednesday\, August 1\, 2018 – 4pm\, 7pm\nThursday\, August 2\, 2018 – 4pm\, 7pm\nLocation: Uptown Theatre\, 55 Dunlop St. W.\, Barrie \n  \nCo-written and Directed by: Brett Haley\nCast: Nick Offerman\, Kiersey Clemons\, Ted Danson\, Toni Collette\, Sasha Lane\, Blythe Danner\nComedy/Drama\, PG for mature theme\, some language\, 97 minutes (USA) \n  \n[btnsx id=”4546″]\n[/col_two_thirds] \n[col_one ] \n“This is a movie you not only want to see\, but also to put on the turntable.” – Peter Howell\, Toronto Star \n  \n“Haley engagingly traces the arc of the father-daughter relationship while deftly avoiding sentimentality. And he elicits fine performances from a splendid cast.” – Calvin Wilson\, St. Louis Post-Dispatch \n  \n“A keenly observed story of a Brooklyn father and daughter\, charged with the kind of music as free-spirited as the duo is.” – Tomris Laffly\, RogerEbert.com \n  \n  \nIn the hip Brooklyn neighbourhood of Red Hook\, single dad and record store owner Frank (Nick Offerman) is preparing to send his hard-working daughter Sam (Kiersey Clemons) off to college\, while being forced to close his vintage shop. Hoping to stay connected through their shared musical passions\, Frank urges Sam to turn their weekly “jam sesh” into a father-daughter live act. After their first song becomes an Internet breakout\, the two embark on a journey of love\, growing up and musical discovery. \n  \nAwards: \nWon – Audience Award – Best Narrative Feature Film\, Sarasota Film Festival\, 2018\nWon – Audience Award – Best Narrative Feature Film\, Wisconsin Film Festival\, 2018\nNominated – Music Movies Competition\, Cleveland International Film Festival\, 2018\nNominated – Audience Award\, Edinburgh International Film Festival\, 2018 \n  \n[embed_video video_site=”youtube” video_url=”https://www.youtube.com/watch?v=Jh6F2QqWExc” video_width=”640″ video_height=”360″ ] \n  \n  \n \n[/col_one]
URL:https://barriefilmfestival.netgaindev.com/now-playing/hearts-beat-loud-7pm/
LOCATION:Annual Barrie Film Festival
END:VEVENT
END:VCALENDAR