BEGIN:VCALENDAR
VERSION:2.0
PRODID:-//Barrie Film Festival - ECPv6.7.0//NONSGML v1.0//EN
CALSCALE:GREGORIAN
METHOD:PUBLISH
X-ORIGINAL-URL:https://barriefilmfestival.netgaindev.com
X-WR-CALDESC:Events for Barrie Film Festival
REFRESH-INTERVAL;VALUE=DURATION:PT1H
X-Robots-Tag:noindex
X-PUBLISHED-TTL:PT1H
BEGIN:VTIMEZONE
TZID:America/Toronto
BEGIN:DAYLIGHT
TZOFFSETFROM:-0500
TZOFFSETTO:-0400
TZNAME:EDT
DTSTART:20190310T070000
END:DAYLIGHT
BEGIN:STANDARD
TZOFFSETFROM:-0400
TZOFFSETTO:-0500
TZNAME:EST
DTSTART:20191103T060000
END:STANDARD
END:VTIMEZONE
BEGIN:VEVENT
DTSTART;TZID=America/Toronto:20190223T120000
DTEND;TZID=America/Toronto:20190223T132100
DTSTAMP:20260424T210746
CREATED:20190126T142614Z
LAST-MODIFIED:20190126T142614Z
UID:5432-1550923200-1550928060@barriefilmfestival.netgaindev.com
SUMMARY:Pick of the Litter - 12PM
DESCRIPTION:[col_one ] \n \nPick of the Litter\n Screens:\n \nFriday\, February 22 – 4:00 pm\nSaturday\, February 23 – 12:00 pm \nUptown Theatre\, 55 Dunlop St. W.\, Barrie \n  \nClick Here to Buy Tickets \n  \nDirected by: Dana Nachman and Don Hardy\nDocumentary\, PG\, 81 min. (USA) \n  \n  \n“A complete delight\, a much-needed balm for the soul.” – Los Angeles Times \n  \n“By far the most joyous time you’ll have at the movies all year.” – San Diego Reader \n  \n  \nPick of the Litter follows a litter of puppies from the moment they’re born and begin their quest to become guide dogs for the blind. Cameras follow these pups through an intense two-year odyssey as they train to become dogs whose ultimate responsibility is to protect their blind partners from harm. Along the way\, these remarkable animals rely on a community of dedicated individuals who train them to do amazing\, life-changing things in the service of their human. The stakes are high and not every dog can make the cut. Only the best of the best. The pick of the litter. With deft storytelling skill\, directors Dana Nachman and Don Hardy (the two previously co-directed the feature docs The Human Experiment\, Witch Hunt\, and Love Hate Love) introduce us to a group of unique canine characters along with their human counterparts. Pick of the Litter is a wonderful reminder of the extraordinary relationships we have with our dogs\, especially those that we work beside each day. \n  \nAwards: 8 Wins\, 4 Nominations\n \nWinner\, Audience Award-Documentary\, Cinequest San Jose Film Festival\, 2018\nWinner\, Award for Excellence in Directing by a Woman (Dana Nachman)\, Cleveland International Film Festival\, 2018\nWinner\, Audience Award-Documentary\, Gasparilla International Film Festival\, 2018\nNominee\, Top 20 Audience Favourites\, Hot Docs Canadian International Documentary Festival\, 2018\nWinner\, Favourite Special Screening\, Napa Valley Film Festival\, 2018\nWinner\, Audience Award-Documentary\, Newport Beach Film Festival\, 2018\nWinner\, Audience Award-Documentary\, Omaha Film Festival\, 2018\nWinner\, Women in Cinema Lena Sharpe Award\, Seattle International Film Festival\, 2018\nWinner\, Audience Award\, Best Feature-Documentary\, Woods Hole Film Festival\, 2018 \n  \n[embed_video video_site=”youtube” video_url=”https://www.youtube.com/watch?v=oW7GVR2c80k” video_width=”640″ video_height=”360″ ] \n  \nSponsored By: \n \n \n[/col_one]
URL:https://barriefilmfestival.netgaindev.com/now-playing/pick-of-the-litter-12pm/
LOCATION:Annual Barrie Film Festival
END:VEVENT
BEGIN:VEVENT
DTSTART;TZID=America/Toronto:20190223T140000
DTEND;TZID=America/Toronto:20190223T154000
DTSTAMP:20260424T210746
CREATED:20190124T211447Z
LAST-MODIFIED:20190124T211447Z
UID:5428-1550930400-1550936400@barriefilmfestival.netgaindev.com
SUMMARY:Free Solo - 2PM
DESCRIPTION:[col_one ] \n \nFree Solo\n  \nThursday\, February 21 – 7:00 pm\nSaturday\, February 23 – 2:00 pm\nUptown Theatre\, 55 Dunlop St. W.\, Barrie \n  \nClick Here to Buy Tickets \n  \nDirectors: Elizabeth Chai Vasarhelyi and Jimmy Chin\nWith: Alex Honnold\, Jimmy Chin and Tommy Caldwell\nDocumentary\, PG for brief strong language\, 100 min. (USA) \n  \n  \n“A breathtaking portrait of a man engaged in arguably the most dangerous sport in the world.” – Louis Proyect\, Counterpunch.org \n  \n“You don’t have to be a fan of rock climbing to love Free Solo.” – Bruce DeMara\, Toronto Star \n  \n“…stunning cinematography in chronicling star rock climber Honnolds’ career and his rise to the peak (so far). What’s thought-provoking is [the] focus not just on the physical but the psyche of those involved…” – Diana Cheng\, Ripple Effects \n  \n“Alex Honnold’s Free Solo climb should be celebrated as one of the great athletic feats of any kind\, ever.” – The New York Times \n  \n  \nFrom award-winning documentary filmmaker Chai Vasarhelyi and world-renowned photographer and mountaineer Jimmy Chin\, the directors of “MERU\,” comes FREE SOLO\, a stunning\, intimate and unflinching portrait of free soloist climber Alex Honnold\, as he prepares to achieve his lifelong dream: climbing the face of the world’s most famous rock … the 3\,200-foot El Capitan in Yosemite National Park … without a rope. FREE SOLO is an edge-of-your seat thriller and an inspiring portrait of an athlete who challenges both his body and his beliefs on a quest to triumph over the impossible\, revealing the personal toll of excellence. As the climber begins his training\, the armor of invincibility he’s built up over decades unexpectedly breaks apart when Honnold begins to fall in love\, threatening his focus and giving way to injury and setbacks. Vasarhelyi and Chin succeed in beautifully capturing deeply human moments with Honnold as well as the death-defying climb with exquisite artistry and masterful\, vertigo-inducing camerawork. The result is a triumph of the human spirit that represents what The New York Times calls “a miraculous opportunity for the rest of us to experience the human sublime.” \n  \nAwards: 14 Wins\, 44 Nominations\nNominated\, Best Documentary Feature\, Academy Awards\, USA\, 2019\nNominated\, Audience Award\, Amsterdam International Documentary Film Festival\, 2018\nNominated\, Best Documentary Feature\, Camden International Film Festival\, 2018\nWinner\, The Unforgettables\, Cinema Eye Honors Awards\, US\, 2019\nWinner\, Critics Choice Documentary/Best Cinematography\, Critics’ Choice Documentary Awards\, 2018\nWinner\, Audience Award\, Mill Valley Film Festival\, 2018\nWinner\, People’s Choice Award\, Documentary\, Toronto International Film Festival\, 2018\nWinner\, Audience Award\, Documentary Feature\, Virginia Film Festival\, 2018 \n  \n[embed_video video_site=”youtube” video_url=”https://www.youtube.com/watch?v=LvOB5MYHjuk” video_width=”640″ video_height=”360″ ] \n  \n \n \n[/col_one]
URL:https://barriefilmfestival.netgaindev.com/now-playing/free-solo-2pm/
LOCATION:Annual Barrie Film Festival
END:VEVENT
BEGIN:VEVENT
DTSTART;TZID=America/Toronto:20190223T141500
DTEND;TZID=America/Toronto:20190223T154200
DTSTAMP:20260424T210746
CREATED:20190126T143649Z
LAST-MODIFIED:20190126T143649Z
UID:5434-1550931300-1550936520@barriefilmfestival.netgaindev.com
SUMMARY:Bathtubs Over Broadway - 2:15PM
DESCRIPTION:[col_one ] \n \nBathtubs Over Broadway\nScreens:\nSaturday\, February 23 – 2:15 pm\nSunday\, February 24 – 8:00 pm – festival closer\n \nUptown Theatre\, 55 Dunlop St. W.\, Barrie \n  \nClick Here to Buy Tickets \n  \nCo-written and directed by: Dava Whisenant\nWith: David Letterman\, Florence Henderson\, Jello Biafra\, Martin Short and Chita Rivera\nComedy/Documentary\, PG for brief language\, 87 minutes (USA) \n  \n  \n“Anyone who loves musical theater owes it to themselves to see “Bathtubs Over Broadway\,” a delightful deep-dive documentary into one man’s obsession with the obscure world of industrial musicals…” – Peter Debruge\, Variety \n  \n“By presenting the gleeful idiosyncrasy of these artists’ flamboyantly poetic renderings of arch-prosaic subjects\, Young and Whisenant confront colossal matters of aesthetic theory with a sly wink.” – Richard Brody\, New Yorker \n  \n  \nWhen he started as a comedy writer for the “Late Show With David Letterman”\, Steve Young had few interests outside of his day job. But while gathering material for a segment on the show\, Steve stumbled onto a few vintage record albums that would change his life forever. Bizarre cast recordings marked “internal use only” revealed full-throated Broadway-style musical shows about some of the most recognizable corporations in America: General Electric\, McDonald’s\, Ford\, DuPont\, Xerox. Steve didn’t know much about musical theater\, but these recordings delighted him in a way that nothing ever had. While tracking down rare albums\, unseen footage\, composers and performers\, Steve forms unlikely friendships and discovers that this discarded musical genre starring tractors and bathtubs was bigger than Broadway. \n  \nAwards: 10 Wins\, 10 Nominations\n \nWinner\, SummerDocs Audience Award\, Hamptons International Film Festival\, 2018\nWinner\, Humour & Humanity Award\, Heartland International Film Festival\, 2018\nWinner\, Audience Award\, Nantucket Film Festival\, 2018\nNominee\, Top 20 Audience Favourites\, Hot Docs Canadian International Documentary Festival\, 2018\nWinner\, Albert Maysles New Documentary Director Award\, Tribeca Film Festival\, 2018\nWinner\, Most Popular International Documentary Film\, Vancouver International Film Festival\, 2018\nWinner\, Exuberance in Documentary Filmmaking\, Traverse City Film Festival\, 2018\nWinner\, Honorable Mention\, Gibson Music Films/Music City Corporation\, Nashville Film Festival\, 2018\nWinner\, Audience Choice Award\, Sidewalk Film Festival\, Birmingham\, Alabama\, 2018\nNominated\, Audience Award/Outstanding Achievement in Graphic Design or Animation\, Cinema Eye Honours Awards\, US\, 2019 \n  \n[embed_video video_site=”youtube” video_url=”https://www.youtube.com/watch?v=QTgS1SXr0nc” video_width=”640″ video_height=”360″ ] \n  \nSponsored By: \n \n \n[/col_one]
URL:https://barriefilmfestival.netgaindev.com/now-playing/bathtubs-over-broadway-215pm/
LOCATION:Annual Barrie Film Festival
END:VEVENT
BEGIN:VEVENT
DTSTART;TZID=America/Toronto:20190223T160000
DTEND;TZID=America/Toronto:20190223T172300
DTSTAMP:20260424T210746
CREATED:20190126T144857Z
LAST-MODIFIED:20190126T144857Z
UID:5441-1550937600-1550942580@barriefilmfestival.netgaindev.com
SUMMARY:The Woman Who Loves Giraffes - 4PM
DESCRIPTION:[col_one ] \n \nThe Woman Who Loves Giraffes\nThe Story of ANNE INNIS DAGG\nScreens: Saturday\, February 23\, 4:00 pm\nUptown Theatre\, 55 Dunlop St. W.\, Barrie \n\nIncludes Q&A with Director Alison Reid and Dr. Anne Innis Dagg\n\n\n\n\n\n\n\nTickets: $10 (includes HST)\nAdvance tickets are available at Uptown Theatre\, located at 55 Dunlop Street West\, Barrie (during theater’s regular box office hours); \nor online by clicking the link below. Service fees apply. \n\n\n\n\n\nClick Here to Buy Tickets \n  \nDirected by: Alison Reid\nWith: Dr. Anne Innis Dagg\, Mary Dagg\, Fred Bercovitch and Lisa Clifton-Bumpass\nDocumentary\, PG\, 83 min. (Canada) \n  \n  \n“Alison Reid deserves high praise for fine storytelling\, combining ecology and social-justice issues while focusing on a woman ahead of her times\, whose ambitions were thwarted by institutional sexism.” – Bruce DeMara\, Toronto Star \n  \n“Reid makes the viewer feel joy and pride for all of Dagg’s groundbreaking successes and sadness and anger at the patriarchal constructs that derailed her professional career for over thirty years.” – Andrew Parker\, The Gate \n  \nIn 1956\, four years before Jane Goodall ventured into the world of chimpanzees and seven years before Dian Fossey left to work with mountain gorillas\, in fact\, before anyone\, man or woman had made such a trip\, 23-year-old Canadian biologist\, Anne Innis Dagg\, made an unprecedented solo journey to South Africa to become the first person in the world to study animal behaviour in the wild on that continent. When she returned home a year later armed with groundbreaking research\, the insurmountable barriers she faced as a female scientist proved much harder to overcome. The Woman Who Loves Giraffes retraces the steps of Anne’s groundbreaking 1956 journey to South Africa to study giraffes in the wild — and discovers a startling contrast between the world of giraffes she once knew and the one it has become. \n  \n[embed_video video_site=”youtube” video_url=”https://www.youtube.com/watch?v=T6_UVfr-HfI” video_width=”640″ video_height=”360″ ] \n  \n\nQ&A with ALISON REID – DIRECTOR/PRODUCER/WRITER \n \nALISON REID is an award-winning director who began her career as a stunt coordinator and second unit director. After accumulating 300 credits\, she formed Free Spirit Films to produce projects diverse in genre but similar in their exploration of the human spirit. Reid received the 2007 Crystal Award for Emerging Director from DGC/WIFT. Her independent feature\, The Baby Formula (2009)\, sold internationally\, won the Audience Award at the Inside Out LGBT Film Festival\, Best LGBT Film at Nashville Film Festival and was nominated for the Golden Zenith at Montreal World Film Festival. Her television directing credits include Saving Hope\, Heartland and Murdoch Mysteries. \n  \n  \n  \nSponsored By: \n \n \n[/col_one]
URL:https://barriefilmfestival.netgaindev.com/now-playing/the-woman-who-loves-giraffes-4pm/
LOCATION:Annual Barrie Film Festival
END:VEVENT
BEGIN:VEVENT
DTSTART;TZID=America/Toronto:20190223T180000
DTEND;TZID=America/Toronto:20190223T193000
DTSTAMP:20260424T210746
CREATED:20190126T155634Z
LAST-MODIFIED:20190126T155634Z
UID:5477-1550944800-1550950200@barriefilmfestival.netgaindev.com
SUMMARY:Muhi - Generally Temporary - 6PM
DESCRIPTION:[col_one ] \n \nMuhi – Generally Temporary\nSaturday\, February 23\, 6:00 pm\nUptown Theatre\, 55 Dunlop St. W.\, Barrie \n  \nClick Here to Buy Tickets \n  \nDirectors: Rina Castelnuovo and Tamir Elterman\nWith: Muhammad El-Farrah\, Hamuda Abu Naim El Farrah and Buma Inbar\nDocumentary\, PG\, 89 min. Language: Hebrew and Arabic with English Subtitles\n(Germany/Israel) \n  \n  \n“With chubby cheeks\, a goofy smile\, and an inquisitive manner\, the film’s namesake brings joy to Muhi.” – Zach Rausnitz\, Washington City Paper \n  \n  \nFor the past seven years Muhi\, a brave and spirited Palestinian boy has been living in an Israeli hospital\, unable to return to his home in Gaza. Caught between two worlds and two peoples\, Muhi is raised in paradoxical circumstances that transcend identity\, religion and the conflict that divides his world. His time at the hospital is running out and Muhi now faces the most critical choices of his life. \n  \nAwards: 1 Win\, 7 Nominations\n \nNominated\, Audience Award\, Amsterdam International Documentary Film Festival\, 2017\nNominated\, Best Documentary\, Awards of the Israeli Film Academy\, 2017\nWinner\, Israeli Competition/Debut Film\, DocAviv Film Festival\, 2017\nNominated\, Best Film\, Hamptons International Film Festival\, 2017\nNominated\, Audience Award/Best Documentary\, Hot Docs Canadian International Documentary Festival\, 2017\nNominated\, Human Rights Competition\, Istanbul International Film Festival\, 2018\nNominated\, Best Documentary Feature\, San Francisco International Film Festival\, 2017 \n  \n[embed_video video_site=”vimeo” video_url=”https://vimeo.com/279004352″ video_width=”640″ video_height=”360″ ] \n  \nSponsored By: \n \n \n[/col_one]
URL:https://barriefilmfestival.netgaindev.com/now-playing/muhi-generally-temporary-6pm/
LOCATION:Annual Barrie Film Festival
END:VEVENT
BEGIN:VEVENT
DTSTART;TZID=America/Toronto:20190223T200000
DTEND;TZID=America/Toronto:20190223T213700
DTSTAMP:20260424T210746
CREATED:20190126T145820Z
LAST-MODIFIED:20190126T145820Z
UID:5443-1550952000-1550957820@barriefilmfestival.netgaindev.com
SUMMARY:Stan & Ollie - 8PM
DESCRIPTION:[col_one ] \n \nStan & Ollie\nScreening:\nSaturday\, February 23\, 8:00 pm\nSunday\, February 24\, 12:00 pm\nUptown Theatre\, 55 Dunlop St. W.\, Barrie \n  \nClick Here to Buy Tickets \n  \nDirector: Jon S. Baird\nCast: Steve Coogan\, John C. Reilly\, Shirley Henderson\, Nina Arianda and Danny Huston\, Rufus Jones\nBiography/Comedy/Drama\, PG for some language/smoking\, 97 min.\n(United Kingdom/Canada/USA) \n  \n\n\n\n\n\n\n\n\n\n“Stan & Ollie has plenty to say about the things that bring us together\, and the things that keep us together.” – Adam Graham\, Detroit News \n  \n\n“A delightful romp with the duo considered by some to be the best comedy team of the 20th century.” – Harvey S. Karten\, Big Apple Reviews \n  \n“Stan & Ollie is a joyous ode to an iconic duo’s final few years that portrays its subjects with the love and attention its audience craves.” – Gus Edgar\, Film Inquiry \n  \nLaurel & Hardy\, one of the world’s great comedy teams\, set out on a variety hall tour of Britain in 1953. Diminished by age and with their golden era as the kings of Hollywood comedy now behind them\, they face an uncertain future. As the charm and beauty of their performances shines through\, they re-connect with their adoring fans. The tour becomes a hit\, but Stan & Ollie can’t quite shake the spectre of Laurel and Hardy’s past; the long-buried ghosts\, coupled with Oliver’s failing health\, start to threaten their precious partnership. A portrait of the most tender and poignant of creative marriages\, they are aware that they may be approaching their swan song\, trying to rediscover just how much they mean to each other. \n  \nAwards: 2 Wins\, 19 Nominations \nNominated\, Golden Globe\, Best Performance of an Actor – Musical or Comedy (John C. Reilly)\, Golden Globes\, USA\, 2019\nNominated\, Best Actor (Steve Coogan)/Best Supporting Actress (Nina Arianda)/Best Casting/Best Costume Design\, British Independent Film\, 2018\nWinner\, BSFC Award\, Best Actor (John C. Reilly)\, Boston Society of Film Critics Awards\, 2018\nWinner\, SDFCS Award\, Best Body of Work (John C. Reilly)\, San Diego Film Critics Society Awards\, 2017 \n  \n[embed_video video_site=”youtube” video_url=”https://www.youtube.com/watch?v=MdcBNrjc3wo” video_width=”640″ video_height=”360″ ] \n  \nSponsored By: \n \n \n  \n[/col_one]
URL:https://barriefilmfestival.netgaindev.com/now-playing/stan-ollie-8pm/
LOCATION:Annual Barrie Film Festival
END:VEVENT
END:VCALENDAR