BEGIN:VCALENDAR
VERSION:2.0
PRODID:-//Barrie Film Festival - ECPv6.7.0//NONSGML v1.0//EN
CALSCALE:GREGORIAN
METHOD:PUBLISH
X-ORIGINAL-URL:https://barriefilmfestival.netgaindev.com
X-WR-CALDESC:Events for Barrie Film Festival
REFRESH-INTERVAL;VALUE=DURATION:PT1H
X-Robots-Tag:noindex
X-PUBLISHED-TTL:PT1H
BEGIN:VTIMEZONE
TZID:America/Toronto
BEGIN:DAYLIGHT
TZOFFSETFROM:-0500
TZOFFSETTO:-0400
TZNAME:EDT
DTSTART:20190310T070000
END:DAYLIGHT
BEGIN:STANDARD
TZOFFSETFROM:-0400
TZOFFSETTO:-0500
TZNAME:EST
DTSTART:20191103T060000
END:STANDARD
END:VTIMEZONE
BEGIN:VEVENT
DTSTART;TZID=America/Toronto:20190417T190000
DTEND;TZID=America/Toronto:20190417T202400
DTSTAMP:20260424T175632
CREATED:20190326T161159Z
LAST-MODIFIED:20190326T161159Z
UID:5613-1555527600-1555532640@barriefilmfestival.netgaindev.com
SUMMARY:You Are Here: A Come From Away Story - 7PM
DESCRIPTION:[fullwidth ] \n[col_one ] \n \nA FREE SCREENING and GUEST Q&A for National Canadian Film Day • April 17\, 2019\nNCFD is a massive one-day\, coast-to-coast-to-coast celebration of Canadian cinema. \n \n\nYou Are Here: A Come From Away Story – includes guest Q&A!\n\nWednesday\, April 17 – 7:00 pm\nUptown Theatre\, 55 Dunlop St. W.\, Barrie\nAdmission: FREE (tickets available at Uptown box office)\nDirected by: Moze Mossanen\nDocumentary\, PG\, 84 minutes (Canada) \n  \nWhat would you do if 6\,600 people unexpectedly landed in your small town with no place to stay? For the 11\,000 people of Gander\, Newfoundland\, this incredible event happened in the wake of the 9/11 attacks\, when nearly 40 planes are rerouted and grounded there. This documentary shows how this town in Newfoundland came together to feed\, shelter and support all of the stranded airline passengers for 6 days. With interviews from a selection of airline passengers and residents of the town\, this emotional and inspirational documentary tells the incredible true story that inspired the smash-hit musical Come From Away. \n\nGuest Q&A with Director Moze Mossanen \n \nMoze Mossanen is a director\, writer and producer who has created a body of popular and critically acclaimed work that have included a unique blend of drama\, documentary\, music and performance. These films “Year of the Lion” (winner of three Gemini Awards and the Jury Prize at the Yorkton Film Festival); “Roxana” (winner of two Golden Sheaf awards\, the CSC Award for Cinematography and two Gemini Awards); and “Nureyev” (winner of the Golden Sheaf Award and two Gemini awards\, including one for Best Direction for Moze). His 2013 doc\, “Unsung”\, a documentary about the world of show choirs\, won the Canadian Screen Award in 2015.  CBC aired his 2018 feature doc\, “My Piece of the City”\, in September 2018.  His most recent feature doc\, “You Are Here”\, about the actual people who inspired the current Broadway hit\, “Come From Away”\, was released on HBO Canada in September 2018.  The film won the Audience Award at CineFest in October 2018 and two CSA Awards including Best Documentary in March 2019. \n[col_one ] \n[embed_video video_site=”youtube” video_url=”https://www.youtube.com/watch?v=KYjtD-SBpFw” video_width=”640″ video_height=”360″ ] \n  \n\n  \n[/col_one] \n 
URL:https://barriefilmfestival.netgaindev.com/now-playing/you-are-here-a-come-from-away-story-7pm/
LOCATION:Annual Barrie Film Festival
END:VEVENT
END:VCALENDAR