BEGIN:VCALENDAR
VERSION:2.0
PRODID:-//Barrie Film Festival - ECPv6.7.0//NONSGML v1.0//EN
CALSCALE:GREGORIAN
METHOD:PUBLISH
X-WR-CALNAME:Barrie Film Festival
X-ORIGINAL-URL:https://barriefilmfestival.netgaindev.com
X-WR-CALDESC:Events for Barrie Film Festival
REFRESH-INTERVAL;VALUE=DURATION:PT1H
X-Robots-Tag:noindex
X-PUBLISHED-TTL:PT1H
BEGIN:VTIMEZONE
TZID:America/Toronto
BEGIN:DAYLIGHT
TZOFFSETFROM:-0500
TZOFFSETTO:-0400
TZNAME:EDT
DTSTART:20190310T070000
END:DAYLIGHT
BEGIN:STANDARD
TZOFFSETFROM:-0400
TZOFFSETTO:-0500
TZNAME:EST
DTSTART:20191103T060000
END:STANDARD
END:VTIMEZONE
BEGIN:VEVENT
DTSTART;TZID=America/Toronto:20190608T210000
DTEND;TZID=America/Toronto:20190608T210000
DTSTAMP:20260424T150041
CREATED:20190601T214716Z
LAST-MODIFIED:20190601T214716Z
UID:5836-1560027600-1560027600@barriefilmfestival.netgaindev.com
SUMMARY:Ghostbusters - Outdoor Screening
DESCRIPTION:[col_one ] \n \nGhostbusters (1984)\nSaturday\, June 8\, 2019 – Updated\nat dusk (approx. 9-9:15pm)\, weather permitting\nCentennial Beach\, Barrie\nAdmission is FREE \nDirected by: Ivan Reitman\nStarring: Bill Murray\, Dan Aykroyd\, Sigourney Weaver\, Harold Ramis\, Rick Moranis\, Annie Potts\, Ernie Hudson\, William Atherton\, David Margulies\nAction/Comedy/Fantasy\, Rated PG for scary scenes\, mild language and suggestive content\, 105 min. (USA) \n  \nWhen Doctors Venkman (Bill Murray)\, Stantz (Dan Aykroyd) and Spengler (Harold Ramis) suddenly find themselves downsized from the University’s parapsychology department\, they decide to go the entrepreneurial route\, chasing down ghastly ghosts\, unappetizing apparitions and the occasional insolent succubae. But the paratroopers of the paranormal face their greatest challenge when the beautiful Dana Barret (Sigourney Weaver) discovers her refrigerator door leads directly to the gates of hell! Now with the whole world watching\, it’s up to the Ghostbusters to keep Manhattan from becoming a madhouse in this hilariously-haunting action-comedy. \n  \n[embed_video video_site=”youtube” video_url=”https://www.youtube.com/watch?v=vntAEVjPBzQ” video_width=”640″ video_height=”360″ ] \n  \nPresented by The City of Barrie in partnership with the Barrie Film Festival. \n     \n[/col_one]
URL:https://barriefilmfestival.netgaindev.com/now-playing/ghostbusters-outdoor-screening-2/
LOCATION:Programs
END:VEVENT
END:VCALENDAR