BEGIN:VCALENDAR
VERSION:2.0
PRODID:-//Barrie Film Festival - ECPv6.7.0//NONSGML v1.0//EN
CALSCALE:GREGORIAN
METHOD:PUBLISH
X-WR-CALNAME:Barrie Film Festival
X-ORIGINAL-URL:https://barriefilmfestival.netgaindev.com
X-WR-CALDESC:Events for Barrie Film Festival
REFRESH-INTERVAL;VALUE=DURATION:PT1H
X-Robots-Tag:noindex
X-PUBLISHED-TTL:PT1H
BEGIN:VTIMEZONE
TZID:America/Toronto
BEGIN:DAYLIGHT
TZOFFSETFROM:-0500
TZOFFSETTO:-0400
TZNAME:EDT
DTSTART:20190310T070000
END:DAYLIGHT
BEGIN:STANDARD
TZOFFSETFROM:-0400
TZOFFSETTO:-0500
TZNAME:EST
DTSTART:20191103T060000
END:STANDARD
END:VTIMEZONE
BEGIN:VEVENT
DTSTART;TZID=America/Toronto:20190710T210000
DTEND;TZID=America/Toronto:20190710T210000
DTSTAMP:20260424T145451
CREATED:20190624T184907Z
LAST-MODIFIED:20190624T184907Z
UID:5883-1562792400-1562792400@barriefilmfestival.netgaindev.com
SUMMARY:Mary Poppins Returns - Outdoor Screening
DESCRIPTION:[col_one ] \nMary Poppins Returns\n\nJuly 10\, 2019\nMeridian Place\, Downtown Barrie\nAdmission: Free\nStarts at dusk\, weather permitting (rain date July 11)\nDirected by: Rob Marshall\nCast: Emily Blunt\, Lin-Manuel Miranda\, Ben Whishaw\, Emily Mortimer\, Pixie Davies\, Nathanael Saleh\, Joel Dawson\, Julie Walters\, Meryl Streep\, Colin Firth\, Dick Van Dyke\nFamily/Fantasy/Musical\, 2018\, 130 min.\, G (USA/UK) \n  \nSynopsis\nThe magic continues in Disney’s classic as Mary Poppins (Emily Blunt) helps the Banks family remember the joy of being a child. Together with her friend Jack the lamplighter (Lin-Manuel Miranda)\, fun is brought back to the streets of London in celebration that everything is possible…even the impossible. \n  \nSponsored by the Downtown Barrie Business Association \n        \n  \n[embed_video video_site=”youtube” video_url=”https://www.youtube.com/watch?v=-3jsfXDZLIY” video_width=”640″ video_height=”360″ ] \n  \n[/col_one]
URL:https://barriefilmfestival.netgaindev.com/now-playing/mary-poppins-returns-outdoor-screening/
LOCATION:Meridian Place\, 30 Simcoe Street\, Barrie\, ON\, L4M 1A7\, Canada
END:VEVENT
END:VCALENDAR