BEGIN:VCALENDAR
VERSION:2.0
PRODID:-//Barrie Film Festival - ECPv6.7.0//NONSGML v1.0//EN
CALSCALE:GREGORIAN
METHOD:PUBLISH
X-WR-CALNAME:Barrie Film Festival
X-ORIGINAL-URL:https://barriefilmfestival.netgaindev.com
X-WR-CALDESC:Events for Barrie Film Festival
REFRESH-INTERVAL;VALUE=DURATION:PT1H
X-Robots-Tag:noindex
X-PUBLISHED-TTL:PT1H
BEGIN:VTIMEZONE
TZID:America/Toronto
BEGIN:DAYLIGHT
TZOFFSETFROM:-0500
TZOFFSETTO:-0400
TZNAME:EDT
DTSTART:20190310T070000
END:DAYLIGHT
BEGIN:STANDARD
TZOFFSETFROM:-0400
TZOFFSETTO:-0500
TZNAME:EST
DTSTART:20191103T060000
END:STANDARD
END:VTIMEZONE
BEGIN:VEVENT
DTSTART;TZID=America/Toronto:20190724T210000
DTEND;TZID=America/Toronto:20190724T210000
DTSTAMP:20260424T132911
CREATED:20190624T192059Z
LAST-MODIFIED:20190624T192059Z
UID:5896-1564002000-1564002000@barriefilmfestival.netgaindev.com
SUMMARY:Home Alone - Outdoor Screening
DESCRIPTION:[col_one ] \nHome Alone\n \nJuly 24\, 2019 – Join us for ‘Christmas in July’!\nMeridian Place\, Downtown Barrie\nAdmission: Free\nStarts at dusk\, weather permitting (rain date July 25)\nDirected by: Chris Columbus\nCast: Catherine O’Hara\, Daniel Stern\, Joe Pesci\, John Heard\, Macaulay Culkin\nComedy/Family\, 1990\, 101 min.\, PG (USA) \n  \nSynopsis\n8-year-old Kevin McAllister is accidentally left behind when his family takes off for a vacation in France over the holiday season. Once he realizes they’ve left him home by himself\, Kevin learns to fend for himself\, and eventually has to protect his house against bumbling burglars Harry and Marv\, who are planning to rob every house in Kevin’s suburban Chicago neighborhood. Kevin’s mother Kate is frantic when she realizes that she and the family have unintentionally left Kevin behind in Chicago\, and she tries to make it back to Chicago as fast as she can\, getting help from a polka band leader named Gus Polinski. \n  \nAwards: Winner of 10 Awards\, 6 Nominations! \n  \nSponsored by the Downtown Barrie Business Association \n        \n[/col_one]
URL:https://barriefilmfestival.netgaindev.com/now-playing/home-alone-outdoor-movies/
LOCATION:Meridian Place\, 30 Simcoe Street\, Barrie\, ON\, L4M 1A7\, Canada
END:VEVENT
END:VCALENDAR