BEGIN:VCALENDAR
VERSION:2.0
PRODID:-//Barrie Film Festival - ECPv6.7.0//NONSGML v1.0//EN
CALSCALE:GREGORIAN
METHOD:PUBLISH
X-WR-CALNAME:Barrie Film Festival
X-ORIGINAL-URL:https://barriefilmfestival.netgaindev.com
X-WR-CALDESC:Events for Barrie Film Festival
REFRESH-INTERVAL;VALUE=DURATION:PT1H
X-Robots-Tag:noindex
X-PUBLISHED-TTL:PT1H
BEGIN:VTIMEZONE
TZID:America/Toronto
BEGIN:DAYLIGHT
TZOFFSETFROM:-0500
TZOFFSETTO:-0400
TZNAME:EDT
DTSTART:20190310T070000
END:DAYLIGHT
BEGIN:STANDARD
TZOFFSETFROM:-0400
TZOFFSETTO:-0500
TZNAME:EST
DTSTART:20191103T060000
END:STANDARD
END:VTIMEZONE
BEGIN:VEVENT
DTSTART;TZID=America/Toronto:20190808T160000
DTEND;TZID=America/Toronto:20190808T180200
DTSTAMP:20260424T115731
CREATED:20190705T155414Z
LAST-MODIFIED:20190705T155414Z
UID:5963-1565280000-1565287320@barriefilmfestival.netgaindev.com
SUMMARY:The Public - 4PM
DESCRIPTION:[col_one_third ] \n[col_one_third ] \n \n[/col_one_third] \n[col_two_thirds ] \nThe Public\nScreening:\nWednesday\, August 7 – 4pm\, 7pm\nThursday\, August 8 – 4pm\, 7pm\nLocation: Uptown Theatre\, 55 Dunlop St. W.\, Barrie \n  \n[btnsx id=”5954″] \n  \nWritten and Directed by: Emilio Estevez\nCast: Alec Baldwin\, Emilio Estevez\, Jeffrey Wright\, Jena Malone\, Taylor Schilling\, Christian Slater\, Gabrielle Union\, Michael K Williams\, Che “Rhymefest” Smith\, Jacob Vargas\nDrama\, 14A not recommended for young children\, offensive language\, nudity\, 122 min. (USA) \n[/col_two_thirds] \n[col_one ] \n  \n“The gentle humour and simple humanity of Estevez’s script helps the audience digest the messages within “The Public\,” to engender sympathy for our nation’s homeless and sing the praises of libraries.” – Sean P. Means\, Salt Lake Tribune \n“It’s smart work and edifying\, with Estevez finding an original topic to explore with compassion and engrossing drama.” – Brian Orndorf\, Blu-ray.com \n“Estevez does an elegant job with this setup\, creating a low-key\, uncondescending portrait of lives on the edge.” – Ben Kenigsberg\, New York Times \n  \n\nIn “The Public” an unusually bitter Arctic blast has made its way to downtown Cincinnati and the front doors of the public library where the action of the film takes place. At odds with library officials over how to handle the extreme weather event\, some homeless patrons turn the building into a shelter for the night by staging an “Occupy” sit in. What begins as an act of civil disobedience becomes a standoff with police and a rush-to-judgment media constantly speculating about what’s really happening. This David versus Goliath story tackles some of our nation’s most challenging issues\, homelessness and mental illness and sets the drama inside one of the last bastions of democracy-in-action: your public library. \n  \nAwards: 4 wins\, 1 nomination\nNominated\, Local Heroes Competition\, Cleveland International Film Festival\, 2019 \n\n  \n[embed_video video_site=”youtube” video_url=”https://www.youtube.com/watch?v=LaafvRKrq6w” video_width=”640″ video_height=”360″ ] \n\n\n  \n\n \n  \n[/col_one]
URL:https://barriefilmfestival.netgaindev.com/now-playing/the-public-4pm-2/
LOCATION:Annual Barrie Film Festival
END:VEVENT
BEGIN:VEVENT
DTSTART;TZID=America/Toronto:20190808T190000
DTEND;TZID=America/Toronto:20190808T210200
DTSTAMP:20260424T115731
CREATED:20190705T155528Z
LAST-MODIFIED:20190705T155528Z
UID:5965-1565290800-1565298120@barriefilmfestival.netgaindev.com
SUMMARY:The Public - 7PM
DESCRIPTION:[col_one_third ] \n[col_one_third ] \n \n[/col_one_third] \n[col_two_thirds ] \nThe Public\nScreening:\nWednesday\, August 7 – 4pm\, 7pm\nThursday\, August 8 – 4pm\, 7pm\nLocation: Uptown Theatre\, 55 Dunlop St. W.\, Barrie \n  \n[btnsx id=”5954″] \n  \nWritten and Directed by: Emilio Estevez\nCast: Alec Baldwin\, Emilio Estevez\, Jeffrey Wright\, Jena Malone\, Taylor Schilling\, Christian Slater\, Gabrielle Union\, Michael K Williams\, Che “Rhymefest” Smith\, Jacob Vargas\nDrama\, 14A not recommended for young children\, offensive language\, nudity\, 122 min. (USA) \n[/col_two_thirds] \n[col_one ] \nJoin us for a post-screening Q&A with members of the Barrie Public Library after the 7PM screenings!\n  \n“The gentle humour and simple humanity of Estevez’s script helps the audience digest the messages within “The Public\,” to engender sympathy for our nation’s homeless and sing the praises of libraries.” – Sean P. Means\, Salt Lake Tribune \n“It’s smart work and edifying\, with Estevez finding an original topic to explore with compassion and engrossing drama.” – Brian Orndorf\, Blu-ray.com \n“Estevez does an elegant job with this setup\, creating a low-key\, uncondescending portrait of lives on the edge.” – Ben Kenigsberg\, New York Times \n  \n\nIn “The Public” an unusually bitter Arctic blast has made its way to downtown Cincinnati and the front doors of the public library where the action of the film takes place. At odds with library officials over how to handle the extreme weather event\, some homeless patrons turn the building into a shelter for the night by staging an “Occupy” sit in. What begins as an act of civil disobedience becomes a standoff with police and a rush-to-judgment media constantly speculating about what’s really happening. This David versus Goliath story tackles some of our nation’s most challenging issues\, homelessness and mental illness and sets the drama inside one of the last bastions of democracy-in-action: your public library. \n  \nAwards: 4 wins\, 1 nomination\nNominated\, Local Heroes Competition\, Cleveland International Film Festival\, 2019 \n\n  \n[embed_video video_site=”youtube” video_url=”https://www.youtube.com/watch?v=LaafvRKrq6w” video_width=”640″ video_height=”360″ ] \n\n\n  \n\n \n  \n[/col_one]
URL:https://barriefilmfestival.netgaindev.com/now-playing/the-public-7pm-2/
LOCATION:Annual Barrie Film Festival
END:VEVENT
END:VCALENDAR