BEGIN:VCALENDAR
VERSION:2.0
PRODID:-//Barrie Film Festival - ECPv6.7.0//NONSGML v1.0//EN
CALSCALE:GREGORIAN
METHOD:PUBLISH
X-WR-CALNAME:Barrie Film Festival
X-ORIGINAL-URL:https://barriefilmfestival.netgaindev.com
X-WR-CALDESC:Events for Barrie Film Festival
REFRESH-INTERVAL;VALUE=DURATION:PT1H
X-Robots-Tag:noindex
X-PUBLISHED-TTL:PT1H
BEGIN:VTIMEZONE
TZID:America/Toronto
BEGIN:DAYLIGHT
TZOFFSETFROM:-0500
TZOFFSETTO:-0400
TZNAME:EDT
DTSTART:20190310T070000
END:DAYLIGHT
BEGIN:STANDARD
TZOFFSETFROM:-0400
TZOFFSETTO:-0500
TZNAME:EST
DTSTART:20191103T060000
END:STANDARD
END:VTIMEZONE
BEGIN:VEVENT
DTSTART;TZID=America/Toronto:20190814T203000
DTEND;TZID=America/Toronto:20190814T203000
DTSTAMP:20260424T115730
CREATED:20190628T190629Z
LAST-MODIFIED:20190628T190629Z
UID:5926-1565814600-1565814600@barriefilmfestival.netgaindev.com
SUMMARY:Bumblebee - Outdoor Screening
DESCRIPTION:[col_one ] \n\nAugust 14\, 2019\nMeridian Place\, Downtown Barrie\nAdmission: Free\nStarts at dusk (approx. 8:55/9:05pm)\, weather permitting (rain date August 15)\nDirected by: Travis Knight\nCast: Hailee Steinfeld\, Pamela Adlon\, John Cena\, Megyn Price\, Marcella Bragio\, Peter Cullen\, Vanessa Ross\nAction/Adventure/Sci-Fi\, 2018\, 114 min.\, PG (USA) \n  \nSynopsis \nOn the run in the year 1987\, Bumblebee finds refuge in a junkyard in a small Californian beach town. Charlie (Hailee Steinfeld)\, on the cusp of turning 18 and trying to find her place in the world\, discovers Bumblebee\, battle-scarred and broken. When Charlie revives him\, she quickly learns this is no ordinary\, yellow VW bug. \n  \nAwards: 9 Nominations including Best Action Movie\, Actor (John Cena) and Actress (Hailey Steinfeld)\, Teen Choice Awards\, 2019 \n  \n[embed_video video_site=”youtube” video_url=”https://www.youtube.com/watch?v=lcwmDAYt22k” video_width=”640″ video_height=”360″ ] \n  \nPresenting Sponsor: \n \n\n  \nLawn Chair Luminata is a project of the Downtown Barrie Business Association \n        \n[/col_one]
URL:https://barriefilmfestival.netgaindev.com/now-playing/bumblebee-outdoor-screening/
LOCATION:Meridian Place\, 30 Simcoe Street\, Barrie\, ON\, L4M 1A7\, Canada
END:VEVENT
END:VCALENDAR