BEGIN:VCALENDAR
VERSION:2.0
PRODID:-//Barrie Film Festival - ECPv6.7.0//NONSGML v1.0//EN
CALSCALE:GREGORIAN
METHOD:PUBLISH
X-ORIGINAL-URL:https://barriefilmfestival.netgaindev.com
X-WR-CALDESC:Events for Barrie Film Festival
REFRESH-INTERVAL;VALUE=DURATION:PT1H
X-Robots-Tag:noindex
X-PUBLISHED-TTL:PT1H
BEGIN:VTIMEZONE
TZID:America/Toronto
BEGIN:DAYLIGHT
TZOFFSETFROM:-0500
TZOFFSETTO:-0400
TZNAME:EDT
DTSTART:20190310T070000
END:DAYLIGHT
BEGIN:STANDARD
TZOFFSETFROM:-0400
TZOFFSETTO:-0500
TZNAME:EST
DTSTART:20191103T060000
END:STANDARD
END:VTIMEZONE
BEGIN:VEVENT
DTSTART;TZID=America/Toronto:20190821T180000
DTEND;TZID=America/Toronto:20190821T224500
DTSTAMP:20260424T115726
CREATED:20190628T191526Z
LAST-MODIFIED:20190628T191526Z
UID:5930-1566410400-1566427500@barriefilmfestival.netgaindev.com
SUMMARY:How To Train Your Dragon: The Hidden World - Outdoor Screening
DESCRIPTION:[col_one ] \n\nAugust 21\, 2019\nMeridian Place\, Downtown Barrie\nAdmission: Free\nMovie starts at dusk (approx. 8:30/8:45pm)\, weather permitting (rain date August 22)\nDirected by: Dean DeBlois\nCast: Jay Baruchel\, America Ferrera\, Cate Blanchett\, Gerard Butler\, Jonah Hill\, Kristen Wiig\nAnimation/Action/Adventure\, 2019\, 104 min.\, PG (USA) \n  \nArrive early as the Barrie Fire & Emergency Service will join us with various family activities and their fire trucks! They’ll be onsite by 5:30pm with a bouncy castle\, fire trucks and fire safety fun!\n\n  \nSynopsis \nHiccup (Jay Baruchel) and Toothless finally discover their true destinies: the village chief as ruler of Berk alongside Astrid\, and the dragon as leader of his own kind.  As both ascend\, the darkest threat they’ve yet faced—as well as the appearance of a female Night Fury dragon—will test the bonds of their relationship like never before. \n  \nAwards: 3 Nominations including Best Animation/Best Original Score\, Golden Trailer Awards\, 2019 \n  \n[embed_video video_site=”youtube” video_url=”https://www.youtube.com/watch?v=SkcucKDrbOI” video_width=”640″ video_height=”360″ ] \n  \n\n  \nSponsored by: \nThe Barrie Fire & Emergency Service and Barrie Firefighter Community Projects\n\n      \n[/col_one]
URL:https://barriefilmfestival.netgaindev.com/now-playing/how-to-train-your-dragon-3/
LOCATION:Meridian Place\, 30 Simcoe Street\, Barrie\, ON\, L4M 1A7\, Canada
END:VEVENT
END:VCALENDAR