BEGIN:VCALENDAR
VERSION:2.0
PRODID:-//Barrie Film Festival - ECPv6.7.0//NONSGML v1.0//EN
CALSCALE:GREGORIAN
METHOD:PUBLISH
X-WR-CALNAME:Barrie Film Festival
X-ORIGINAL-URL:https://barriefilmfestival.netgaindev.com
X-WR-CALDESC:Events for Barrie Film Festival
REFRESH-INTERVAL;VALUE=DURATION:PT1H
X-Robots-Tag:noindex
X-PUBLISHED-TTL:PT1H
BEGIN:VTIMEZONE
TZID:America/Toronto
BEGIN:DAYLIGHT
TZOFFSETFROM:-0500
TZOFFSETTO:-0400
TZNAME:EDT
DTSTART:20190310T070000
END:DAYLIGHT
BEGIN:STANDARD
TZOFFSETFROM:-0400
TZOFFSETTO:-0500
TZNAME:EST
DTSTART:20191103T060000
END:STANDARD
END:VTIMEZONE
BEGIN:VEVENT
DTSTART;TZID=America/Toronto:20191003T160000
DTEND;TZID=America/Toronto:20191003T175000
DTSTAMP:20260424T082644
CREATED:20190908T222437Z
LAST-MODIFIED:20190908T222437Z
UID:14890-1570118400-1570125000@barriefilmfestival.netgaindev.com
SUMMARY:The Invisibles - 4PM
DESCRIPTION:[col_one ] \n[/col_one] \n[col_one_third ] \n[col_one_third ] \n \n[/col_one_third] \n[col_two_thirds ] \nThe Invisibles\nScreening:\nWednesday\, October 2\, 2019 – 4pm\, 7pm\nThursday\, October 3\, 2019 – 4pm\, 7pm\nLocation: Uptown Theatre\, 55 Dunlop St. W.\, Barrie \n  \n[btnsx id=”6093″] \n  \nCo-written and Directed by: Claus Räfle\nCast: Max Mauff\, Alice Dwyer\, Ruby O. Fee\, Aaron Altaras\, Florian Lukas\, Andreas Schmidt\, Robert Hunger-Bühler\, Lucas Reiber\, Sergej Moya\nDrama/Biography/History\, PG for mature content\, 110 minutes\,\nLanguage: German with English subtitles (Germany) \n[/col_two_thirds] \n[col_one ] \n  \n“The Invisibles\, about humans as living ghosts\, needs to be seen\, and believed.” – Brad Wheeler\, Globe and Mail \n“A film like The Invisibles is part of bearing ‘precise witness.’ We clearly need reminders\, and constant ones\, of the end result of ‘otherizing’ an entire group of people.” – Sheila O’Malley\, RogerEbert.com \n  \n  \n\nWhile Goebbels infamously declared Berlin “free of Jews” in 1943\, 1\,700 managed to survive in the Nazi capital. Claus Räfle’s gripping docudrama traces the stories of four real-life survivors who learned to hide in plain sight. \nMoving between cinemas\, cafés and safe houses\, they dodged Nazi officials and a dense network of spies and informants. Yet their prudence was at odds with their youthful recklessness\, prompting them to join the resistance\, forge passports\, or pose as Aryan war widows. Masterfully weaving these story threads together\, THE INVISIBLES is a testament to the resourcefulness\, willpower and sheer chance needed to survive against incredible odds. \n  \nAwards: \nNominated\, Best Feature\, Hamburg Film Festival\, 2017\nNominated\, Audience Award\, World Cinema\, Mill Valley Film Festival\, 2017\nWinner\, Audience Award\, Best Narrative Feature\, Philadelphia Jewish Film Festival\, 2018 \n\n  \n[embed_video video_site=”vimeo” video_url=”https://vimeo.com/318803559″ video_width=”640″ video_height=”360″ ] \n\n\n  \n\n \n\n  \nFilm tickets: $10 for Adults\, $8 for Seniors/Students \nAdvance tickets are available online and at the Uptown Theatre box office two weeks before screening (in the evenings an hour before their first screening). HST is included in the ticket price. \n[/col_one]
URL:https://barriefilmfestival.netgaindev.com/now-playing/the-invisibles-4pm-2/
LOCATION:Annual Barrie Film Festival
END:VEVENT
BEGIN:VEVENT
DTSTART;TZID=America/Toronto:20191003T190000
DTEND;TZID=America/Toronto:20191003T205000
DTSTAMP:20260424T082644
CREATED:20190908T222540Z
LAST-MODIFIED:20190908T222540Z
UID:14891-1570129200-1570135800@barriefilmfestival.netgaindev.com
SUMMARY:The Invisibles - 7PM
DESCRIPTION:[col_one ] \n[/col_one] \n[col_one_third ] \n[col_one_third ] \n \n[/col_one_third] \n[col_two_thirds ] \nThe Invisibles\nScreening:\nWednesday\, October 2\, 2019 – 4pm\, 7pm\nThursday\, October 3\, 2019 – 4pm\, 7pm\nLocation: Uptown Theatre\, 55 Dunlop St. W.\, Barrie \n  \n[btnsx id=”6093″] \n  \nCo-written and Directed by: Claus Räfle\nCast: Max Mauff\, Alice Dwyer\, Ruby O. Fee\, Aaron Altaras\, Florian Lukas\, Andreas Schmidt\, Robert Hunger-Bühler\, Lucas Reiber\, Sergej Moya\nDrama/Biography/History\, PG for mature content\, 110 minutes\,\nLanguage: German with English subtitles (Germany) \n[/col_two_thirds] \n[col_one ] \n  \n“The Invisibles\, about humans as living ghosts\, needs to be seen\, and believed.” – Brad Wheeler\, Globe and Mail \n“A film like The Invisibles is part of bearing ‘precise witness.’ We clearly need reminders\, and constant ones\, of the end result of ‘otherizing’ an entire group of people.” – Sheila O’Malley\, RogerEbert.com \n  \n  \n\nWhile Goebbels infamously declared Berlin “free of Jews” in 1943\, 1\,700 managed to survive in the Nazi capital. Claus Räfle’s gripping docudrama traces the stories of four real-life survivors who learned to hide in plain sight. \nMoving between cinemas\, cafés and safe houses\, they dodged Nazi officials and a dense network of spies and informants. Yet their prudence was at odds with their youthful recklessness\, prompting them to join the resistance\, forge passports\, or pose as Aryan war widows. Masterfully weaving these story threads together\, THE INVISIBLES is a testament to the resourcefulness\, willpower and sheer chance needed to survive against incredible odds. \n  \nAwards: \nNominated\, Best Feature\, Hamburg Film Festival\, 2017\nNominated\, Audience Award\, World Cinema\, Mill Valley Film Festival\, 2017\nWinner\, Audience Award\, Best Narrative Feature\, Philadelphia Jewish Film Festival\, 2018 \n\n  \n[embed_video video_site=”vimeo” video_url=”https://vimeo.com/318803559″ video_width=”640″ video_height=”360″ ] \n\n\n  \n\n \n\n  \nFilm tickets: $10 for Adults\, $8 for Seniors/Students \nAdvance tickets are available online and at the Uptown Theatre box office two weeks before screening (in the evenings an hour before their first screening). HST is included in the ticket price. \n[/col_one]
URL:https://barriefilmfestival.netgaindev.com/now-playing/the-invisibles-7pm-2/
LOCATION:Annual Barrie Film Festival
END:VEVENT
END:VCALENDAR