BEGIN:VCALENDAR
VERSION:2.0
PRODID:-//Barrie Film Festival - ECPv6.7.0//NONSGML v1.0//EN
CALSCALE:GREGORIAN
METHOD:PUBLISH
X-ORIGINAL-URL:https://barriefilmfestival.netgaindev.com
X-WR-CALDESC:Events for Barrie Film Festival
REFRESH-INTERVAL;VALUE=DURATION:PT1H
X-Robots-Tag:noindex
X-PUBLISHED-TTL:PT1H
BEGIN:VTIMEZONE
TZID:America/Toronto
BEGIN:DAYLIGHT
TZOFFSETFROM:-0500
TZOFFSETTO:-0400
TZNAME:EDT
DTSTART:20190310T070000
END:DAYLIGHT
BEGIN:STANDARD
TZOFFSETFROM:-0400
TZOFFSETTO:-0500
TZNAME:EST
DTSTART:20191103T060000
END:STANDARD
END:VTIMEZONE
BEGIN:VEVENT
DTSTART;TZID=America/Toronto:20191021T160000
DTEND;TZID=America/Toronto:20191021T180000
DTSTAMP:20260424T081859
CREATED:20191013T011914Z
LAST-MODIFIED:20191013T011914Z
UID:14914-1571673600-1571680800@barriefilmfestival.netgaindev.com
SUMMARY:Toni Morrison: The Pieces I Am - 4:00pm
DESCRIPTION:[fullwidth ] \n[col_one ] \n \nToni Morrison: The Pieces I Am \nDirected by: Timothy Greenfield-Sanders\nWith: Toni Morrison\, Oprah Winfrey\, Angela Davis\, Russell Banks and Fran Lebowitz\nDocumentary | PG for some disturbing images/thematic material and language | 120 min. | USA \n  \nClick Here to Buy Tickets \nSCREENING:\nMonday\, October 21 – 4:00 pm\nSunday\, October 27 – 3:30 pm \n\n  \n“This rousing documentary celebrates the acts of writing and reading\, and of language itself as an immortal expression of innate humanness.” – Ken Eisner\, Georgia Straight \n“Toni Morrison was a treasure\, and “The Pieces I Am” paints a luminous portrait of this cherished writer.” – Adam Lubitow\, Advocate (Baton Rouge\, LA) \n  \nToni Morrison: The Pieces I Am offers an artful and intimate meditation on the life and works of the legendary storyteller and Nobel prizewinner. From her childhood in the steel town of Lorain\, Ohio to ‘70s-era book tours with Muhammad Ali\, from the front lines with Angela Davis to her own riverfront writing room\, Toni Morrison leads an assembly of her peers\, critics and colleagues on an exploration of race\, America\, history and the human condition as seen through the prism of her own literature. Inspired to write because no one took a “little black girl” seriously\, Morrison reflects on her lifelong deconstruction of the master narrative. Woven together with a rich collection of art\, history\, literature and personality\, the film includes discussions about her many critically acclaimed works\, including novels “The Bluest Eye\,” “Sula” and “Song of Solomon\,” her role as an editor of iconic African-American literature and her time teaching at Princeton University. \n  \n3 WINS\, 1 NOMINATION: \nWON – Audience Award-U.S. Documentary\, Cinetopia Film Festival\, 2019\nWON – Local Heroes Competition\, Cleveland International Film Festival\, 2019\nWON – Audience Award-Best Documentary Feature\, Wisconsin Film Festival\, 2019\nNOMINATED – Best Documentary\, Miami Film Festival\, 2019 \n  \n[embed_video video_site=”youtube” video_url=”https://www.youtube.com/watch?v=-LzCF6djpz4″ video_width=”640″ video_height=”360″ ] \n[/col_one] \n[/fullwidth]
URL:https://barriefilmfestival.netgaindev.com/now-playing/toni-morrison-the-pieces-i-am-400pm/
LOCATION:Annual Barrie Film Festival
END:VEVENT
BEGIN:VEVENT
DTSTART;TZID=America/Toronto:20191021T163000
DTEND;TZID=America/Toronto:20191021T180200
DTSTAMP:20260424T081859
CREATED:20191012T231946Z
LAST-MODIFIED:20191012T231946Z
UID:14897-1571675400-1571680920@barriefilmfestival.netgaindev.com
SUMMARY:The Biggest Little Farm - 4:30pm
DESCRIPTION:[fullwidth ] \n[col_one ] \n• Environment Series\n \nThe Biggest Little Farm\nDirector: John Chester\nDocumentary | PG for mild thematic elements | 92 min. | USA \nClick Here to Buy Tickets \nSCREENING:\nSaturday\, October 19 – 1:00 pm\nMonday\, October 21 – 4:30 pm \n  \n“Very warm. A family film in the best sense of the words.” – Charles Solomon\, FILMWEEK \n“In its modest way\, “The Biggest Little Farm” offers hope\, and even suggests a way forward.” – G. Allen Johnson\, SAN FRANCISCO CHRONICLE \n  \nThe Biggest Little Farm chronicles the eight-year quest of John and Molly Chester as they trade city living for 200 acres of barren farmland and a dream to harvest in harmony with nature. Through dogged perseverance and embracing the opportunity provided by nature’s conflicts\, the Chesters unlock and uncover a bio diverse design for living that exists far beyond their farm\, its seasons\, and our wildest imagination. Featuring breathtaking cinematography\, captivating animals\, and an urgent message to heed Mother Nature’s call\, The Biggest Little Farm provides us all a vital blueprint for better living and a healthier planet. \n  \n11 WINS\, 8 NOMINATIONS: \nNOMINATED – People’s Choice Award\, Documentary\, Toronto International Film Festival\, 2018\nWON – Audience Award for Best Documentary\, Sarasota Film Festival\, 2019\nWON – Director’s Choice Award for Best Documentary\, Sedona International Film Festival\, 2019\nWON – Best Feature Documentary & Feature Length Film\, Boulder International Film Festival\, 2019\nWON – Best Documentary\, Film Club’s The Lost Weekend\, 2019\nWON – Truly Moving Picture Award\, Heartland Film\, 2019\nWON – Audience Award\, Culinary Film\, Newport Beach Film Festival\, 2019\nWON – Audience Award/American Independents\, AFI Fest\, 2018\nNOMINATED – Best Documentary\, Denver International Film Festival\, 2018 \n  \n \n[embed_video video_site=”youtube” video_url=”https://www.youtube.com/watch?v=AATFRccoj-0″ video_width=”640″ video_height=”360″ ] \n[/col_one] \n[/fullwidth]
URL:https://barriefilmfestival.netgaindev.com/now-playing/the-biggest-little-farm-430-pm/
LOCATION:Annual Barrie Film Festival
END:VEVENT
BEGIN:VEVENT
DTSTART;TZID=America/Toronto:20191021T193000
DTEND;TZID=America/Toronto:20191021T210800
DTSTAMP:20260424T081859
CREATED:20191013T013124Z
LAST-MODIFIED:20191013T013124Z
UID:14916-1571686200-1571692080@barriefilmfestival.netgaindev.com
SUMMARY:Before You Know It - 7:30pm
DESCRIPTION:[fullwidth ] \n[col_one ] \n \nBefore You Know It\nCo-written and Directed by: Hannah Pearl Utt\nCast: Hannah Pearl Utt\, Jen Tullock\, Judith Light\, Mike Colter\, Alec Baldwin\, Mandy Patinkin\nComedy/Drama | PG for language | 98 min. | USA \nClick Here to Buy Tickets \nSCREENING:\nMonday\, October 21 – 7:30 pm\nSunday\, October 27 – 8:15 pm \n\n  \n“A noteworthy work from an upcoming dynamic duo\, co-writers Hannah Pearl Utt and Jen Tullock\, who have a chemistry that you want to see in more films\, especially if they’re like Before You Know It.” – Nick Allen\, RogerEbert.com \n  \n“Before You Know It shifts seamlessly from quirky to sad to mysterious to wacky to surreal within just the space of a few days\, so much so that you’d never know it’s director Hannah Pearl Utt’s feature filmmaking debut.” – Christy Lemire\, RogerEbert.com \n  \n“The story is one of insecurity\, veracity\, and vulnerability\, a little movie with a natural sincerity that you won’t find in huge studio films.” – Louisa Moore\, Screen Zealots \n  \nStage manager Rachel Gurner still lives in her childhood apartment—along with her off-kilter actress sister\, Jackie; eccentric playwright father Mel; and deadpan preteen niece Dodge—above the tiny theatre they own and operate. Level-headed and turtleneck-wearing Rachel is the only thing standing between her family and utter chaos. Then\, in the wake of a sudden family tragedy\, Rachel and Jackie learn their presumed-deceased mother is actually alive and thriving as a soap-opera star. Now the sisters’ already-precarious balance turns upside down\, and Rachel must figure out how to liberate herself from this surreal scenario. \n  \n3 Nominations:\nNominated – Best American Independent Feature Film\, Cleveland International Film Festival\, 2019\nNominated – Narrative Feature Competition\, Dallas International Film Festival\, 2019\nNominated – Grand Jury Prize for Dramatic\, Sundance Film Festival\, 2019 \n  \n[embed_video video_site=”vimeo” video_url=”https://vimeo.com/351265768″ video_width=”640″ video_height=”360″ ] \n[/col_one] \n[/fullwidth]
URL:https://barriefilmfestival.netgaindev.com/now-playing/before-you-know-it-730pm/
LOCATION:Annual Barrie Film Festival
END:VEVENT
END:VCALENDAR