BEGIN:VCALENDAR
VERSION:2.0
PRODID:-//Barrie Film Festival - ECPv6.7.0//NONSGML v1.0//EN
CALSCALE:GREGORIAN
METHOD:PUBLISH
X-WR-CALNAME:Barrie Film Festival
X-ORIGINAL-URL:https://barriefilmfestival.netgaindev.com
X-WR-CALDESC:Events for Barrie Film Festival
REFRESH-INTERVAL;VALUE=DURATION:PT1H
X-Robots-Tag:noindex
X-PUBLISHED-TTL:PT1H
BEGIN:VTIMEZONE
TZID:America/Toronto
BEGIN:DAYLIGHT
TZOFFSETFROM:-0500
TZOFFSETTO:-0400
TZNAME:EDT
DTSTART:20190310T070000
END:DAYLIGHT
BEGIN:STANDARD
TZOFFSETFROM:-0400
TZOFFSETTO:-0500
TZNAME:EST
DTSTART:20191103T060000
END:STANDARD
END:VTIMEZONE
BEGIN:VEVENT
DTSTART;TZID=America/Toronto:20191022T160000
DTEND;TZID=America/Toronto:20191022T173800
DTSTAMP:20260424T082729
CREATED:20191013T014218Z
LAST-MODIFIED:20191013T014218Z
UID:14918-1571760000-1571765880@barriefilmfestival.netgaindev.com
SUMMARY:nîpawistamâsowin: We Will Stand Up  - 4pm
DESCRIPTION:[fullwidth ] \n[col_one ] \n \nnîpawistamâsowin: We Will Stand Up \nWritten and Directed by: Tasha Hubbard\nDocumentary | Not Rated (PG) | 98 min. | English/Cree with English subtitles | Canada \nClick Here to Buy Tickets \nSCREENING:\nTuesday\, October 22 – 4:00 pm\nSunday\, October 27 – 4:00 pm \n\n“By weaving in a personal story\, Hubbard elevates this documentary from a summary of the case to a poignant exploration of how to maintain Indigenous identity in a settler society.” – Brett Pardy\, Seventh Row \n  \n“This is an extremely powerful and important film that has taken on a life of its own.” – Annie Brodie\, What She Said \n  \n“Using Boushie’s murder as a jumping off point\, Hubbard’s film opens a greater conversation about how the roots of racism are dug deep into the soil of Canadian history.” – Courtney Small\, That Shelf \n  \nOn August 9\, 2016\, a young Cree man named Colten Boushie died from a gunshot to the back of his head after entering Gerald Stanley’s rural property with his friends. The jury’s subsequent acquittal of Stanley captured international attention\, raising questions about racism embedded within Canada’s legal system and propelling Colten’s family to national and international stages in their pursuit of justice. Sensitively directed by Tasha Hubbard\, nîpawistamâsowin: We Will Stand Up weaves a profound narrative encompassing the filmmaker’s own adoption\, the stark history of colonialism on the Prairies\, and a vision of a future where Indigenous children can live safely on their homelands. \n  \n3 Wins\, 1 Nomination:\nWon – Best Canadian Documentary\, DOXA Documentary Film Festival\, 2019\nWon – Best Canadian Documentary\, Hot Docs Canadian International\nDocumentary Festival\, 2019\nWon – Audience Choice\, Gimli Film Festival\, 2019\nNominated – Checkpoints Award\, Bergen International Film Festival\, 2019 \n  \n[embed_video video_site=”vimeo” video_url=”https://vimeo.com/343311539″ video_width=”640″ video_height=”360″ ] \n[/col_one] \n[/fullwidth]
URL:https://barriefilmfestival.netgaindev.com/now-playing/nipawistamasowin-we-will-stand-up-4pm/
LOCATION:Annual Barrie Film Festival
END:VEVENT
BEGIN:VEVENT
DTSTART;TZID=America/Toronto:20191022T163000
DTEND;TZID=America/Toronto:20191022T181000
DTSTAMP:20260424T082729
CREATED:20191013T010022Z
LAST-MODIFIED:20191013T010022Z
UID:14912-1571761800-1571767800@barriefilmfestival.netgaindev.com
SUMMARY:Killing Patient Zero - 4:30pm
DESCRIPTION:[fullwidth ] \n[col_one ] \n \nKilling Patient Zero\nWritten and Directed by: Laurie Lynd\nDocumentary | 14A for mature thematics | 100 min. | Canada \nClick Here to Buy Tickets \nSCREENING:\nSunday\, October 20 – 4:00 pm [Q&A]\nTuesday\, October 22 – 4:30 pm \n\n  \n“Lynd has restored Dugas to imperfect flesh and blood. That is achievement enough.” – Stephen Rodrick\, Globe and Mail \n“An exposé of a long ago “fake news” story\, and an uncomfortable reminder of an uncomfortable era. AIDS may now be treatable\, but the fire of ignorance and moral judgment are still in our social DNA.” – Jim Slotek\, Original Cin \n  \nAfter the Stonewall riots and at the height of the gay liberation movement in America\, an entire generation busy celebrating its newfound emancipation was unaware of an impending epidemic – a disease that proved to be largely ignored by politicians and the mainstream media. Gaetan Dugas was a French-Canadian flight attendant who offered to help early scientific research into the origins of this new disease but an unfortunate series of events followed\, and he would eventually be vilified as Patient Zero\, the man who gave society AIDS. Based on Richard McKay’s groundbreaking book\, Patient Zero and the Making of the AIDS Epidemic\, this feature documentary clears Dugas of being anything other than a highly sexually active gay man\, someone who – like hundreds of other gay men – refused to be re-pathologized by the scientists and doctors of the time. Many gay men and women who lived through that terrible time were also interviewed here\, most notably\, Fran Lebowitz. \n  \nNOMINATED – Audience Award\, Best Documentary\, Hot Docs Canadian International Documentary Festival\, 2019 \n  \n[embed_video video_site=”youtube” video_url=”https://www.youtube.com/watch?v=gTxDlnfPoaQ” video_width=”640″ video_height=”360″ ] \n[/col_one] \n[/fullwidth]
URL:https://barriefilmfestival.netgaindev.com/now-playing/killing-patient-zero-430pm/
LOCATION:Annual Barrie Film Festival
END:VEVENT
BEGIN:VEVENT
DTSTART;TZID=America/Toronto:20191022T190000
DTEND;TZID=America/Toronto:20191022T203300
DTSTAMP:20260424T082729
CREATED:20191013T015512Z
LAST-MODIFIED:20191013T015512Z
UID:14920-1571770800-1571776380@barriefilmfestival.netgaindev.com
SUMMARY:The Peanut Butter Falcon - 7:00pm
DESCRIPTION:[fullwidth ] \n[col_one ] \n \nThe Peanut Butter Falcon\nWritten and Directed by: Tyler Nilson and Michael Schwartz\nCast: Shia LaBeouf\, Dakota Johnson\, Zack Gottsagen\, Jon Bernthal\, John Hawkes\, Thomas Haden Church and Bruce Dern\nAdventure/Comedy/Drama | PG due to coarse language throughout\, some violence and smoking | 93 min. | USA \nClick Here to Buy Tickets \nSCREENING:\nTuesday\, October 22 – 7:00 pm\nSunday\, October 27 – 6:00 pm \n\n  \n“Writer-directors Tyler Nilson and Michael Schwartz team up to bring you what is quite possibly the feel-good movie of the year\, for good and ill.” – Matthew Lickona\, San Diego Reader \n  \n“Endlessly charming thanks to the terrific chemistry between LaBeouf and Gottsagen\, a bonafide find by the writing-directing team of Tyler Nilson and Michael Schwartz.” – Al Alexander\, The Patriot Ledger \n  \nA modern Mark Twain style adventure story\, The Peanut Butter Falcon tells the story of Zak (Zack Gottsagen)\, a young man with Down syndrome\, who runs away from a residential nursing home to follow his dream of attending the professional wrestling school of his idol\, The Salt Water Redneck (Thomas Haden Church). A strange turn of events pairs him on the road with Tyler (Shia LaBeouf)\, a small time outlaw on the run\, who becomes Zak’s unlikely coach and ally. Together they wind through deltas\, elude capture\, drink whisky\, find God\, catch fish\, and convince Eleanor (Dakota Johnson)\, a kind nursing home employee charged with Zak’s return\, to join them on their journey. \n  \n6 WINS\, 2 NOMINATIONS:\nWON – Audience Award\, Deauville Film Festival\, 2019\nWON – Truly Moving Picture Award\, Heartland Film\, 2019\nWON – Audience Award-Narrative Feature/Best of Fest Award\, Nantucket Film Festival\, 2019\nWON – Audience Award-Narrative Spotlight\, SXSW Film Festival\, 2019\nNominated -Grand Special Prize\, Deauville Film Festival\, 2019\nNominated – Art Cinema Award\, Best Feature\, Hamburg Film Festival\, 2019 \n  \n[embed_video video_site=”youtube” video_url=”https://www.youtube.com/watch?v=d82LeEWaHCg” video_width=”640″ video_height=”360″ ] \n[/col_one] \n[/fullwidth]
URL:https://barriefilmfestival.netgaindev.com/now-playing/the-peanut-butter-falcon-700pm/
LOCATION:Annual Barrie Film Festival
END:VEVENT
BEGIN:VEVENT
DTSTART;TZID=America/Toronto:20191022T193000
DTEND;TZID=America/Toronto:20191022T211900
DTSTAMP:20260424T082729
CREATED:20191013T020505Z
LAST-MODIFIED:20191013T020505Z
UID:14922-1571772600-1571779140@barriefilmfestival.netgaindev.com
SUMMARY:Mademoiselle De Joncquieres - 7:30pm
DESCRIPTION:[fullwidth ] \n[col_one ] \n \nMademoiselle De Joncquières (Lady J)\nWritten and Directed by: Emmanuel Mouret\nCast: Cécile de France\, Edouard Baer\, Alice Isaaz and Natalia Dontcheva\nDrama | 14A for mature thematics and sexuality | 109 min. | French with English subtitles | France \nClick Here to Buy Tickets \nSCREENING:\nTuesday\, October 22 – 7:30 pm\nSaturday\, October 26 – 1:30 pm \n\n  \n“The director Emmanuel Mouret manipulates our sympathies effortlessly as the story zigzags its way to an ultimately surprising and quite satisfying resolution.” – Helen T. Verongos\, THE NY TIMES \n  \n“Anyone who loves “Dangerous Liaisons” – in any of its iterations – should rush to cue up “Lady J\,” a period romance with a similarly wicked sense of comic melodrama. ” – Noel Murray\, LOS ANGELES TIMES \n  \n1750\, Louis XV reigns over the kingdom of France. The Marquis des Arcis (Edouard Baer)\, an assumed libertine\, falls madly in love with Madame de La Pommeraye (Cécile de France)\, an attractive widow withdrawn from the world. She resists him for years\, and finally gives in to her secret desire. Yet the Marquis quickly tires of her and proposes after two short years to split remaining good friends. Mad with sorrow\, the vengeful Madame sets about orchestrating her revenge\, with the beautiful\, young Mademoiselle de Joncquières (Alice Isaaz) as her instrument. \n  \n1 WIN\, 14 NOMINATIONS:\nWON – Best Costume Design/Nominee – Best Actress/Best Actor/Best Adapted Screenplay/Best Cinematography\, César Awards\, France\, 2019\nNOMINATED – Best Film/Best Actress\, Globes de Cristal Awards\, France\, 2019\nNOMINATED – Best Film/Best Actress/Best Screenplay/Best Cinematography\, Lumiere Awards\, France\, 2019\nNOMINATED – Platform Prize\, Toronto International Film Festival\, 2018 \n  \n[embed_video video_site=”youtube” video_url=”https://www.youtube.com/watch?v=9dzw5Oybk9M” video_width=”640″ video_height=”360″ ] \n[/col_one] \n[/fullwidth]
URL:https://barriefilmfestival.netgaindev.com/now-playing/mademoiselle-de-joncquieres-730pm/
LOCATION:Annual Barrie Film Festival
END:VEVENT
END:VCALENDAR