BEGIN:VCALENDAR
VERSION:2.0
PRODID:-//Barrie Film Festival - ECPv6.7.0//NONSGML v1.0//EN
CALSCALE:GREGORIAN
METHOD:PUBLISH
X-WR-CALNAME:Barrie Film Festival
X-ORIGINAL-URL:https://barriefilmfestival.netgaindev.com
X-WR-CALDESC:Events for Barrie Film Festival
REFRESH-INTERVAL;VALUE=DURATION:PT1H
X-Robots-Tag:noindex
X-PUBLISHED-TTL:PT1H
BEGIN:VTIMEZONE
TZID:America/Toronto
BEGIN:DAYLIGHT
TZOFFSETFROM:-0500
TZOFFSETTO:-0400
TZNAME:EDT
DTSTART:20190310T070000
END:DAYLIGHT
BEGIN:STANDARD
TZOFFSETFROM:-0400
TZOFFSETTO:-0500
TZNAME:EST
DTSTART:20191103T060000
END:STANDARD
END:VTIMEZONE
BEGIN:VEVENT
DTSTART;TZID=America/Toronto:20191023T160000
DTEND;TZID=America/Toronto:20191023T173500
DTSTAMP:20260424T081827
CREATED:20191013T002808Z
LAST-MODIFIED:20191013T002808Z
UID:14907-1571846400-1571852100@barriefilmfestival.netgaindev.com
SUMMARY:All is True - 4:00pm
DESCRIPTION:[fullwidth ] \n[col_one ] \n \nAll is True\nWritten and Directed by: Kenneth Branagh\nCast: Kenneth Branagh\, Judi Dench\, Jack Colgrave Hirst\, Lolita Chakrrabarti and Ian McKellen\nBiography/Drama | PG for suggestive material and language | 101 min. | United Kingdom \n  \nClick Here to Buy Tickets \n  \nSCREENING:\nSunday\, October 20 – 1:00 pm\nWednesday\, October 23 – 4:00 pm \n  \n“Ben Elton’s well-researched and cleverly built script offers plenty of delights for fans of the Bard\, further enhanced with Branagh’s fine direction and its wonderful cast.” – Cate Marquis\, We Are Movie Geeks \n“These guys know their Bard\, and they’ve come up with a wonderful homage – witty\, atmospheric\, at times heartbreaking – to both the towering genius of myth and the oh-so-fallible man within.” – Lisa Jensen\, Good Times Santa Cruz \n  \nThe year is 1613 and William Shakespeare is acknowledged as the greatest writer of the age. When disaster strikes after his renowned Globe Theatre burns to the ground\, the playwright is devastated and returns to Stratford\, where he must face his troubled past and a neglected family. Haunted by the death of his only son Hamnet\, Shakespeare struggles to mend the broken relationships with his wife and daughters and in so doing\, is ruthlessly forced to examine his failings as a husband and father. His very personal search for the truth uncovers secrets and lies hidden within the binding ties of a family at war. \n  \n1 Win\, 3 Nominations: \nWon – Best Supporting Actress (Judi Dench)\, ARP Movies for Grownups Awards\, 2019\nNominated – Best Director (Kenneth Branagh)\, Best Supporting Actor (Ian McKellen)\, Best Grown Up Love Story\, ARP Movies for Grownups Awards\, 2019 \n[embed_video video_site=”youtube” video_url=”https://www.youtube.com/watch?v=nsd4R1ghVT8″ video_width=”640″ video_height=”360″ ] \n[/col_one] \n[/fullwidth]
URL:https://barriefilmfestival.netgaindev.com/now-playing/all-is-true-400pm/
LOCATION:Annual Barrie Film Festival
END:VEVENT
BEGIN:VEVENT
DTSTART;TZID=America/Toronto:20191023T163000
DTEND;TZID=America/Toronto:20191023T180700
DTSTAMP:20260424T081827
CREATED:20191013T023630Z
LAST-MODIFIED:20191013T023630Z
UID:14928-1571848200-1571854020@barriefilmfestival.netgaindev.com
SUMMARY:Maiden - 4:30pm
DESCRIPTION:[fullwidth ] \n[col_one ] \n \nMaiden\nWritten and Directed by: Alex Holmes\nWith: Tracy Edwards\, Jeni Mundy\, Mikaela Von Koskull\nDocumentary | PG for coarse language and some suggestive content | 97 min. | United Kingdom \nClick Here to Buy Tickets \nSCREENING:\nWednesday\, October 23 – 4:30 pm\nSaturday\, October 26 – 3:00 pm \n\n“Using archival footage and fresh recollections\, director Alex Holmes offers an illuminating look into the weird world of jibs and rigging in a film that transcends the action of the sport.” – Brad Wheeler\, GLOBE AND MAIL \n  \n“For anyone who doesn’t boat much\, it’s hard to grasp how yachting can be athletic\, harrowing\, admirable\, or lethal. Maiden… makes a good case for the prowess\, invention\, and perseverance required.” – George Elkind\, METRO TIMES\, DETROIT \n  \nMaiden tells the story of how a 24-year-old cook working on charter boats became the skipper of the first-ever all-female crew to enter the Whitbread Round the World in 1989. Tracy Edwards’ inspirational dream was opposed on all sides: her male competitors thought an all-women crew would never make it\, the chauvinistic yachting press took bets on her failure\, and potential sponsors rejected her\, fearing that all aboard would not survive and generate bad publicity. However\, Tracy refused to give up: she remortgaged her home and bought a second-hand boat\, putting everything on the line to ensure that the team made it to the starting line. Although blessed with tremendous belief in herself\, Tracy was also beset by crippling doubts and was only able to make it through – and ultimately astonish the sports world – with the support of her remarkable crew. \n  \n2 WINS\, 1 NOMINATION:\nWON – Audience Award/Best Film\, Dublin International Film Festival\, 2019\nWON – Audience Award/International Feature\, Northwest Fest\, 2019\nNOMINATED – Best Documentary\, Seattle International Film Festival\, 2019 \n[embed_video video_site=”youtube” video_url=”https://www.youtube.com/watch?v=NJbwJ8fe0ng” video_width=”640″ video_height=”360″ ] \n[/col_one] \n[/fullwidth]
URL:https://barriefilmfestival.netgaindev.com/now-playing/maiden-430pm/
LOCATION:Annual Barrie Film Festival
END:VEVENT
BEGIN:VEVENT
DTSTART;TZID=America/Toronto:20191023T190000
DTEND;TZID=America/Toronto:20191023T205200
DTSTAMP:20260424T081827
CREATED:20191013T021714Z
LAST-MODIFIED:20191013T021714Z
UID:14924-1571857200-1571863920@barriefilmfestival.netgaindev.com
SUMMARY:Official Secrets - 7:00pm
DESCRIPTION:[fullwidth ] \n[col_one ] \n \nOfficial Secrets\nCo-written and Directed by: Gavin Hood\nCast: Keira Knightley\, Matthew Goode\, Rhys Ifans\, Matt Smith\, Ralph Fiennes\nThriller/Biography/Drama | PG for coarse language\, violence | 112 min. | United Kingdom/USA \nClick Here to Buy Tickets \nSCREENING:\nWednesday\, October 23 – 7:00 pm\nSaturday\, October 26 – 7:30 pm \n\n“A rock-solid docudrama.” – Chris Bumbray\, JoBlo’s Movie Emporium \n  \n“This sturdy\, entertaining political thriller pushes all the right buttons and triggers all the right outraged reactions.” – Tim Grierson\, Screen International \n  \nShe risked everything to stop an unjust war. Her government called her a traitor. Based on world-shaking true events\, Official Secrets tells the gripping story of Katharine Gun (Keira Knightley)\, a British intelligence specialist whose job involves routine handling of classified information. One day in 2003\, in the lead up to the Iraq War\, Gun receives a memo from the NSA with a shocking directive: the United States is enlisting Britain’s help in collecting compromising information on United Nations Security Council members in order to blackmail them into voting in favour of an invasion of Iraq. Unable to stand by and watch the world be rushed into an illegal war\, Gun makes the gut-wrenching decision to defy her government and leak the memo to the press. So begins an explosive chain of events that will ignite an international firestorm\, expose a vast political conspiracy\, and put Gun and her family directly in harm’s way. \n  \n2 WINS\, 2 NOMINATIONS:\nWON – Audience Award for Best Narrative Feature\, Provincetown International Film Festival\, 2019\nWON – Audience Award\, Best Foreign Fiction\, Traverse City Film Festival\, 2019\nNOMINATED – Best Film\, Seattle International Film Festival\, 2019\nNOMINATED – Art Cinema Award\, Best Narrative Feature\, Hamburg Film Festival\, 2019 \n  \nSponsored by: Park Place \n  \n[embed_video video_site=”youtube” video_url=”https://www.youtube.com/watch?v=pP4zhzIyTUA” video_width=”640″ video_height=”360″ ] \n[/col_one] \n[/fullwidth]
URL:https://barriefilmfestival.netgaindev.com/now-playing/official-secrets-700pm/
LOCATION:Annual Barrie Film Festival
END:VEVENT
BEGIN:VEVENT
DTSTART;TZID=America/Toronto:20191023T193000
DTEND;TZID=America/Toronto:20191023T211200
DTSTAMP:20260424T081827
CREATED:20191013T022844Z
LAST-MODIFIED:20191013T022844Z
UID:14926-1571859000-1571865120@barriefilmfestival.netgaindev.com
SUMMARY:Une Colonie - 7:30pm
DESCRIPTION:[fullwidth ] \n[col_one ] \n \nUne colonie (A Colony)\nWritten and Directed by: Geneviève Dulude-De Celles\nCast: Émilie Bierre\, Irlande Côté\, Jacob Whiteduck-Lavoie\, Robin Aubert and Noémie Godin-Vigneau\nDrama | 14A | 102 min. | French with English subtitles | Canada \nClick Here to Buy Tickets \nSCREENING:\nWednesday\, October 23 – 7:30 pm\nFriday\, October 25 – 4:00 pm \n\n  \n“It’s an exceptional teen film\, but also one of the most important and pointed Canadian films of the year.” – Andrew Parker\, THE GATE \n  \n“While this coming-of-age narrative hits all the familiar beats… A Colony also showcases an emotional sensitivity and cultural specificity that gives it a strong individual identity.” – Nikki Baughan\, SCREEN INTERNATIONAL \n  \nThis Québécois gem\, the fiction-feature debut from Geneviève Dulude-De Celles\, is a fresh\, beautifully rendered\, and radically optimistic take on the coming-of-age genre. Une Colonie is a semi-autobiographical coming-of-age drama about finding your voice. Set in rural Quebec\, it follows 12-year-old Mylia (Emilie Bierre)\, who has a history of being bullied and is trying to find her bearings at a new school while navigating a turbulent home life. She finds friends in her classmates Jacinthe\, her popular older cousin\, and Jimmy\, who lives on a neighbouring Abenaki reserve. From there\, Mylia must figure out how to handle the pressure of conformity and find her sense of self in spite of it. An apt exploration of identity that will speak to the pre-teen in all of us\, Une Colonie reminds us that we should aim not only to survive in life\, but also to thrive. \n  \n10 WINS\, 8 NOMINATIONS:\nWON – Crystal Bear for Best Film\, Berlin International Film Festival\, 2019\nWON – Performance by an Actress in a Leading Role (Bierre)/Best Motion Picture\, Best First Feature Film\, Canadian Screen Awards\, 2019\nWON – Audience Award/Grand Jury Prize\, Quebec City International Film Festival\, 2018\nWON – Best Canadian Feature/Best Performance (Bierre)/Best Director\, Whistler Film Festival\, 2018\nWON – Best Director\, Athens International Film Festival\, 2019\nNOMINATED – Michel Award\, Hamburg Film Festival\, 2019 \n  \n[embed_video video_site=”youtube” video_url=”https://www.youtube.com/watch?v=5FaO2sB1nVU” video_width=”640″ video_height=”360″ ] \n[/col_one] \n[/fullwidth]
URL:https://barriefilmfestival.netgaindev.com/now-playing/une-colonie-730pm/
LOCATION:Annual Barrie Film Festival
END:VEVENT
END:VCALENDAR