BEGIN:VCALENDAR
VERSION:2.0
PRODID:-//Barrie Film Festival - ECPv6.7.0//NONSGML v1.0//EN
CALSCALE:GREGORIAN
METHOD:PUBLISH
X-ORIGINAL-URL:https://barriefilmfestival.netgaindev.com
X-WR-CALDESC:Events for Barrie Film Festival
REFRESH-INTERVAL;VALUE=DURATION:PT1H
X-Robots-Tag:noindex
X-PUBLISHED-TTL:PT1H
BEGIN:VTIMEZONE
TZID:America/Toronto
BEGIN:DAYLIGHT
TZOFFSETFROM:-0500
TZOFFSETTO:-0400
TZNAME:EDT
DTSTART:20190310T070000
END:DAYLIGHT
BEGIN:STANDARD
TZOFFSETFROM:-0400
TZOFFSETTO:-0500
TZNAME:EST
DTSTART:20191103T060000
END:STANDARD
END:VTIMEZONE
BEGIN:VEVENT
DTSTART;TZID=America/Toronto:20191024T160000
DTEND;TZID=America/Toronto:20191024T174100
DTSTAMP:20260424T081858
CREATED:20191013T024628Z
LAST-MODIFIED:20191013T024628Z
UID:14930-1571932800-1571938860@barriefilmfestival.netgaindev.com
SUMMARY:Ask Dr. Ruth - 4:00pm
DESCRIPTION:[fullwidth ] \n[col_one ] \n \nAsk Dr. Ruth\nDirected by: Ryan White\nWith: Ruth Westheimer\, Susan Brown\, Jonathan Capehart\, Leora Einleger\nDocumentary/Biography | 14A for sexual language | 100 min. | USA \nClick Here to Buy Tickets \nSCREENING:\nThursday\, October 24 – 4:00 pm\nSunday\, October 27 – 1:30 pm \n\n  \n“A long-overdue bio-doc that\, in its spirited way\, is as affirming as last year’s paean to another important octogenarian Ruth\, RBG.” – Robert Abele\, TheWrap \n  \n“Whether it’s Ruth reflecting on the details of her three marriages with her characteristic frankness or her family unpacking her political stances\, it offers up insight into a woman who helped so many others truly know themselves.” – Maureen Lee Lenker\, Entertainment Weekly \n  \n“America’s favorite nonagenarian sex therapist\, Dr. Ruth Westheimer\, entertains and educates America in this delightful documentary.” – Tim Appelo\, AARP Movies for Grownups \n  \nAsk Dr. Ruth chronicles the incredible life of Dr. Ruth Westheimer\, a Holocaust survivor who became America’s most famous sex therapist. With her diminutive frame\, thick German accent\, and uninhibited approach to sex therapy and education\, Dr. Ruth transformed the conversation around sexuality. As she approaches her 90th birthday and shows no signs of slowing down\, this remarkable woman revisits her painful past and the unlikely path that led to a career which placed her at the forefront of the sexual revolution. \n  \n1 Win\, 2 Nominations:\nWon – Audience Award\, Best Documentary Feature\, Calgary Underground Film Festival\, 2019\nNominated – Audience Award\, Best Documentary\, Hot Docs Canadian International Documentary Festival\, 2019\nNominated – Best Documentary\, Miami Film Festival\, 2019 \n  \n[embed_video video_site=”youtube” video_url=”https://www.youtube.com/watch?v=ql2VpHxxcD4″ video_width=”640″ video_height=”360″ ] \n[/col_one] \n[/fullwidth]
URL:https://barriefilmfestival.netgaindev.com/now-playing/ask-dr-ruth-400pm/
LOCATION:Annual Barrie Film Festival
END:VEVENT
BEGIN:VEVENT
DTSTART;TZID=America/Toronto:20191024T163000
DTEND;TZID=America/Toronto:20191024T182400
DTSTAMP:20260424T081858
CREATED:20191013T004315Z
LAST-MODIFIED:20191013T004315Z
UID:14910-1571934600-1571941440@barriefilmfestival.netgaindev.com
SUMMARY:Pavarotti - 4:30pm
DESCRIPTION:[fullwidth ] \n[col_one ] \n \nPavarotti\nDirected by: Ron Howard\nDocumentary/Biography | PG for coarse language | 114 min. | USA/United Kingdom \n  \nClick Here to Buy Tickets \n  \nSCREENING:\nSunday\, October 20 – 7:00 pm\nThursday\, October 24 – 4:30 pm \n  \n“It’s an engaging film\, filled with vintage snapshots\, interviews with friends and former colleagues\, and\, most of all\, that marvelously distinctive voice\, with all the emotion it could convey.” – Sarah Bryan Miller\, St. Louis Post-Dispatch \n“It is done respectfully and lovingly\, with the occasional criticism that he could be demanding.” – Alison Rowat\, The Herald (Scotland) \n“Ron Howard’s documentary doesn’t just make you miss the singer. It makes you miss\, of all things\, a robust music industry.” – Glenn Kenny\, RogerEbert.com \n  \nThe award-winning filmmaking team behind the hit documentary The Beatles: Eight Days a Week – The Touring Years turns to another musical phenomenon with Pavarotti\, an in-depth\, no holds barred look at the life\, career and lasting legacy of a musical icon. Dubbed “The People’s Tenor\,” Pavarotti was the rare combination of personality\, genius and celebrity\, using his prodigious gifts to spread the gospel of opera as entertainment and a genre to be enjoyed by music lovers of all kinds. Featuring never-before-seen footage and rare interviews with his family and colleagues\, the film brilliantly demonstrates that through the sheer force of his talent\, Pavarotti ultimately commanded the great stages of the world in addition to capturing the hearts of audiences everywhere. This look at a remarkable man and musical giant is directed by Academy Award® winner Ron Howard. \n  \n[embed_video video_site=”youtube” video_url=”https://www.youtube.com/watch?v=52my76u7iIw” video_width=”640″ video_height=”360″ ] \n[/col_one] \n[/fullwidth]
URL:https://barriefilmfestival.netgaindev.com/now-playing/pavarotti-430pm/
LOCATION:Annual Barrie Film Festival
END:VEVENT
BEGIN:VEVENT
DTSTART;TZID=America/Toronto:20191024T190000
DTEND;TZID=America/Toronto:20191024T210100
DTSTAMP:20260424T081858
CREATED:20191013T025732Z
LAST-MODIFIED:20191013T025732Z
UID:14932-1571943600-1571950860@barriefilmfestival.netgaindev.com
SUMMARY:The Last Black Man in San Francisco - 7:00pm
DESCRIPTION:[fullwidth ] \n[col_one ] \n \nThe Last Black Man in San Francisco\nCo-written and Directed by: Joe Talbot\nCast: Jimmie Fails\, Jonathan Majors\, Finn Wittrock\, Tichina Arnold\, Mike Epps\, Danny Glover \nDrama | 14A for coarse language\, brief nudity and drug use | 121 min. | USA \nClick Here to Buy Tickets \nSCREENING:\nThursday\, October 24 – 7:00 pm\nSaturday\, October 26 – 7:15 pm \n\n  \n“The Last Black Man in San Francisco is a poetic and picturesque ode to the title city\, to friendship and to the universal urge to find a place to call home.” – Peter Howell\, Toronto Star \n  \n“The Last Black Man in San Francisco” is poignant filmmaking with an invigorating spirit.”– Adam Graham\, Detroit News \n  \n“There is something irrepressibly original and exciting in the collaboration that results between Talbot\, Fails and co-writer Rob Richert – a cinematic vision that feels as fresh as it does necessary.” – Barry Hertz\, Globe and Mail \n  \nJimmie Fails dreams of reclaiming the Victorian home his grandfather built in the heart of San Francisco. Joined on his quest by his best friend Mont\, Jimmie searches for belonging in a rapidly changing city that seems to have left them behind. As he struggles to reconnect with his family and reconstruct the community he longs for\, his hopes blind him to the reality of his situation. A wistful odyssey populated by skaters\, squatters\, street preachers\, playwrights\, and other locals on the margins\, The Last Black Man in San Francisco is a poignant and sweeping story of hometowns and how they’re made—and kept alive—by the people who love them. \n  \n2 WINS\, 3 NOMINATIONS:\nNOMINATED – Best Film\, Locarno International Film Festival\, 2019\nWON – Directing Award/U.S. Dramatic Special Jury Award\, Nominee – Grand Jury Prize/Dramatic\, Sundance Film Festival\, 2019\nNOMINATED – First Feature Competition\, London Film Festival\, 2019 \n  \n[embed_video video_site=”youtube” video_url=”https://www.youtube.com/watch?v=m6iCrYR8Z0E” video_width=”640″ video_height=”360″ ] \n[/col_one] \n[/fullwidth]
URL:https://barriefilmfestival.netgaindev.com/now-playing/the-last-black-man-in-san-francisco-700pm/
LOCATION:Annual Barrie Film Festival
END:VEVENT
BEGIN:VEVENT
DTSTART;TZID=America/Toronto:20191024T193000
DTEND;TZID=America/Toronto:20191024T212100
DTSTAMP:20260424T081859
CREATED:20191013T030732Z
LAST-MODIFIED:20191013T030732Z
UID:14934-1571945400-1571952060@barriefilmfestival.netgaindev.com
SUMMARY:Menteur - 7:30pm
DESCRIPTION:[fullwidth ] \n[col_one ] \n \nMenteur (Compulsive Liar)\nCo-written and Directed by: Émile Gaudreault\nCast: Louis-José Houde\, Antoine Bertrand\, Catherine Chabot\, Anne-Élisabeth Bossé\, Luc Senay\, Patrice Coquereau\, Marie-Lise Pilote\, Sonia Vachon\, Didier Lucien and Vitali Makarov\nComedy | PG | 111 min. | French with English subtitles | Canada \nClick Here to Buy Tickets \nSCREENING:\nThursday\, October 24 – 7:30 pm\nSunday\, October 27 – 8:30 pm \n\nFor Simon\, a public relations manager at a major aerospace company\, lying is a way of life\, almost a raison d’être. His family aren’t fooled by his lies and have learned\, somehow\, to shut their eyes to his nonsense. But when Russian industrialists come to negotiate a contract that could save the struggling aircraft company where his brother also works\, Simon’s behavior becomes an important issue. Fearing that one lie too many will make everything fall apart\, his relatives serve him an ultimatum. The same evening\, a strange cosmic event propels Simon into a parallel universe\, where all his fabrications seem to have come true. \n  \n[embed_video video_site=”youtube” video_url=”https://www.youtube.com/watch?v=_vP9JH7nNlY” video_width=”640″ video_height=”360″ ] \n  \n[/col_one] \n[/fullwidth]
URL:https://barriefilmfestival.netgaindev.com/now-playing/menteur-730pm/
LOCATION:Annual Barrie Film Festival
END:VEVENT
END:VCALENDAR