BEGIN:VCALENDAR
VERSION:2.0
PRODID:-//Barrie Film Festival - ECPv6.7.0//NONSGML v1.0//EN
CALSCALE:GREGORIAN
METHOD:PUBLISH
X-ORIGINAL-URL:https://barriefilmfestival.netgaindev.com
X-WR-CALDESC:Events for Barrie Film Festival
REFRESH-INTERVAL;VALUE=DURATION:PT1H
X-Robots-Tag:noindex
X-PUBLISHED-TTL:PT1H
BEGIN:VTIMEZONE
TZID:America/Toronto
BEGIN:DAYLIGHT
TZOFFSETFROM:-0500
TZOFFSETTO:-0400
TZNAME:EDT
DTSTART:20190310T070000
END:DAYLIGHT
BEGIN:STANDARD
TZOFFSETFROM:-0400
TZOFFSETTO:-0500
TZNAME:EST
DTSTART:20191103T060000
END:STANDARD
END:VTIMEZONE
BEGIN:VEVENT
DTSTART;TZID=America/Toronto:20191026T130000
DTEND;TZID=America/Toronto:20191026T141700
DTSTAMP:20260424T081903
CREATED:20191013T033311Z
LAST-MODIFIED:20191013T033311Z
UID:14936-1572094800-1572099420@barriefilmfestival.netgaindev.com
SUMMARY:Poisoning Paradise - 1:00pm
DESCRIPTION:[fullwidth ] \n[col_one ] \n• Environment Series\n \nPoisoning Paradise\n\nDirectors: Keely Shaye Brosnan and Teresa Tico\nWith: John Aana\, Alita Atay and Paul Achitoff\nDocumentary\, Not Rated\, 77 min. | USA \nClick Here to Buy Tickets \nSCREENING: Saturday\, October 26 – 1:00 pm \n\n  \n“Fascinating\, angering and important.” – Shelia Weller\, New York Times best selling author and contributor to Vanity Fair \n“An eye-opening … well-researched documentary.” – MALIBU SURFSIDE NEWS \n  \nJourney to the seemingly idyllic world of Native Hawaiians\, where communities are surrounded by experimental test sites and pesticides are being sprayed upwind of their neighbourhoods. Poisoning Paradise details the ongoing struggle to advance bold new legislation governing the fate of their island home. In an attempt to diversify an economy that was overly reliant on tourism\, policymakers in both Hawaii and Washington\, D.C. encouraged the world’s largest biotech companies to utilize Kauai’s favourable climate and fertile soil to test genetically engineered seeds and crops. Interviews with local residents\, scientists\, and healthcare professionals reveal the hardships and ecological dangers of intensive and continuous pesticide applications and the environmental injustice thrust upon people living in one of the most sacred\, biologically unique and diverse locations on earth. Award-winning investigative journalist Paul Kolberstein describes Kauai as “one of the most toxic agricultural environments in all of American agriculture.” \n  \n7 WINS:\nWON – Brosnan Award\, Hawaii European Cinema Film Festival\, 2017\nWON – Feature Documentary Award of Recognition\, Hollywood International Independent Documentary Awards\, 2017\nWON – Best Documentary Film\, Hollywood Reel Independent Film Festival\, 2017\nWON – Best Feature Film\, Irvine International Film Festival\, 2018\nWON – Audience Choice Award\, Malibu Film Festival\, 2018 \n  \n  \n \n  \n[embed_video video_site=”youtube” video_url=”https://www.youtube.com/watch?v=XPDgoVeO3Bs” video_width=”640″ video_height=”360″ ] \n[/col_one] \n[/fullwidth]
URL:https://barriefilmfestival.netgaindev.com/now-playing/poisoning-paradise-100pm/
LOCATION:Annual Barrie Film Festival
END:VEVENT
BEGIN:VEVENT
DTSTART;TZID=America/Toronto:20191026T133000
DTEND;TZID=America/Toronto:20191026T151900
DTSTAMP:20260424T081904
CREATED:20191013T020806Z
LAST-MODIFIED:20191013T020806Z
UID:14923-1572096600-1572103140@barriefilmfestival.netgaindev.com
SUMMARY:Mademoiselle De Joncquieres - 1:30pm
DESCRIPTION:[fullwidth ] \n[col_one ] \n \nMademoiselle De Joncquières (Lady J)\nWritten and Directed by: Emmanuel Mouret\nCast: Cécile de France\, Edouard Baer\, Alice Isaaz and Natalia Dontcheva\nDrama | 14A for mature thematics and sexuality | 109 min. | French with English subtitles | France \nClick Here to Buy Tickets \nSCREENING:\nTuesday\, October 22 – 7:30 pm\nSaturday\, October 26 – 1:30 pm \n\n  \n“The director Emmanuel Mouret manipulates our sympathies effortlessly as the story zigzags its way to an ultimately surprising and quite satisfying resolution.” – Helen T. Verongos\, THE NY TIMES \n  \n“Anyone who loves “Dangerous Liaisons” – in any of its iterations – should rush to cue up “Lady J\,” a period romance with a similarly wicked sense of comic melodrama. ” – Noel Murray\, LOS ANGELES TIMES \n  \n1750\, Louis XV reigns over the kingdom of France. The Marquis des Arcis (Edouard Baer)\, an assumed libertine\, falls madly in love with Madame de La Pommeraye (Cécile de France)\, an attractive widow withdrawn from the world. She resists him for years\, and finally gives in to her secret desire. Yet the Marquis quickly tires of her and proposes after two short years to split remaining good friends. Mad with sorrow\, the vengeful Madame sets about orchestrating her revenge\, with the beautiful\, young Mademoiselle de Joncquières (Alice Isaaz) as her instrument. \n  \n1 WIN\, 14 NOMINATIONS:\nWON – Best Costume Design/Nominee – Best Actress/Best Actor/Best Adapted Screenplay/Best Cinematography\, César Awards\, France\, 2019\nNOMINATED – Best Film/Best Actress\, Globes de Cristal Awards\, France\, 2019\nNOMINATED – Best Film/Best Actress/Best Screenplay/Best Cinematography\, Lumiere Awards\, France\, 2019\nNOMINATED – Platform Prize\, Toronto International Film Festival\, 2018 \n  \n[embed_video video_site=”youtube” video_url=”https://www.youtube.com/watch?v=9dzw5Oybk9M” video_width=”640″ video_height=”360″ ] \n[/col_one] \n[/fullwidth]
URL:https://barriefilmfestival.netgaindev.com/now-playing/mademoiselle-de-joncquieres-130pm/
LOCATION:Annual Barrie Film Festival
END:VEVENT
BEGIN:VEVENT
DTSTART;TZID=America/Toronto:20191026T150000
DTEND;TZID=America/Toronto:20191026T163700
DTSTAMP:20260424T081904
CREATED:20191013T023838Z
LAST-MODIFIED:20191013T023838Z
UID:14929-1572102000-1572107820@barriefilmfestival.netgaindev.com
SUMMARY:Maiden - 3:00pm
DESCRIPTION:[fullwidth ] \n[col_one ] \n \nMaiden\nWritten and Directed by: Alex Holmes\nWith: Tracy Edwards\, Jeni Mundy\, Mikaela Von Koskull\nDocumentary | PG for coarse language and some suggestive content | 97 min. | United Kingdom \nClick Here to Buy Tickets \nSCREENING:\nWednesday\, October 23 – 4:30 pm\nSaturday\, October 26 – 3:00 pm \n\n“Using archival footage and fresh recollections\, director Alex Holmes offers an illuminating look into the weird world of jibs and rigging in a film that transcends the action of the sport.” – Brad Wheeler\, GLOBE AND MAIL \n  \n“For anyone who doesn’t boat much\, it’s hard to grasp how yachting can be athletic\, harrowing\, admirable\, or lethal. Maiden… makes a good case for the prowess\, invention\, and perseverance required.” – George Elkind\, METRO TIMES\, DETROIT \n  \nMaiden tells the story of how a 24-year-old cook working on charter boats became the skipper of the first-ever all-female crew to enter the Whitbread Round the World in 1989. Tracy Edwards’ inspirational dream was opposed on all sides: her male competitors thought an all-women crew would never make it\, the chauvinistic yachting press took bets on her failure\, and potential sponsors rejected her\, fearing that all aboard would not survive and generate bad publicity. However\, Tracy refused to give up: she remortgaged her home and bought a second-hand boat\, putting everything on the line to ensure that the team made it to the starting line. Although blessed with tremendous belief in herself\, Tracy was also beset by crippling doubts and was only able to make it through – and ultimately astonish the sports world – with the support of her remarkable crew. \n  \n2 WINS\, 1 NOMINATION:\nWON – Audience Award/Best Film\, Dublin International Film Festival\, 2019\nWON – Audience Award/International Feature\, Northwest Fest\, 2019\nNOMINATED – Best Documentary\, Seattle International Film Festival\, 2019 \n[embed_video video_site=”youtube” video_url=”https://www.youtube.com/watch?v=NJbwJ8fe0ng” video_width=”640″ video_height=”360″ ] \n[/col_one] \n[/fullwidth]
URL:https://barriefilmfestival.netgaindev.com/now-playing/maiden-300pm/
LOCATION:Annual Barrie Film Festival
END:VEVENT
BEGIN:VEVENT
DTSTART;TZID=America/Toronto:20191026T163000
DTEND;TZID=America/Toronto:20191026T182300
DTSTAMP:20260424T081904
CREATED:20191013T001445Z
LAST-MODIFIED:20191013T001445Z
UID:14905-1572107400-1572114180@barriefilmfestival.netgaindev.com
SUMMARY:Pain and Glory - 4:30pm
DESCRIPTION:[fullwidth ] \n[col_one ] \n\nPain and Glory (Dolor y gloria)\nWritten and Directed by: Pedro Almodóvar\nCast: Antonio Banderas\, Asier Etxeandia\, Leonardo Sbaraglia\, Julieta Serrano and Penelope Cruz\nDrama | 14A for mature thematics\, drug use\, some nudity and coarse language | 113 min. | Spanish with English subtitles | Spain \n  \nClick Here to Buy Tickets \n  \nSCREENING:\nSaturday\, October 19 – 7:30 pm\nSaturday\, October 26 – 4:30 pm \n  \n“Pain and Glory is Almodóvar’s best work for years\, marvellously framed and composed\, comparatively restrained for him\, hugely enjoyable moment by moment.” – David Sexton\, London Evening Standard \n“While we’re never quite sure how much is direct autobiography\, the result is revealing\, hugely emotive and arguably his most mature work to date.” – Trevor Johnston\, Radio Times \n  \nPain and Glory presents a series of re-encounters experienced by Salvador Mallo\, a film director in his physical decline. Some of them in the flesh\, others remembered: his childhood in the 60s\, when he emigrated with his parents to a village in Valencia in search of prosperity\, the first desire\, his first adult love in the Madrid of the 80s\, the pain of the breakup of that love while it was still alive and intense\, writing as the only therapy to forget the unforgettable\, the early discovery of cinema\, and the void\, the infinite void that creates the incapacity to keep on making films. Pain and Glory talks about creation\, about the difficulty of separating it from one’s own life and about the passions that give it meaning and hope. In recovering his past\, Salvador finds the urgent need to recount it\, and in that need he also finds his salvation. \n  \n4 WINS\, 10 NOMINATIONS: \nWon – Best Actor (Antonio Banderas)\, Best Composer/Nominee Palme d’Or/Queer Palm\, Cannes Film Festival\, 2019\nWon – Prix du Jury/Best Actor (Banderas)\, International Cinephile Society Awards\, 2019\nNOMINATED – Best International Film\, Jerusalem Film Festival\, 2019\nNOMINATED – Best Film\, Sydney Film Festival\, 2019 \n  \n[embed_video video_site=”youtube” video_url=”https://www.youtube.com/watch?v=pYOpDFw53zo” video_width=”640″ video_height=”360″ ] \n[/col_one] \n[/fullwidth]
URL:https://barriefilmfestival.netgaindev.com/now-playing/pain-and-glory-430pm/
LOCATION:Annual Barrie Film Festival
END:VEVENT
BEGIN:VEVENT
DTSTART;TZID=America/Toronto:20191026T171500
DTEND;TZID=America/Toronto:20191026T185000
DTSTAMP:20260424T081904
CREATED:20191012T235105Z
LAST-MODIFIED:20191012T235105Z
UID:14901-1572110100-1572115800@barriefilmfestival.netgaindev.com
SUMMARY:David Crosby: Remember My Name - 5:15pm
DESCRIPTION:[fullwidth ] \n[col_one ] \n \nDavid Crosby: Remember My Name \nDirector: A.J. Eaton\nWith: David Crosby\, Jackson Browne\, Cameron Crowe\nDocumentary | PG for language\, drug material\, nudity and brief violence | 93 min. | USA \nClick Here to Buy Tickets \nSCREENING:\nSaturday\, October 19 – 3:30 pm\nSaturday\, October 26 – 5:15 pm \n  \n“Crosby presents a reflective\, irascible\, observant and irresistibly candid figure in a documentary that ostensibly chronicles one of his many comeback tours but becomes something far more introspective.” – Ann Homaday\, WASHINGTON POST \n“Rarely have we seen such an unvarnished\, unflattering and revealingly real portrait of a music star.” – Jon Bream\, Minneapolis Star Tribune \n  \nA triumph at Sundance\, this inspired collaboration between director A.J. Eaton and producer Cameron Crowe coaxes singer-songwriter Crosby – a member of three major groups in music history: The Byrds; Crosby\, Stills & Nash; and Crosby\, Stills\, Nash & Young – into unflinching candour as he confronts his mortality and assesses the damage of earlier days. At the same time\, his redemptive journey back to performing is universally inspiring and uplifting\, bearing an emotional impact that transcends the rock documentary genre. Taking viewers through soaring career highs\, along with the chemical variety that led to ravaging addictions and serious prison time\, this intimate cinematic portrait explodes myths and sheds profound new light on all the music\, politics\, and personalities encountered on his incredible — and ongoing — journey. \n  \n1 Win\, 2 Nominations: \nWon – Best Music Documentary\, Boulder International Film Festival\, 2019\nNominated – Best Documentary Film\, Santa Barbara International Film Festival\, 2019\nNominated – Grand Jury Prize Documentary\, Sundance Film Festival\, 2019 \n  \n[embed_video video_site=”youtube” video_url=”https://www.youtube.com/watch?v=RL7X4dysyVI” video_width=”640″ video_height=”360″ ] \n[/col_one] \n[/fullwidth]
URL:https://barriefilmfestival.netgaindev.com/now-playing/david-crosby-remember-my-name-515pm/
LOCATION:Annual Barrie Film Festival
END:VEVENT
BEGIN:VEVENT
DTSTART;TZID=America/Toronto:20191026T190000
DTEND;TZID=America/Toronto:20191026T205800
DTSTAMP:20260424T081904
CREATED:20191013T010856Z
LAST-MODIFIED:20191013T010856Z
UID:14913-1572116400-1572123480@barriefilmfestival.netgaindev.com
SUMMARY:In Fabric - 7:00pm
DESCRIPTION:[fullwidth ] \n[col_one ] \n \nIn Fabric\nWritten and Directed by: Peter Strickland\nCast: Hayley Squires\, Marianne Jean-Baptiste\, Leo Bill\, Julian Barratt\, Steve Oram and Gwendoline Christie\nComedy/Horror | 18A for strong sexual content including a scene of aberrant behaviour\, and some bloody images | 118 min. | English/French with English subtitles | United Kingdom \nClick Here to Buy Tickets \nSCREENING:\nSunday\, October 20 – 7:30 pm\nSaturday\, October 26 – 7:00 pm \n\n“Deliciously retro\, nastily funny\, but siding with those wrung out by the cycle of labor and consumption\, In Fabric deserves a spot next to Sorry to Bother You in the hall of great anti-capitalist comedies.”– Joule Zelman\, THE STRANGER (Seattle\, WA) \n“Glamorously surreal\, darkly funny\, and avidly maniacal\, this effort is uplifted by a turbulent and surprising finale.” – Filipe Freitas\, ALWAYS GOOD MOVIES \n  \nRecently separated from her husband\, a lonely woman (Marianne Jean-Baptiste)\, visits a bewitching London department store in search of a dress that will transform her life. She’s fitted with a perfectly flattering\, blood-red gown… which in time will come to unleash a malevolent curse of unstoppable evil threatening all who cross its path. From acclaimed horror director Peter Strickland (The Duke of Burgundy) comes a truly nightmarish film\, at turns frightening\, seductive\, and darkly humorous. Channeling voyeuristic fantasies of high fashion and bloodshed\, In Fabric is Strickland’s most twisted and brilliantly original vision yet. \n  \n8 WINS\, 13 NOMINATIONS:\nWON – Best Director\, Austin Fantastic Fest\, 2018\nWON – Best Narrative Feature\, Calgary Underground Film Festival\, 2019\nWON – Audience Award\, Cinetopia Film Festival\, 2019\nWON – International Fantasy Film Award\, Special Jury Prize\, Fantasporto\, 2019\nWON – 20 Minutes of Audacity Prize\, Best Cinematography\, Les Arcs European\nFilm Festival\, 2018\nNOMINATED – Best Feature Film\, Imagine Film Festival\, NL\, 2019\nNOMINATED – Best Films Opening 2019\, Indiewire Critics’ Poll\, 2018\nNOMINATED – Best Film\, London Film Festival\, 2018\nNOMINATED – People’s Choice Award\, Montréal Festival of New Cinema\, 2018 \n  \n[embed_video video_site=”youtube” video_url=”https://www.youtube.com/watch?v=xlfW6ZlrLHU” video_width=”640″ video_height=”360″ ] \n[/col_one] \n[/fullwidth]
URL:https://barriefilmfestival.netgaindev.com/now-playing/in-fabric-700pm/
LOCATION:Annual Barrie Film Festival
END:VEVENT
BEGIN:VEVENT
DTSTART;TZID=America/Toronto:20191026T191500
DTEND;TZID=America/Toronto:20191026T211600
DTSTAMP:20260424T081904
CREATED:20191013T030059Z
LAST-MODIFIED:20191013T030059Z
UID:14933-1572117300-1572124560@barriefilmfestival.netgaindev.com
SUMMARY:The Last Black Man in San Francisco - 7:15pm
DESCRIPTION:[fullwidth ] \n[col_one ] \n \nThe Last Black Man in San Francisco\nCo-written and Directed by: Joe Talbot\nCast: Jimmie Fails\, Jonathan Majors\, Finn Wittrock\, Tichina Arnold\, Mike Epps\, Danny Glover \nDrama | 14A for coarse language\, brief nudity and drug use | 121 min. | USA \nClick Here to Buy Tickets \nSCREENING:\nThursday\, October 24 – 7:00 pm\nSaturday\, October 26 – 7:15 pm \n\n  \n“The Last Black Man in San Francisco is a poetic and picturesque ode to the title city\, to friendship and to the universal urge to find a place to call home.” – Peter Howell\, Toronto Star \n  \n“The Last Black Man in San Francisco” is poignant filmmaking with an invigorating spirit.”– Adam Graham\, Detroit News \n  \n“There is something irrepressibly original and exciting in the collaboration that results between Talbot\, Fails and co-writer Rob Richert – a cinematic vision that feels as fresh as it does necessary.” – Barry Hertz\, Globe and Mail \n  \nJimmie Fails dreams of reclaiming the Victorian home his grandfather built in the heart of San Francisco. Joined on his quest by his best friend Mont\, Jimmie searches for belonging in a rapidly changing city that seems to have left them behind. As he struggles to reconnect with his family and reconstruct the community he longs for\, his hopes blind him to the reality of his situation. A wistful odyssey populated by skaters\, squatters\, street preachers\, playwrights\, and other locals on the margins\, The Last Black Man in San Francisco is a poignant and sweeping story of hometowns and how they’re made—and kept alive—by the people who love them. \n  \n2 WINS\, 3 NOMINATIONS:\nNOMINATED – Best Film\, Locarno International Film Festival\, 2019\nWON – Directing Award/U.S. Dramatic Special Jury Award\, Nominee – Grand Jury Prize/Dramatic\, Sundance Film Festival\, 2019\nNOMINATED – First Feature Competition\, London Film Festival\, 2019 \n  \n[embed_video video_site=”youtube” video_url=”https://www.youtube.com/watch?v=m6iCrYR8Z0E” video_width=”640″ video_height=”360″ ] \n[/col_one] \n[/fullwidth]
URL:https://barriefilmfestival.netgaindev.com/now-playing/the-last-black-man-in-san-francisco-715pm/
LOCATION:Annual Barrie Film Festival
END:VEVENT
BEGIN:VEVENT
DTSTART;TZID=America/Toronto:20191026T193000
DTEND;TZID=America/Toronto:20191026T212200
DTSTAMP:20260424T081904
CREATED:20191013T022019Z
LAST-MODIFIED:20191013T022019Z
UID:14925-1572118200-1572124920@barriefilmfestival.netgaindev.com
SUMMARY:Official Secrets - 7:30pm
DESCRIPTION:[fullwidth ] \n[col_one ] \n \nOfficial Secrets\nCo-written and Directed by: Gavin Hood\nCast: Keira Knightley\, Matthew Goode\, Rhys Ifans\, Matt Smith\, Ralph Fiennes\nThriller/Biography/Drama | PG for coarse language\, violence | 112 min. | United Kingdom/USA \nClick Here to Buy Tickets \nSCREENING:\nWednesday\, October 23 – 7:00 pm\nSaturday\, October 26 – 7:30 pm \n\n“A rock-solid docudrama.” – Chris Bumbray\, JoBlo’s Movie Emporium \n  \n“This sturdy\, entertaining political thriller pushes all the right buttons and triggers all the right outraged reactions.” – Tim Grierson\, Screen International \n  \nShe risked everything to stop an unjust war. Her government called her a traitor. Based on world-shaking true events\, Official Secrets tells the gripping story of Katharine Gun (Keira Knightley)\, a British intelligence specialist whose job involves routine handling of classified information. One day in 2003\, in the lead up to the Iraq War\, Gun receives a memo from the NSA with a shocking directive: the United States is enlisting Britain’s help in collecting compromising information on United Nations Security Council members in order to blackmail them into voting in favour of an invasion of Iraq. Unable to stand by and watch the world be rushed into an illegal war\, Gun makes the gut-wrenching decision to defy her government and leak the memo to the press. So begins an explosive chain of events that will ignite an international firestorm\, expose a vast political conspiracy\, and put Gun and her family directly in harm’s way. \n  \n2 WINS\, 2 NOMINATIONS:\nWON – Audience Award for Best Narrative Feature\, Provincetown International Film Festival\, 2019\nWON – Audience Award\, Best Foreign Fiction\, Traverse City Film Festival\, 2019\nNOMINATED – Best Film\, Seattle International Film Festival\, 2019\nNOMINATED – Art Cinema Award\, Best Narrative Feature\, Hamburg Film Festival\, 2019 \n  \nSponsored by: Park Place \n  \n[embed_video video_site=”youtube” video_url=”https://www.youtube.com/watch?v=pP4zhzIyTUA” video_width=”640″ video_height=”360″ ] \n[/col_one] \n[/fullwidth]
URL:https://barriefilmfestival.netgaindev.com/now-playing/official-secrets-730pm/
LOCATION:Annual Barrie Film Festival
END:VEVENT
END:VCALENDAR