BEGIN:VCALENDAR
VERSION:2.0
PRODID:-//Barrie Film Festival - ECPv6.7.0//NONSGML v1.0//EN
CALSCALE:GREGORIAN
METHOD:PUBLISH
X-WR-CALNAME:Barrie Film Festival
X-ORIGINAL-URL:https://barriefilmfestival.netgaindev.com
X-WR-CALDESC:Events for Barrie Film Festival
REFRESH-INTERVAL;VALUE=DURATION:PT1H
X-Robots-Tag:noindex
X-PUBLISHED-TTL:PT1H
BEGIN:VTIMEZONE
TZID:America/Toronto
BEGIN:DAYLIGHT
TZOFFSETFROM:-0500
TZOFFSETTO:-0400
TZNAME:EDT
DTSTART:20200308T070000
END:DAYLIGHT
BEGIN:STANDARD
TZOFFSETFROM:-0400
TZOFFSETTO:-0500
TZNAME:EST
DTSTART:20201101T060000
END:STANDARD
END:VTIMEZONE
BEGIN:VEVENT
DTSTART;TZID=America/Toronto:20200221T160000
DTEND;TZID=America/Toronto:20200221T160000
DTSTAMP:20260424T024442
CREATED:20200203T215408Z
LAST-MODIFIED:20200203T215408Z
UID:14960-1582300800-1582300800@barriefilmfestival.netgaindev.com
SUMMARY:The Cave - 4PM
DESCRIPTION:[col_one ] \n \nScreening:\nFriday\, February 21\, 2020 – 4:00 pm\nSunday\, February 23\, 2020 – 2:00 pm\nUptown Theatre\, 55 Dunlop St. W.\, Barrie \n  \nCo-written and Directed by: Feras Fayyad\nWith: Amani Ballour\, Salim Namour\nDocumentary 14A for disturbing war-related content and images\, 102 minutes\, Languages: English and Arabic with English subtitles\n(Syria/Denmark/Germany/USA/Qatar) \n  \n“A raw\, urgent film about one of the great humanitarian crimes of our times\, made all the starker for the utter lack of a global response.” – Christopher Machell\, CineVue \n  \n“It has abundant power and value.” – Tom Stone\, Sunday Times (UK) \n  \n“In the midst of this brutal war\, the compassion and bravery of those working at this underground hospital is inspiring. They are true heroes. This is a very powerful film\, made by a very brave and compassionate film crew.” – Robert Roten\, Laramie Movie Scope \n  \nOscar nominee Feras Fayyad (Last Men in Aleppo) delivers an unflinching story of the Syrian war with his powerful new documentary\, The Cave. For besieged civilians\, hope and safety lie underground inside the subterranean hospital known as the Cave\, where paediatrician and managing physician Dr. Amani Ballour and her colleagues Samaher and Dr. Alaa have claimed their right to work as equals alongside their male counterparts\, doing their jobs in a way that would be unthinkable in the oppressively patriarchal culture that exists above. Following the women as they contend with daily bombardments\, chronic supply shortages and the ever-present threat of chemical attacks\, The Cave paints a stirring portrait of courage\, resilience and female solidarity. \n  \nAWARDS: 11 wins and 17 nominations \nNominee\, Best Documentary Feature\, Academy Awards\, 2020\nWinner\, People’s Choice Award – Documentary\, Toronto International Film Festival\, 2019\nWinner\, Audience Award/Nominee\, Best Documentary Feature\, Camden International Film Festival\, 2019\nWinner\, The Unforgettables\, Cinema Eye Honors Awards\, US\, 2020\nWinner\, Cinematic Documentary Award\,Cork International Film Festival\, 2019 \n  \n[embed_video video_site=”youtube” video_url=”https://www.youtube.com/watch?v=TaZkwBWuN2A” video_width=”640″ video_height=”360″ ] \n  \nTickets are available online By Clicking Here\, or at the Uptown Theatre during the festival (Feb 20-23\, 2020). Box office opens 1 hour before showtime. \nReel Stories is sponsored by Busch Systems\, Digital Giants\, Michael & Marion’s\, Netgain\, Plumbtech Plumbing\, Stewart Esten LLP\, Ingrid and John Van Der Marel. \n[/col_one] \n 
URL:https://barriefilmfestival.netgaindev.com/now-playing/the-cave-4pm/
LOCATION:Annual Barrie Film Festival
END:VEVENT
BEGIN:VEVENT
DTSTART;TZID=America/Toronto:20200221T190000
DTEND;TZID=America/Toronto:20200221T190000
DTSTAMP:20260424T024442
CREATED:20200203T220351Z
LAST-MODIFIED:20200203T220351Z
UID:14961-1582311600-1582311600@barriefilmfestival.netgaindev.com
SUMMARY:Raise Hell: The Life and Times of Molly Ivins - 7PM
DESCRIPTION:[col_one ] \n \nScreening:\nFriday\, February 21\, 2020 – 7:00 pm\nSunday\, February 23\, 2020 – 12:00 pm\nUptown Theatre\, 55 Dunlop St. W.\, Barrie \n  \nCo-written and Directed by: Janice Engel\nWith: Harold Cook\, Jim Hightower\, Andy Ivins\nDocumentary\, PG for coarse language\, violence\, 93 minutes (USA) \n  \n“With free speech under attack\, and truth-telling seemingly in short supply\, “Raise Hell” offers an entertaining and bracing look at one of journalism’s least punch-pulling practitioners.” – Michael O’Sullivan\, Washington Post \n  \nRAISE HELL: THE LIFE & TIMES OF MOLLY IVINS tells the story of media firebrand Molly Ivins\, six feet of Texas trouble who took on Good Old Boy corruption wherever she found it. Her razor sharp wit left both sides of the aisle laughing\, and craving ink in her columns. She knew the Bill of Rights was in peril\, and said “Polarizing people is a good way to win an election and a good way to wreck a country.” Molly’s words have proved prescient. Now it’s up to us to raise hell! \n  \nAWARDS: 4 Wins\, 1 Nomination\nWinner\, Best Documentary\, Film Club’s The Lost Weekend\, 2019\nWinner\, Women in Film Award\, Milwaukee Film Festival\, 2019\nWinner\, Audience Choice Award\, Minneapolis St. Paul International Film Festival\, 2019\nNominee\, Best Documentary\, Seattle International Film Festival\, 2019\nWinner\, Audience Award\, Festival Favourites\, SXSW Film Festival\, 2019 \n  \n[embed_video video_site=”youtube” video_url=”https://www.youtube.com/watch?v=fh4RTjYd-Yg” video_width=”640″ video_height=”360″ ] \n  \nTickets are available online By Clicking Here\, or at the Uptown Theatre during the festival (Feb 20-23\, 2020). Box office opens 1 hour before showtime. \nReel Stories is sponsored by Busch Systems\, Digital Giants\, Michael & Marion’s\, Netgain\, Plumbtech Plumbing\, Stewart Esten LLP\, Ingrid and John Van Der Marel. \n[/col_one] \n 
URL:https://barriefilmfestival.netgaindev.com/now-playing/raise-hell-7pm/
LOCATION:Annual Barrie Film Festival
END:VEVENT
END:VCALENDAR