BEGIN:VCALENDAR
VERSION:2.0
PRODID:-//Barrie Film Festival - ECPv6.7.0//NONSGML v1.0//EN
CALSCALE:GREGORIAN
METHOD:PUBLISH
X-WR-CALNAME:Barrie Film Festival
X-ORIGINAL-URL:https://barriefilmfestival.netgaindev.com
X-WR-CALDESC:Events for Barrie Film Festival
REFRESH-INTERVAL;VALUE=DURATION:PT1H
X-Robots-Tag:noindex
X-PUBLISHED-TTL:PT1H
BEGIN:VTIMEZONE
TZID:America/Toronto
BEGIN:DAYLIGHT
TZOFFSETFROM:-0500
TZOFFSETTO:-0400
TZNAME:EDT
DTSTART:20200308T070000
END:DAYLIGHT
BEGIN:STANDARD
TZOFFSETFROM:-0400
TZOFFSETTO:-0500
TZNAME:EST
DTSTART:20201101T060000
END:STANDARD
END:VTIMEZONE
BEGIN:VEVENT
DTSTART;TZID=America/Toronto:20200222T120000
DTEND;TZID=America/Toronto:20200222T120000
DTSTAMP:20260424T024441
CREATED:20200203T214906Z
LAST-MODIFIED:20200203T214906Z
UID:14959-1582372800-1582372800@barriefilmfestival.netgaindev.com
SUMMARY:Honeyland - 12PM
DESCRIPTION:[col_one ] \n \nScreening:\nThursday\, February 20\, 2020 – 4:00 pm\nSaturday\, February 22\, 2020 – 12:00 pm\nUptown Theatre\, 55 Dunlop St. W.\, Barrie \n  \nDirectors: Ljubomir Stefanov\, Tamara Kotevska\nWith: Hatidze Muratova\, Nazife Muratova\, Hussein Sam\, Ljutvie Sam\nDocumentary\, PG for some coarse language\, 85 min.\, Languages: Turkish with English subtitles (Macedonia) \n  \n“Honeyland really is a miraculous feat\, shot over three years as if by invisible camera – not a single furtive glance is directed towards the film-makers.”– Cath Clarke\, Guardian \n  \n“One of the most visually beautiful\, even exhilarating movies of 2019.” – Tim Brayton\, Alternate Ending \n  \n“This is one of the best movies of the year… Over and over again while I was watching it\, I was asking myself “How did they get that shot?”…” – Christy Lemire\, FilmWeek\, NPR LA \n  \nNestled in an isolated mountain region deep within the Balkans\, Hatidze Muratova lives with her ailing mother in a village without roads\, electricity or running water. She’s the last in a long line of wild beekeepers\, eking out a living farming honey in small batches to be sold in the closest city – a mere four hours walk away. Hatidze’s peaceful existence is thrown into upheaval by the arrival of an itinerant family\, with their roaring engines\, seven rambunctious children and herd of cattle. Hatidze optimistically meets the promise of change with an open heart\, it doesn’t take long however\, before a conflict evolves that exposes the fundamental tension between nature and humanity\, harmony and discord\, exploitation and sustainability. \n  \nAwards: 31 wins\, 43 nominations \nNominee\, Best Documentary Feature/Best International Feature Film\, Academy Awards\, 2020\nWinner\, World Cinema Documentary/Cinematography Award\, Sundance Film Festival\, 2019\nNominee\, Best Documentary Feature Film\, Alliance of Women Film Journalists\, 2020\nWinner\, Best Documentary\, Boston Society of Film Critics Awards\, 2019\nNominee\, Best Documentary\, Chicago Film Critics Association Awards\, 2019\nWinner\, Most Compelling Living Subject of a Documentary\, Critics’ Choice Documentary Awards\, 2019\nNominee\, European Documentary\, European Film Awards\, 2019\nWinner\, Bet Cinematography/Nominee Best Director and Best Feature\, International Documentary Association\, 2019 \n  \n[embed_video video_site=”youtube” video_url=”https://www.youtube.com/watch?v=B27ORUHlp6E” video_width=”640″ video_height=”360″ ] \n  \nTickets are available online By Clicking Here\, or at the Uptown Theatre during the festival (Feb 20-23\, 2020). Box office opens 1 hour before showtime. \nReel Stories is sponsored by Busch Systems\, Digital Giants\, Michael & Marion’s\, Netgain\, Plumbtech Plumbing\, Stewart Esten LLP\, Ingrid and John Van Der Marel. \n  \n[/col_one]
URL:https://barriefilmfestival.netgaindev.com/now-playing/honeyland-12pm/
LOCATION:Annual Barrie Film Festival
END:VEVENT
BEGIN:VEVENT
DTSTART;TZID=America/Toronto:20200222T140000
DTEND;TZID=America/Toronto:20200222T140000
DTSTAMP:20260424T024441
CREATED:20200203T221234Z
LAST-MODIFIED:20200203T221234Z
UID:14963-1582380000-1582380000@barriefilmfestival.netgaindev.com
SUMMARY:This is Not a Movie - 2PM
DESCRIPTION:[col_one ] \n \nScreening:\nSaturday\, February 22\, 2020 – 2:00 pm\nUptown Theatre\, 55 Dunlop St. W.\, Barrie \n  \nCo-written and Directed by: Yung Chang\nWith: Robert Fisk\, Amira Hass\nDocumentary\, Not Rated – disturbing war-related content and images\, viewer discretion is advised\, 106 minutes\, Language: English/Arabic/English subtitles (Canada/Germany) \n  \n“Yung Chang’s documentary about British journalist Robert Fisk is complex and cinematic.” – Norman Wilner\, NOW Toronto \n  \n“It’s not just journalists\, especially print warhorses\, who will enjoy this account\, but also the others who have no idea what it takes to be a newsperson who has dedicated his or her life to the reporting of truth as they see it.” – Shubhra Gupta\, The Indian Express \n  \nFor more than 40 years\, journalist Robert Fisk has reported on some of the most violent and divisive conflicts in the world. Yung Chang’s This Is Not a Movie captures Fisk in action—feet on the ground\, notebook in hand\, as he travels into landscapes devastated by war\, ferreting out the facts and firing reports back home to reach an audience of millions. The process of translating raw experience into incisive and passionate dispatches requires the determination to see things first-hand and the tenacity to say what others won’t. In his relentless pursuit of the facts\, Fisk has attracted his share of controversy. But in spite of the danger\, he has continued to cover stories as they unfold\, talking directly to the people involved. In an era of fake news\, when journalists are dubbed “the enemies of the people\,” Fisk’s resolve to document reality has become an obsessive war to speak the truth. \n  \nAWARDS:\nNominee\, Best Canadian Feature Film\, Toronto International Film Festival\, 2019 \n  \n[embed_video video_site=”vimeo” video_url=”https://vimeo.com/374253247″ video_width=”640″ video_height=”360″ ] \n  \nTickets are available online By Clicking Here\, or at the Uptown Theatre during the festival (Feb 20-23\, 2020). Box office opens 1 hour before showtime. \nReel Stories is sponsored by Busch Systems\, Digital Giants\, Michael & Marion’s\, Netgain\, Plumbtech Plumbing\, Stewart Esten LLP\, Ingrid and John Van Der Marel. \n[/col_one] \n 
URL:https://barriefilmfestival.netgaindev.com/now-playing/this-is-not-a-movie-2pm/
LOCATION:Annual Barrie Film Festival
END:VEVENT
BEGIN:VEVENT
DTSTART;TZID=America/Toronto:20200222T163000
DTEND;TZID=America/Toronto:20200222T163000
DTSTAMP:20260424T024441
CREATED:20200203T221616Z
LAST-MODIFIED:20200203T221616Z
UID:14964-1582389000-1582389000@barriefilmfestival.netgaindev.com
SUMMARY:Maxima - 4:30PM
DESCRIPTION:[col_one ] \n \nScreening:\nSaturday\, February 22\, 2020 – 4:30 pm\nUptown Theatre\, 55 Dunlop St. W.\, Barrie \n  \nDirector: Claudia Sparrow\nWith: Máxima Acuña\, Mirtha Vasquez\, Maryum Jordan\nDocumentary\, 14A for mature content\, 88 minutes\, Language: Spanish with English subtitles (USA) \n  \n“Director Sparrow stays unflinchingly focused on the struggle between the two sides\, ratcheting up suspense over a tight run time.” – Chaka V. Grier\, NOW Toronto \n  \n“Sparrow never takes her eyes off Máxima’s tremendous story. It’s the right choice.” – Andrew Parker\, The Gate \n  \nA multi-billion dollar corporation meets their match in a fearless Indigenous woman who remains uncowed after years of violent intimidation. From Executive Producer Lesley Chilcott (An Inconvenient Truth) and director Claudia Sparrow comes the incredible true story of an illiterate Peruvian farmer (Máxima Acuña) who stood up to one of the largest gold-mining companies in the world and triumphed. MAXIMA tracks the journey from the Peruvian Andes all the way through the Peruvian Supreme Court to the door of the World Bank in Washington D.C. as Máxima Acuña fights for justice and to protect the land\, the water supply and the indigenous people from environmental destruction at American hands. \n  \n  \nAWARDS: 5 Wins\, 1 Nomination \nWinner\, Audience Award\, Best Documentary\, Hot Docs Canadian International Documentary Festival\, 2019\nWinner\, Audience Award\, Best National Film\, Lima Latin American Film Festival\, 2019\nWinner\, Audience Award\, Patagonia ECO Film Festival\, 2019\nWinner\, Best Film\, Patagonia ECO Film Festival\, 2019\nWinner\, Jury Award\, Honorable Mention\, Woodstock Film Festival\, 2019\nNominee\, Grand Jury Prize\, Best Documentary Feature\, Slamdance Film Festival\, 2020 \n  \n[embed_video video_site=”vimeo” video_url=”https://vimeo.com/331537356″ video_width=”640″ video_height=”360″ ] \n  \nTickets are available online By Clicking Here\, or at the Uptown Theatre during the festival (Feb 20-23\, 2020). Box office opens 1 hour before showtime. \nReel Stories is sponsored by Busch Systems\, Digital Giants\, Michael & Marion’s\, Netgain\, Plumbtech Plumbing\, Stewart Esten LLP\, Ingrid and John Van Der Marel. \n[/col_one] \n 
URL:https://barriefilmfestival.netgaindev.com/now-playing/maxima-430pm/
LOCATION:Annual Barrie Film Festival
END:VEVENT
BEGIN:VEVENT
DTSTART;TZID=America/Toronto:20200222T183000
DTEND;TZID=America/Toronto:20200222T183000
DTSTAMP:20260424T024441
CREATED:20200203T222002Z
LAST-MODIFIED:20200203T222002Z
UID:14965-1582396200-1582396200@barriefilmfestival.netgaindev.com
SUMMARY:Push - 6:30PM
DESCRIPTION:[col_one ] \n \nScreening:\nSaturday\, February 22\, 2020 – 6:30 pm\nUptown Theatre\, 55 Dunlop St. W.\, Barrie \n  \nWritten and Directed by: Fredrik Gertten\nWith: Leilani Farha\, Saskia Sassen\, Joseph Stiglitz\, Roberto Saviano\nDocumentary/Comedy\, PG\, 92 minutes\, Languages: English/ Spanish/German/ Italian/Korean/French/English subtitles (Sweden/Canada/United Kingdom) \n  \n“Fredrik Gertten’s lively\, approachable documentary on the global housing crisis should leave audiences feeling engaged\, enraged and with plenty to discuss afterwards…Potentially depressing material is handled with a light touch and a welcome edge of humour.” – Allan Hunter\, Screen Daily.\n \n  \nHousing prices are skyrocketing in cities around the world. Incomes are not. PUSH sheds light on a new kind of faceless landlord\, our increasingly unliveable cities and an escalating crisis that has an effect on us all. This is not gentrification\, it’s a different kind of monster. The film follows Leilani Farha\, the UN Special Rapporteur on Adequate Housing\, as she’s travelling the globe\, trying to understand who’s being pushed out of the city and why. “I believe there’s a huge difference between housing as a commodity and gold as a commodity. Gold is not a human right\, housing is\,” says Leilani. \n  \nAWARDS: 7 Wins\nWinner\, Audience Award\, CPH:DOX\, Denmark\, 2019 \n  \n[embed_video video_site=”vimeo” video_url=”https://vimeo.com/363883403″ video_width=”640″ video_height=”360″ ] \n  \nTickets are available online By Clicking Here\, or at the Uptown Theatre during the festival (Feb 20-23\, 2020). Box office opens 1 hour before showtime. \nReel Stories is sponsored by Busch Systems\, Digital Giants\, Michael & Marion’s\, Netgain\, Plumbtech Plumbing\, Stewart Esten LLP\, Ingrid and John Van Der Marel. \n[/col_one] \n 
URL:https://barriefilmfestival.netgaindev.com/now-playing/push-630pm/
LOCATION:Annual Barrie Film Festival
END:VEVENT
BEGIN:VEVENT
DTSTART;TZID=America/Toronto:20200222T203000
DTEND;TZID=America/Toronto:20200222T203000
DTSTAMP:20260424T024441
CREATED:20200203T215045Z
LAST-MODIFIED:20200203T215045Z
UID:6825-1582403400-1582403400@barriefilmfestival.netgaindev.com
SUMMARY:Into the Canyon - 8:30pm
DESCRIPTION:[col_one ] \n \nScreening:\nThursday\, February 20\, 2020 – 7:00 pm\nSaturday\, February 22\, 2020 – 8:30 pm\nUptown Theatre\, 55 Dunlop St. W.\, Barrie \n  \nDirector: Peter McBride\nWith: Kevin Fedarko and Peter McBride\nDocumentary\, PG\, 84 minutes (USA) \n  \nIn 2016 filmmaker/photographer Pete McBride and writer Kevin Fedarko set out on a 750-mile journey on foot through the entire length of the Grand Canyon. From the outset\, the challenge was far more than they bargained for. More people have stood on the moon than have completed a continuous through hike of the Canyon. McBride and Fedarko took a sectional approach\, achieving a feat that many adventurers have taken decades to complete. Others have lost their lives trying. But their quest was more than just an endurance test – it was also a way to draw attention to the unprecedented threats facing one of our most revered landscapes. \n  \nAwards:\nWinner\, Best Feature-Length Mountain Film\, Banff Mountain Film Festival\, 2019 \n  \n[embed_video video_site=”vimeo” video_url=”https://vimeo.com/255637699″ video_width=”640″ video_height=”360″ ] \n  \nTickets are available online By Clicking Here\, or at the Uptown Theatre during the festival (Feb 20-23\, 2020). Box office opens 1 hour before showtime. \nReel Stories is sponsored by Busch Systems\, Digital Giants\, Michael & Marion’s\, Netgain\, Plumbtech Plumbing\, Stewart Esten LLP\, Ingrid and John Van Der Marel. \n[/col_one] \n 
URL:https://barriefilmfestival.netgaindev.com/now-playing/into-the-canyon-830pm/
LOCATION:Annual Barrie Film Festival
END:VEVENT
END:VCALENDAR