BEGIN:VCALENDAR
VERSION:2.0
PRODID:-//Barrie Film Festival - ECPv6.7.0//NONSGML v1.0//EN
CALSCALE:GREGORIAN
METHOD:PUBLISH
X-ORIGINAL-URL:https://barriefilmfestival.netgaindev.com
X-WR-CALDESC:Events for Barrie Film Festival
REFRESH-INTERVAL;VALUE=DURATION:PT1H
X-Robots-Tag:noindex
X-PUBLISHED-TTL:PT1H
BEGIN:VTIMEZONE
TZID:America/Toronto
BEGIN:DAYLIGHT
TZOFFSETFROM:-0500
TZOFFSETTO:-0400
TZNAME:EDT
DTSTART:20210314T070000
END:DAYLIGHT
BEGIN:STANDARD
TZOFFSETFROM:-0400
TZOFFSETTO:-0500
TZNAME:EST
DTSTART:20211107T060000
END:STANDARD
END:VTIMEZONE
BEGIN:VEVENT
DTSTART;VALUE=DATE:20210923
DTEND;VALUE=DATE:20211004
DTSTAMP:20260422T223006
CREATED:20210828T142225Z
LAST-MODIFIED:20210828T142225Z
UID:8618-1632355200-1633305599@barriefilmfestival.netgaindev.com
SUMMARY:24th Annual Barrie Film Festival
DESCRIPTION:[fullwidth ] \n[col_one ] \n \nThe 24th Annual Barrie Film Festival will return with a hybrid event offering a combination of in-person and online screenings starting September 23\, 2021. \nSeptember 23 – October 3\, 2021\nSept 23 to 26 – DRIVE-IN\nSept 27 to Oct 3 – VIRTUAL\nSept 30 – IN-PERSON at Galaxy (Commerce Park);  followed by a Post-screening Gathering at Kenzington Burger Bar (Bryne Dr.) \n\n[/col_one] \n[col_one_half ] \n \n[/col_one_half] \n[col_one_half ] \n \n[col_one ] \n[/col_one_half] \n[col_one ] \n[/col_one] \n[col_one_half ] \n \n[/col_one_half] \n[col_one_half ] \n \n[/col_one_half] \n[col_one ] \n  \nA big thank you to our funders and sponsors for their support:\n\n \nProducer Level: \n \n\nDirector Level: \n \n\nActor Level: \n \n\nFilm Level: \n \n\n \n[col_one ] \n[/col_one] \n[/fullwidth]
URL:https://barriefilmfestival.netgaindev.com/now-playing/24th-annual-barrie-film-festival/
LOCATION:ON
END:VEVENT
BEGIN:VEVENT
DTSTART;TZID=America/Toronto:20210923T200000
DTEND;TZID=America/Toronto:20210923T223000
DTSTAMP:20260422T223006
CREATED:20210828T140852Z
LAST-MODIFIED:20210828T140852Z
UID:8611-1632427200-1632436200@barriefilmfestival.netgaindev.com
SUMMARY:BEST SELLERS - Sunset Drive-In
DESCRIPTION:Festival Opener: BEST SELLERS\n \nThursday\, September 23\, 2021\nSunset Barrie Drive-In\, starts at dusk\, rain or shine\n\n\nTICKETS ARE AVAILABLE THROUGH SUNSET BARRIE\nTickets are sold by car. Adults $13\n\n[maxbutton id=”9″ ] \n  \nA film by Lina Roessler\nDrama/Comedy | 100 min. | Canada/USA | 2021 \nStarring: Michael Caine\, Aubrey Plaza\, Scott Speedman\, Cary Elwes\, Ellen Wong \n  \nCLICK HERE to watch the trailer\n  \nLucy Stanbridge (Aubrey Plaza) has inherited her father’s boutique publishing house\, and the ambitious would-be editor has nearly sunk it with failing YA titles and bad reviews. \nWhen she discovers the company is owed a book by Harris Shaw (Michael Caine)\, a reclusive\, cantankerous\, booze-addled author who originally put the company on the map\, she looks to him for one last stab at salvation\, both commercial and critical. \nHer timing couldn’t be more perfect. Harris owes money and he happens to have a new book – which he hates. Lucy’s ecstatic until she finds out Harris’s old contract stipulates that no one edit his work. However\, in exchange\, he must tour the book. \nAnd so is born the book tour from hell – where fame doesn’t equal fortune. \n  \n\nFor COVD-19 Protocols at Sunset Barrie CLICK HERE \nIn-person: Thursday\, September 23\, 2021\, Sunset Barrie Drive-In\nOnline: September 27-October 3\, 2021 – through our  VIRTUAL EVENTS\nThe 24th Annual Barrie Film Festival runs September 23 – October 3\, 2021 with a combination of in-person and online screenings. CLICK HERE to return to main page.
URL:https://barriefilmfestival.netgaindev.com/now-playing/best-sellers-sunset-drive-in/
LOCATION:Sunset Barrie Drive-in\, 134 Line 4 South\, Oro-Medonte\, Ontario\, L0L 2L0\, Canada
END:VEVENT
END:VCALENDAR