BEGIN:VCALENDAR
VERSION:2.0
PRODID:-//Barrie Film Festival - ECPv6.7.0//NONSGML v1.0//EN
CALSCALE:GREGORIAN
METHOD:PUBLISH
X-WR-CALNAME:Barrie Film Festival
X-ORIGINAL-URL:https://barriefilmfestival.netgaindev.com
X-WR-CALDESC:Events for Barrie Film Festival
REFRESH-INTERVAL;VALUE=DURATION:PT1H
X-Robots-Tag:noindex
X-PUBLISHED-TTL:PT1H
BEGIN:VTIMEZONE
TZID:America/Toronto
BEGIN:DAYLIGHT
TZOFFSETFROM:-0500
TZOFFSETTO:-0400
TZNAME:EDT
DTSTART:20220313T070000
END:DAYLIGHT
BEGIN:STANDARD
TZOFFSETFROM:-0400
TZOFFSETTO:-0500
TZNAME:EST
DTSTART:20221106T060000
END:STANDARD
END:VTIMEZONE
BEGIN:VEVENT
DTSTART;VALUE=DATE:20220324
DTEND;VALUE=DATE:20220328
DTSTAMP:20260422T131725
CREATED:20220103T223627Z
LAST-MODIFIED:20220103T223627Z
UID:9113-1648080000-1648425599@barriefilmfestival.netgaindev.com
SUMMARY:REEL STORIES - Galaxy Cinemas
DESCRIPTION:Galaxy Cinemas\, 72 Commerce Park Dr\, Barrie\, ON L4N 8W8\nWe are pleased to announce that the 18th edition of Reel Stories will be returning to the big screen! Discover extraordinary things about the world from this thought-provoking film festival which includes documentaries and dramas inspired by true events and real people – enjoy your four-day film adventure! \nTickets are $8 Senior/Student and $10 Adult\, plus service fees. \nWe encourage you to purchase your tickets online in advance. All screenings are in-person and reserved seating. The system will add one empty seat on each side of your ticket order\, so if you are planning to sit next to another individual at the same screening\,  you will need to purchase their seats at the same time. \nSEATING CHART COLOURS: bright yellow are empty seats; orange and dark gray seats are sold. \nClick the “Film Listing” button below for more information on the 9 official selections as well as ticket purchase links.\n[maxbutton id=”17″ ] \n  \nFor the venue’s most up to date COVID-19 protocols\, please see their health and safety page. \n\n  \n \n \n  \n\n \n 
URL:https://barriefilmfestival.netgaindev.com/now-playing/reel-stories-2/
LOCATION:Galaxy Cinemas Barrie\, 72 Commerce Park Dr\, Barrie\, ON L4N 8W8\, 72 Commerce Park Drive\, Barrie\, Ontario\, L4N 8W8\, Canada
END:VEVENT
BEGIN:VEVENT
DTSTART;TZID=America/Toronto:20220324T160000
DTEND;TZID=America/Toronto:20220324T160000
DTSTAMP:20260422T131725
CREATED:20220307T182418Z
LAST-MODIFIED:20220307T182418Z
UID:9238-1648137600-1648137600@barriefilmfestival.netgaindev.com
SUMMARY:JULIA - Galaxy Cinemas
DESCRIPTION:Thu\, Mar 24 – 4:00 PM; and\nSun\, Mar 27 – 8:15 PM\nGalaxy Cinemas Barrie\, 72 Commerce Park Dr\, Barrie\, ON L4N 8W8\nTickets are $8 Senior/Student and $10 Adult\, plus service fees.\n \n[maxbutton id=”19″ ] \n  \nDirected by: Betsy West\, Julie Cohen\nDocumentary\, PG – nudity\, coarse language\, 95 min.\, (USA) \nCLICK HERE for the trailer \n  \nJULIA brings to life the legendary cookbook author and television superstar who changed the way Americans think about food\, television\, and even about women. Using never-before-seen archival footage\, personal photos\, first-person narratives\, and cutting-edge\, mouth-watering food cinematography\, the film traces Julia Child’s 12 year struggle to create and publish the revolutionary Mastering the Art of French Cooking (1961) which has sold more than 2.5 million copies to date\, and her rapid ascent to become the country’s most unlikely television star. It’s the empowering story of a woman who found her purpose – and her fame – at 50\, and took America along on the whole delicious journey. \nBetsy West and Julie Cohen — director-producers of 2018’s Academy Award-nominated\, Emmy-winning documentary RBG — reveal in the evocative and entertaining documentary JULIA\, the path that led Child from a well-to-do childhood in Pasadena to fame was a distinctive and fascinating journey. \n  \nAwards: 11 nominations:\nNominated – Best Documentary\, AARP Movies for Grownups Awards\, 2022\nNominated – Best Documentary\, Alliance of Women Film Journalists\, 2022\nNominated – Audience Choice and Outstanding Musical Score\, Cinema Eye Honors Awards\, 2022\nNominated – Best Score and Best Historical/Biographical Documentary\, Critics’ Choice Documentary Awards\, 2021\nNominated – Best Original Score\, Hollywood Music in Media Awards\, 2021\nNominated – Best Original Score\, International Film Music Critics Awards\, 2022\nNominated – Best Documentary\, Online Association of Female Film Critics\, 2021\nNominated – Best Documentary\, Satellite Awards\, 2022\nNominated – Outstanding Original Score for an Independent Film\, Society of Composers and Lyricists Awards\, 2022 \n  \nFunded by: City of Barrie\, Ontario Trillium Foundation and Telefilm Canada \nSponsored by: Busch Systems\, Digital Giants\, Lehman & Associates\, Netgain\, Plumbtech Plumbing Inc.\, Sigma Engagement Systems\, and Venable Park Investment Council Inc. \n 
URL:https://barriefilmfestival.netgaindev.com/now-playing/julia-galaxy-cinemas/
LOCATION:Galaxy Cinemas Barrie\, 72 Commerce Park Dr\, Barrie\, ON L4N 8W8\, 72 Commerce Park Drive\, Barrie\, Ontario\, L4N 8W8\, Canada
END:VEVENT
BEGIN:VEVENT
DTSTART;TZID=America/Toronto:20220324T190000
DTEND;TZID=America/Toronto:20220324T190000
DTSTAMP:20260422T131725
CREATED:20220307T183047Z
LAST-MODIFIED:20220307T183047Z
UID:9252-1648148400-1648148400@barriefilmfestival.netgaindev.com
SUMMARY:PEACE BY CHOCOLATE - Galaxy Cinemas
DESCRIPTION:Screening: Thu\, Mar 24 – 7:00 PM;\nand also Sat\, Mar 26 – 3:15 PM\nGalaxy Cinemas Barrie\, 72 Commerce Park Dr\, Barrie\, ON L4N 8W8\nTickets are $8 Senior/Student and $10 Adult\, plus service fees.\n \n[maxbutton id=”20″ ] \n  \nCo-written and Directed by: Jonathan Keijser\nDrama/Comedy\, Not rated – suitable for all audiences\, 96 min.\, English and Arabic with English subtitles (Canada) \nCLICK HERE to view the Trailer \n“A wonderfully made\, beautifully acted\, and completely engaging film.” – Richard Propes\, TheIndependentCritic.com \nAfter the bombing of his family’s chocolate factory\, Tareq Hadhad\, a charming young Syrian refugee\, struggles to settle into small-town life in Antigonish\, Nova Scotia. Despite moving to a new country\, he’s intent on pursuing his dream to become a doctor. But when his father\, Issam\, insists that he must focus on survival\, Tareq and his family move towards a different\, but familiar path: Rebuilding Issam’s chocolate business. When what seemed like a nostalgic attempt to cling onto remnants of an old life past becomes an overnight sensation\, Tareq is shocked. Put in the role of business manager\, he must choose between the demands of an exponentially growing business and an offer to go back to medical school. New challenges arise between a rival chocolatier while the heartbreak of Tareq’s sister left behind in Syria weighs heavily on the family. Nevertheless\, Tareq remains set on his goals\, buoyed by a supportive community of eclectics. As father and son both struggle to find common ground and navigate the complexities of family duty\, the heightening tension between them threatens to tear the family apart. Based on the internationally recognized true story. \nAwards:\nWinner – Jury Award\, Cordillera International Film Festival\, 2021\nWinner – Audience Choice Award\, Heartland International Film Festival\, 2021\nWinner – Jury Award\, Best Feature\, Lavazza Italian Contemporary Film Festival\, 2021\nWinner – Jury Prize\, Loudoun Arts Film Festival\, 2021\nWinner – Audience Award\, Naples International Film Festival\, 2021\nWinner – Jury Award\, Port Townsend Film Festival\, 2021\nWinner – Jury Award\, Scottsdale International Film Festival\, 2021\nWinner – Audience Award\, Woods Hole Film Festival\, 2021\nWinner – Jury Award\, Best Feature\, Toronto Food Film Festival\, 2021\nWinner – Jury Award\, Best Feature Drama\, Sedona Film Festival\, 2022 \n  \nFunded by: City of Barrie\, Ontario Trillium Foundation and Telefilm Canada  \nSponsored by: Busch Systems\, Digital Giants\, Lehman & Associates\, Netgain\, Plumbtech Plumbing Inc.\, Sigma Engagement Systems\, and Venable Park Investment Council Inc.
URL:https://barriefilmfestival.netgaindev.com/now-playing/peace-by-chocolate-galaxy-cinemas/
LOCATION:Galaxy Cinemas Barrie\, 72 Commerce Park Dr\, Barrie\, ON L4N 8W8\, 72 Commerce Park Drive\, Barrie\, Ontario\, L4N 8W8\, Canada
END:VEVENT
BEGIN:VEVENT
DTSTART;TZID=America/Toronto:20220324T211500
DTEND;TZID=America/Toronto:20220324T211500
DTSTAMP:20260422T131725
CREATED:20220308T205927Z
LAST-MODIFIED:20220308T205927Z
UID:9304-1648156500-1648156500@barriefilmfestival.netgaindev.com
SUMMARY:SANCTITY OF SPACE - Galaxy Cinemas
DESCRIPTION:Screening: Thu\, Mar 24 – 9:15 PM;\nand also Fri\, Mar 25 – 7:00 PM\nGalaxy Cinemas Barrie\, 72 Commerce Park Dr\, Barrie\, ON L4N 8W8\nTickets are $8 Senior/Student and $10 Adult\, plus service fees. \n[maxbutton id=”23″ ] \n  \nDirected by: Renan Ozturk and Freddie Wilkinson\nFeaturing: Renan Ozturk\, Freddie Wilkinson\, Zach Smith\nDocumentary/Adventure\, Not Rated – coarse language\, intense scenes\, 102 min.\, (USA) \n  \nCLICK HERE to view the trailer\n \n  \n“In the face of global climate change\, these images of the glacial otherworldliness of Alaska carry a wistful splendour and a bittersweet urgency.” – Craig Fedirighi\, vervetimes.com \n  \nBrad Washburn was the greatest aerial mountain photographer of all time. Hanging out the open door of an airplane\, he flew above unmapped mountain ranges – capturing iconic images with which he could make maps\, pursue scientific inquiries\, discover first ascents\, and inspire people. More than eighty years after Washburn first photographed Denali from the air\, climbing buddies Renan Ozturk (MERU) and Freddie Wilkinson look at some of Washburn’s images and have this crazy idea: rather than go up\, their dream is to go sideways — across the range’s most forbidding peaks\, the Mooses Tooth massif. It’s a decidedly new way to explore the same landscape Washburn first discovered. As they pioneer the route over the course of two expeditions\, enduring freezing bivies\, cut ropes\, and rock fall along the way\, their desire to be the first to complete the audacious line grows into an obsession. While the climbing action unfolds\, Washburn’s own incredible story comes to life through stunning archival footage and recreations. Filmed over a period of five years\, THE SANCTITY OF SPACE brings together visual elements of the highest order – from Washburn and Adams’s stunning large format black and white photographs to state-of-the-art helicopter cinematography to space photography – with an unforgettable story spanning generations. It’s both a white-knuckle adventure tale\, and a celebration of the spirit of exploration. \n  \nFunded by: City of Barrie\, Ontario Trillium Foundation and Telefilm Canada \nSponsored by: Busch Systems\, Digital Giants\, Lehman & Associates\, Netgain\, Plumbtech Plumbing Inc.\, Sigma Engagement Systems\, and Venable Park Investment Council Inc.
URL:https://barriefilmfestival.netgaindev.com/now-playing/sanctity-of-space-galaxy-cinemas/
LOCATION:Galaxy Cinemas Barrie\, 72 Commerce Park Dr\, Barrie\, ON L4N 8W8\, 72 Commerce Park Drive\, Barrie\, Ontario\, L4N 8W8\, Canada
END:VEVENT
END:VCALENDAR