BEGIN:VCALENDAR
VERSION:2.0
PRODID:-//Barrie Film Festival - ECPv6.7.0//NONSGML v1.0//EN
CALSCALE:GREGORIAN
METHOD:PUBLISH
X-ORIGINAL-URL:https://barriefilmfestival.netgaindev.com
X-WR-CALDESC:Events for Barrie Film Festival
REFRESH-INTERVAL;VALUE=DURATION:PT1H
X-Robots-Tag:noindex
X-PUBLISHED-TTL:PT1H
BEGIN:VTIMEZONE
TZID:America/Toronto
BEGIN:DAYLIGHT
TZOFFSETFROM:-0500
TZOFFSETTO:-0400
TZNAME:EDT
DTSTART:20220313T070000
END:DAYLIGHT
BEGIN:STANDARD
TZOFFSETFROM:-0400
TZOFFSETTO:-0500
TZNAME:EST
DTSTART:20221106T060000
END:STANDARD
END:VTIMEZONE
BEGIN:VEVENT
DTSTART;VALUE=DATE:20220324
DTEND;VALUE=DATE:20220328
DTSTAMP:20260422T131758
CREATED:20220103T223627Z
LAST-MODIFIED:20220103T223627Z
UID:9113-1648080000-1648425599@barriefilmfestival.netgaindev.com
SUMMARY:REEL STORIES - Galaxy Cinemas
DESCRIPTION:Galaxy Cinemas\, 72 Commerce Park Dr\, Barrie\, ON L4N 8W8\nWe are pleased to announce that the 18th edition of Reel Stories will be returning to the big screen! Discover extraordinary things about the world from this thought-provoking film festival which includes documentaries and dramas inspired by true events and real people – enjoy your four-day film adventure! \nTickets are $8 Senior/Student and $10 Adult\, plus service fees. \nWe encourage you to purchase your tickets online in advance. All screenings are in-person and reserved seating. The system will add one empty seat on each side of your ticket order\, so if you are planning to sit next to another individual at the same screening\,  you will need to purchase their seats at the same time. \nSEATING CHART COLOURS: bright yellow are empty seats; orange and dark gray seats are sold. \nClick the “Film Listing” button below for more information on the 9 official selections as well as ticket purchase links.\n[maxbutton id=”17″ ] \n  \nFor the venue’s most up to date COVID-19 protocols\, please see their health and safety page. \n\n  \n \n \n  \n\n \n 
URL:https://barriefilmfestival.netgaindev.com/now-playing/reel-stories-2/
LOCATION:Galaxy Cinemas Barrie\, 72 Commerce Park Dr\, Barrie\, ON L4N 8W8\, 72 Commerce Park Drive\, Barrie\, Ontario\, L4N 8W8\, Canada
END:VEVENT
BEGIN:VEVENT
DTSTART;TZID=America/Toronto:20220326T130000
DTEND;TZID=America/Toronto:20220326T130000
DTSTAMP:20260422T131758
CREATED:20220307T192355Z
LAST-MODIFIED:20220307T192355Z
UID:9284-1648299600-1648299600@barriefilmfestival.netgaindev.com
SUMMARY:WRITING WITH FIRE - Galaxy Cinemas
DESCRIPTION:Galaxy Cinemas Barrie\, 72 Commerce Park Dr\, Barrie\, ON L4N 8W8\nTickets are $8 Senior/Student and $10 Adult\, plus service fees. \n  \n[maxbutton id=”26″ ] \n  \nDirected By: Rintu Thomas and Sushmit Ghosh\nDocumentary\, Not Rated\, 93 min.\, Hindi with English Subtitles (India) \nCLICK HERE to view the trailer. \n  \n“Insightful and inspirational…the film’s sense of intimacy and immediacy makes the viewer feel like they’re on a ride-along with the journalists…the filmmakers illuminate the change that can happen when the most marginalized members of a society empower themselves…” – Inkoo Kang\, The Hollywood Reporter \n  \nReporting from a social environment built to divide based on caste and gender\, a fearless group of journalists maintain India’s only women-led news outlet. The women of Khabar Lahariya (‘Waves of News’)\, all from the Dalit (“untouchables”) caste\, prepare to transition the newspaper from print to digital even though many of their reporters don’t have access to electricity at home. Armed with smartphones\, Chief Reporter Meera and her team of investigative journalists confront some of India’s biggest issues – exposing the relentless discrimination against women and amplifying the voices of those who suffer from the oppressive caste system. WRITING WITH FIRE chronicles the astonishing determination of these local reporters as they empower each other and hold those responsible for injustice to account. Reaching new audiences through their growing platform\, the women of Khabar Lahariya redefine what it means to be powerful in this timely and inspiring documentary. \n  \nAwards: 25 wins\, 18 nominations\nNominated – Best Documentary Feature\, Academy Awards\, 2022\nNominated – Audience Award\, Top 5 Audience Award\, Hot Docs Canadian International Documentary Festival\, 2021\nWinner – IDFA Audience Award\, IDFA\, 2021\nWinner – Golden Gate Award\, Best Documentary Film\, San Francisco Film Festival\, 2021\nWinner – Special Jury Prize\, Documentary Competition\, Seattle International Film Festival\, 2021\nWinner – Audience Award\, World Cinema Documentary\, Sundance Film Festival\, 2021\nWinner – Special Jury Award: Impact for Change\, World Cinema Documentary\, Sundance Film Festival\, 2021\nWinner – Special Jury Prize\, Best Documentary Feature\, Telluride Mountainfilm Festival\, 2021\nWinner – Best Feature Documentary\, Nordic Docs\, 2021\nWinner – Best Documentary\, Oslo Films from the South Festival\, 2021\nWinner – Silver Horn\, Best Film on Social Issues\, Krakow Film Festival\, 2021\nWinner – Justice Matters Award\, Best Documentary\, Washington DC International Film Festival\nWinner – Audience Award\, Best Documentary Feature\, Wisconsin Film Festival\, 2021\nWinner – Maysles Brothers Award\, Feature Documentary\, Belfast Film Festival\, 2021\nWinner – Checkpoints Award\, Bergen International Film Festival\, 2021\nWinner – Audience Award and Best Feature Documentary\, Blackstar Film Festival\, 2021\nWinner – Cinema Eye Honors Awards\, 2022\nNominated – F:ACT Award\, CPH:DOX\, 2021\nWinner – Citizens’ Prize\, Yamagata International Documentary Film Festival\, 2021 \n  \nFunded by: City of Barrie\, Ontario Trillium Foundation and Telefilm Canada \nSponsored by: Busch Systems\, Digital Giants\, Lehman & Associates\, Netgain\, Plumbtech Plumbing Inc.\, Sigma Engagement Systems\, and Venable Park Investment Council Inc.
URL:https://barriefilmfestival.netgaindev.com/now-playing/writing-with-fire-galaxy-cinemas/
LOCATION:Galaxy Cinemas Barrie\, 72 Commerce Park Dr\, Barrie\, ON L4N 8W8\, 72 Commerce Park Drive\, Barrie\, Ontario\, L4N 8W8\, Canada
END:VEVENT
BEGIN:VEVENT
DTSTART;TZID=America/Toronto:20220326T151500
DTEND;TZID=America/Toronto:20220326T151500
DTSTAMP:20260422T131758
CREATED:20220307T183656Z
LAST-MODIFIED:20220307T183656Z
UID:9258-1648307700-1648307700@barriefilmfestival.netgaindev.com
SUMMARY:PEACE BY CHOCOLATE - Galaxy Cinemas
DESCRIPTION:Galaxy Cinemas Barrie\, 72 Commerce Park Dr\, Barrie\, ON L4N 8W8\nTickets are $8 Senior/Student and $10 Adult\, plus service fees.\n \n  \n\n***Please note this screening is nearly sold out*** – seating map colours are bright yellow for available seats\, orange and dark gray seats are sold.\n\n  \n[maxbutton id=”20″ ] \n  \nCo-written and Directed by: Jonathan Keijser\nDrama/Comedy\, Not rated – suitable for all audiences\, 96 min.\, English and Arabic with English subtitles (Canada) \nCLICK HERE to view the Trailer \n“A wonderfully made\, beautifully acted\, and completely engaging film.” – Richard Propes\, TheIndependentCritic.com \nAfter the bombing of his family’s chocolate factory\, Tareq Hadhad\, a charming young Syrian refugee\, struggles to settle into small-town life in Antigonish\, Nova Scotia. Despite moving to a new country\, he’s intent on pursuing his dream to become a doctor. But when his father\, Issam\, insists that he must focus on survival\, Tareq and his family move towards a different\, but familiar path: Rebuilding Issam’s chocolate business. When what seemed like a nostalgic attempt to cling onto remnants of an old life past becomes an overnight sensation\, Tareq is shocked. Put in the role of business manager\, he must choose between the demands of an exponentially growing business and an offer to go back to medical school. New challenges arise between a rival chocolatier while the heartbreak of Tareq’s sister left behind in Syria weighs heavily on the family. Nevertheless\, Tareq remains set on his goals\, buoyed by a supportive community of eclectics. As father and son both struggle to find common ground and navigate the complexities of family duty\, the heightening tension between them threatens to tear the family apart. Based on the internationally recognized true story. \nAwards:\nWinner – Jury Award\, Cordillera International Film Festival\, 2021\nWinner – Audience Choice Award\, Heartland International Film Festival\, 2021\nWinner – Jury Award\, Best Feature\, Lavazza Italian Contemporary Film Festival\, 2021\nWinner – Jury Prize\, Loudoun Arts Film Festival\, 2021\nWinner – Audience Award\, Naples International Film Festival\, 2021\nWinner – Jury Award\, Port Townsend Film Festival\, 2021\nWinner – Jury Award\, Scottsdale International Film Festival\, 2021\nWinner – Audience Award\, Woods Hole Film Festival\, 2021\nWinner – Jury Award\, Best Feature\, Toronto Food Film Festival\, 2021\nWinner – Jury Award\, Best Feature Drama\, Sedona Film Festival\, 2022 \n  \nFunded by: City of Barrie\, Ontario Trillium Foundation and Telefilm Canada  \nSponsored by: Busch Systems\, Digital Giants\, Lehman & Associates\, Netgain\, Plumbtech Plumbing Inc.\, Sigma Engagement Systems\, and Venable Park Investment Council Inc.
URL:https://barriefilmfestival.netgaindev.com/now-playing/peace-by-chocolate-galaxy-cinemas-2/
LOCATION:Galaxy Cinemas Barrie\, 72 Commerce Park Dr\, Barrie\, ON L4N 8W8\, 72 Commerce Park Drive\, Barrie\, Ontario\, L4N 8W8\, Canada
END:VEVENT
BEGIN:VEVENT
DTSTART;TZID=America/Toronto:20220326T173500
DTEND;TZID=America/Toronto:20220326T173500
DTSTAMP:20260422T131758
CREATED:20220307T192717Z
LAST-MODIFIED:20220307T192717Z
UID:9286-1648316100-1648316100@barriefilmfestival.netgaindev.com
SUMMARY:WOCHIIGII LO - Galaxy Cinemas
DESCRIPTION:Galaxy Cinemas Barrie\, 72 Commerce Park Dr\, Barrie\, ON L4N 8W8\nTickets are $8 Senior/Student and $10 Adult\, plus service fees. \n[maxbutton id=”25″ ] \n  \nWritten and Directed by Heather Hatch\nDocumentary\, Not rated – suitable for all audiences\, 85 min.\, (Canada) \n  \n“Haida director Hatch’s documentary is compelling and tells an important\, and infuriating story of corporations and the government causing environmental destruction under the guise of bettering the economy” – Kelly Boutsalis\, Point of View magazine \n  \nWochiigii lo: End of the Peace follows the struggles of Diane Abel and Chief Roland Willson of West Moberly First Nations as they battle the BC government against the construction of a multi-billion-dollar mega-dam along the Peace River (commonly known as Site C Dam). If constructed\, it will give way to the extinction of their people’s culture by destroying the land and water they have occupied for over 13\,000 years. While crown corporations and political parties collude against their traditional way of life\, the desire to fight for their nation is embedded in these two resilient individuals. \n  \nFunded by: City of Barrie\, Ontario Trillium Foundation and Telefilm Canada \nSponsored by: Busch Systems\, Digital Giants\, Lehman & Associates\, Netgain\, Plumbtech Plumbing Inc.\, Sigma Engagement Systems\, and Venable Park Investment Council Inc. \n  \n 
URL:https://barriefilmfestival.netgaindev.com/now-playing/wochiigii-lo-galaxy-cinemas/
LOCATION:Galaxy Cinemas Barrie\, 72 Commerce Park Dr\, Barrie\, ON L4N 8W8\, 72 Commerce Park Drive\, Barrie\, Ontario\, L4N 8W8\, Canada
END:VEVENT
BEGIN:VEVENT
DTSTART;TZID=America/Toronto:20220326T194500
DTEND;TZID=America/Toronto:20220326T194500
DTSTAMP:20260422T131758
CREATED:20220307T184659Z
LAST-MODIFIED:20220307T184659Z
UID:9265-1648323900-1648323900@barriefilmfestival.netgaindev.com
SUMMARY:THE RESCUE - Galaxy Cinemas
DESCRIPTION:Galaxy Cinemas Barrie\, 72 Commerce Park Dr\, Barrie\, ON L4N 8W8\nTickets are $8 Senior/Student and $10 Adult\, plus service fees. \n[maxbutton id=”22″ ] \n  \nDirected by: E. Chai Vasarhelyi and Jimmy Chin\nDocumentary\, PG for coarse language\, 107 min.\, Language: English\, and Thai\, Korean\, Norwegian with English subtitles (USA/UK) \nCLICK HERE to view the Trailer \n  \n“The Rescue is a gripping\, unsurprisingly moving early account\, one that emphasizes the pluck and ingenuity of its heroes and the resilience and beauty of its survivors.” – Justin Chang\, Los Angeles Times \n  \nTHE RESCUE chronicles the enthralling\, against-all-odds story that transfixed the world in 2018: the daring rescue of twelve boys and their coach from deep inside a flooded cave in Northern Thailand. Academy Award-winning directors and producers E. Chai Vasarhelyi and Jimmy Chin (Free Solo) keep viewers on the edge of their seats as they use a wealth of never-before-seen material and exclusive interviews to piece together the high stakes mission\, highlighting the efforts of the Royal Thai Navy SEALs and US Special Forces and details the expert cave divers’ audacious venture to dive the boys to safety. THE RESCUE brings alive one of the most perilous and extraordinary rescues in modern times\, shining a light on the high-risk world of cave diving\, the astounding courage and compassion of the rescuers\, and the shared humanity of the international community that united to save the boys. \n  \nAwards: 11 wins\, 36 nominations!\nWinner – People’s Choice Award\, Documentary\, Toronto International Film Festival\, 2021\nWinner – Grand Prize\, Banff Mountain Film Festival\, 2021\nWinner – 3 Awards: Best Director\, Cinematography\, Score\, Critics’ Choice Documentary Awards\, 2021\nWinner – Audience Award\, Best Documentary Feature\, Hot Springs Documentary Film Festival\, 2021\nWinner – Audience Choice Award\, Documentary\, Heartland International Film Festival\, 2021\nWinner – Audience Award\, Documentary Feature\, Middleburg Film Festival\, 2021\nWinner – Audience Award\, Documentary\, Mill Valley Film Festival\, 2021\nWinner – Cinema Eye Honors Award\, The Unforgetables\, Cinema Eye Honors Awards\, 2022\nWinner – Gold List Award for Best Documentary Feature\, Gold List\, 2022\nNominated – Best Documentary\, BAFTA Awards\, 2022\nNominated – Best Edited Documentary Feature\, American Cinema Editors\, 2022\nNominated – SFCS Award\, Best Documentary Feature\, Seattle Film Critics Society\, 2022 \n  \nFunded by: City of Barrie\, Ontario Trillium Foundation and Telefilm Canada \nSponsored by: Busch Systems\, Digital Giants\, Lehman & Associates\, Netgain\, Plumbtech Plumbing Inc.\, Sigma Engagement Systems\, and Venable Park Investment Council Inc. \n 
URL:https://barriefilmfestival.netgaindev.com/now-playing/the-rescue-galaxy-cinemas-2/
LOCATION:Galaxy Cinemas Barrie\, 72 Commerce Park Dr\, Barrie\, ON L4N 8W8\, 72 Commerce Park Drive\, Barrie\, Ontario\, L4N 8W8\, Canada
END:VEVENT
END:VCALENDAR