BEGIN:VCALENDAR
VERSION:2.0
PRODID:-//Barrie Film Festival - ECPv6.7.0//NONSGML v1.0//EN
CALSCALE:GREGORIAN
METHOD:PUBLISH
X-WR-CALNAME:Barrie Film Festival
X-ORIGINAL-URL:https://barriefilmfestival.netgaindev.com
X-WR-CALDESC:Events for Barrie Film Festival
REFRESH-INTERVAL;VALUE=DURATION:PT1H
X-Robots-Tag:noindex
X-PUBLISHED-TTL:PT1H
BEGIN:VTIMEZONE
TZID:America/Toronto
BEGIN:DAYLIGHT
TZOFFSETFROM:-0500
TZOFFSETTO:-0400
TZNAME:EDT
DTSTART:20220313T070000
END:DAYLIGHT
BEGIN:STANDARD
TZOFFSETFROM:-0400
TZOFFSETTO:-0500
TZNAME:EST
DTSTART:20221106T060000
END:STANDARD
END:VTIMEZONE
BEGIN:VEVENT
DTSTART;TZID=America/Toronto:20220727T210500
DTEND;TZID=America/Toronto:20220727T210500
DTSTAMP:20260422T051618
CREATED:20220624T152012Z
LAST-MODIFIED:20220624T152012Z
UID:9535-1658955900-1658955900@barriefilmfestival.netgaindev.com
SUMMARY:SING 2 - Outdoor Screening
DESCRIPTION:Lawn Chair Luminata | Outdoor screening \n \nWednesday\, July 27\, 2022\nMeridian Place\, Downtown Barrie\nAdmission: Free\nStarts at dusk\, weather permitting (rain date July 28)\nComedy/Animation\, 2021\, 110 min.\, Rated PG (USA/Japan) \nDirected by Garth Jennings \n  \nA whimsical group of animal musicians are about to audition for a talent show when the ruthless business-wolf Jimmy Crystal (Bobby Cannavale) slams the red button\, ending their chance at success. Jimmy says that he is looking for a “big idea\,” and that’s when Gunter (Nick Kroll) says that he knows Clay Calloway (Bono)\, a washed-out but infamous musician. \n  \nThe producer loves the idea and with his approval\, the crew goes to search for Calloway in hopes of getting him to find his voice after 15 years in recluse. Meanwhile\, Buster Moon (Matthew McConaughey) plans an ambitious new show in the big city\, putting the skills of skills of Meena (Tori Kelly)\, Rosita (Reese Witherspoon)\, Gunter (Nick Kroll)\, Johnny (Taron Egerton) and Ash (Scarlett Johansson) to the test while encouraging them to work together to pull it off. \n  \nAwards – 2 wins\, 16 nominations: \nWinner – Outstanding Character Voice-over performance (Letitia Wright)\, Image Awards\, 2022\nWinner – Favourite Voice from an Animated Movie (Scarlett Johansson)\, Kids’ Choice Awards\, 2022 \n  \nPresented in partnership with the Downtown Barrie Business Association \n \n  \nSupported by:
URL:https://barriefilmfestival.netgaindev.com/now-playing/sing-2-outdoor-screening/
LOCATION:Meridian Place\, 30 Simcoe Street\, Barrie\, ON\, L4M 1A7\, Canada
END:VEVENT
END:VCALENDAR