BEGIN:VCALENDAR
VERSION:2.0
PRODID:-//Barrie Film Festival - ECPv6.7.0//NONSGML v1.0//EN
CALSCALE:GREGORIAN
METHOD:PUBLISH
X-WR-CALNAME:Barrie Film Festival
X-ORIGINAL-URL:https://barriefilmfestival.netgaindev.com
X-WR-CALDESC:Events for Barrie Film Festival
REFRESH-INTERVAL;VALUE=DURATION:PT1H
X-Robots-Tag:noindex
X-PUBLISHED-TTL:PT1H
BEGIN:VTIMEZONE
TZID:America/Toronto
BEGIN:DAYLIGHT
TZOFFSETFROM:-0500
TZOFFSETTO:-0400
TZNAME:EDT
DTSTART:20220313T070000
END:DAYLIGHT
BEGIN:STANDARD
TZOFFSETFROM:-0400
TZOFFSETTO:-0500
TZNAME:EST
DTSTART:20221106T060000
END:STANDARD
END:VTIMEZONE
BEGIN:VEVENT
DTSTART;TZID=America/Toronto:20220910T170000
DTEND;TZID=America/Toronto:20220910T233000
DTSTAMP:20260422T023845
CREATED:20220901T190437Z
LAST-MODIFIED:20220901T190437Z
UID:9729-1662829200-1662852600@barriefilmfestival.netgaindev.com
SUMMARY:OM SHANTI OM - Friday Harbour Outdoor Event
DESCRIPTION:MOSAIC NIGHTS FESTIVAL | Outdoor event & screening at Friday Harbour Resort \n \nGet ready to enjoy a Bollywood South Asian night! Join us for an evening full of music\, food\, entertainment and a Bollywood movie!\n\n  \nFilm: OM SHANTI OM    \nSaturday\, September 10\, 2022\nFriday Harbour Resort\, The Promenade\, Innisfil\, ON\nAdmission: Free\nEvent starts at 5:00pm\, movie starts at dusk\, weather permitting (rain date Sept 11)\n2007\, 162 min.\, Language: Hindi and Urdu with English subtitles\, Not Rated (India) \nDirected by: Farah Khan\nStarring: Shah Rukh Khan\, Deepika Padukone\, Shreyas Talpade \n  \nIn the 1970s\, Om\, an aspiring actor\, is murdered\, but is immediately reincarnated into the present day. He attempts to discover the mystery of his demise and find Shanti\, the love of his previous life. \n  \nAwards: 38 wins\, 29 nominations \n  \n\n  \nThis screening is presented as part of the MOSAIC NIGHTS FESTIVAL\, the celebration of 3 international films embedded in 3 different cultural extravaganzas. This year the Ethnic Mosaic Alliance is featuring the cultures of Iran\, South-East Asia and other multi-cultural communities. The series is on 3 separate evenings and at different locations.\n \n  \nFor more information: see Ethnic Mosaic Alliance; and South Asian Association of Simcoe County. \n  \n \n             \n 
URL:https://barriefilmfestival.netgaindev.com/now-playing/om-shanti-om-friday-harbour-outdoor-screenings/
LOCATION:Friday Harbour Resort\, 3999 Friday Drive\, Innisfil\, Ontario\, L9S 0J7\, Canada
END:VEVENT
END:VCALENDAR