BEGIN:VCALENDAR
VERSION:2.0
PRODID:-//Barrie Film Festival - ECPv6.7.0//NONSGML v1.0//EN
CALSCALE:GREGORIAN
METHOD:PUBLISH
X-WR-CALNAME:Barrie Film Festival
X-ORIGINAL-URL:https://barriefilmfestival.netgaindev.com
X-WR-CALDESC:Events for Barrie Film Festival
REFRESH-INTERVAL;VALUE=DURATION:PT1H
X-Robots-Tag:noindex
X-PUBLISHED-TTL:PT1H
BEGIN:VTIMEZONE
TZID:America/Toronto
BEGIN:DAYLIGHT
TZOFFSETFROM:-0500
TZOFFSETTO:-0400
TZNAME:EDT
DTSTART:20230312T070000
END:DAYLIGHT
BEGIN:STANDARD
TZOFFSETFROM:-0400
TZOFFSETTO:-0500
TZNAME:EST
DTSTART:20231105T060000
END:STANDARD
END:VTIMEZONE
BEGIN:VEVENT
DTSTART;TZID=America/Toronto:20230705T211500
DTEND;TZID=America/Toronto:20230705T211500
DTSTAMP:20260421T111121
CREATED:20230606T200901Z
LAST-MODIFIED:20230606T200901Z
UID:10343-1688591700-1688591700@barriefilmfestival.netgaindev.com
SUMMARY:THE PRINCESS BRIDE - Outdoor Screening
DESCRIPTION:Lawn Chair Luminata 2023 | Outdoor screening \nTHE PRINCESS BRIDE\nWednesday\, July 5\, 2023\nMeridian Place\, Downtown Barrie\nAdmission: Free\nStarts at dusk\, weather permitting (rain date July 6) \n  \nComedy/Adventure | PG| 97 min. | 1987 | USA \nDirector: Rob Reiner \nRated PG for scary scenes/action and some language. \n  \nSynopsis: A kindly grandfather sits down with his grandson and reads him a bedtime story. The story is one that has been passed down from father to son for generations. As the grandfather reads the story\, the action comes alive. The story is a classic tale of love and adventure as the beautiful Buttercup is kidnapped and held against her will in order to marry the odious Prince Humperdinck\, and Westley (her childhood beau\, now returned as the Dread Pirate Roberts) attempts to save her. On the way he meets an accomplished swordsman and a huge\, super strong giant\, both of whom become his companions in his quest to rescue Buttercup. \n  \nAwards: Nominated for 1 Oscar (Best Music)\, 7 wins\, 10 nominations\n \n  \n \n\nPresented in partnership with the Downtown Barrie BIA.\n \n  \nSupported by:
URL:https://barriefilmfestival.netgaindev.com/now-playing/the-princess-bride/
LOCATION:Meridian Place\, 30 Simcoe Street\, Barrie\, ON\, L4M 1A7\, Canada
END:VEVENT
END:VCALENDAR