BEGIN:VCALENDAR
VERSION:2.0
PRODID:-//Barrie Film Festival - ECPv6.7.0//NONSGML v1.0//EN
CALSCALE:GREGORIAN
METHOD:PUBLISH
X-WR-CALNAME:Barrie Film Festival
X-ORIGINAL-URL:https://barriefilmfestival.netgaindev.com
X-WR-CALDESC:Events for Barrie Film Festival
REFRESH-INTERVAL;VALUE=DURATION:PT1H
X-Robots-Tag:noindex
X-PUBLISHED-TTL:PT1H
BEGIN:VTIMEZONE
TZID:America/Toronto
BEGIN:DAYLIGHT
TZOFFSETFROM:-0500
TZOFFSETTO:-0400
TZNAME:EDT
DTSTART:20230312T070000
END:DAYLIGHT
BEGIN:STANDARD
TZOFFSETFROM:-0400
TZOFFSETTO:-0500
TZNAME:EST
DTSTART:20231105T060000
END:STANDARD
END:VTIMEZONE
BEGIN:VEVENT
DTSTART;TZID=America/Toronto:20230726T210000
DTEND;TZID=America/Toronto:20230726T210000
DTSTAMP:20260421T111156
CREATED:20230606T210550Z
LAST-MODIFIED:20230606T210550Z
UID:10362-1690405200-1690405200@barriefilmfestival.netgaindev.com
SUMMARY:SOUL - Outdoor Screening
DESCRIPTION:Lawn Chair Luminata 2023 | Outdoor screening \nSOUL\n\nWednesday\, July 26\, 2023\nMeridian Place\, Downtown Barrie\nAdmission: Free\nStarts at dusk\, weather permitting (rain date July 27) \n  \nAnimation/Adventure | G | 100 min. | 2020 | USA \nDirected by Pete Docter and Kemp Powers \nRated G \n  \nSynopsis:  Jamie Foxx leads an all-star cast in this heart-filled adventure. Disney and Pixar’s SOUL introduces Joe\, who lands the gig of his life at the best jazz club in town. But one misstep lands Joe in a fantastical place: The Great Before. There\, he teams up with soul 22 (Tina Fey)\, and together they find the answers to some of life’s biggest questions. \n  \nAwards: Won 2 Oscars (Best Animated Film/Best Music)\, 124 wins\, 93 nominations \n  \n \n\nPresented in partnership with the Downtown Barrie BIA.\n \n  \nSupported by:
URL:https://barriefilmfestival.netgaindev.com/now-playing/soul/
LOCATION:Meridian Place\, 30 Simcoe Street\, Barrie\, ON\, L4M 1A7\, Canada
END:VEVENT
END:VCALENDAR