BEGIN:VCALENDAR
VERSION:2.0
PRODID:-//Barrie Film Festival - ECPv6.7.0//NONSGML v1.0//EN
CALSCALE:GREGORIAN
METHOD:PUBLISH
X-ORIGINAL-URL:https://barriefilmfestival.netgaindev.com
X-WR-CALDESC:Events for Barrie Film Festival
REFRESH-INTERVAL;VALUE=DURATION:PT1H
X-Robots-Tag:noindex
X-PUBLISHED-TTL:PT1H
BEGIN:VTIMEZONE
TZID:America/Toronto
BEGIN:DAYLIGHT
TZOFFSETFROM:-0500
TZOFFSETTO:-0400
TZNAME:EDT
DTSTART:20230312T070000
END:DAYLIGHT
BEGIN:STANDARD
TZOFFSETFROM:-0400
TZOFFSETTO:-0500
TZNAME:EST
DTSTART:20231105T060000
END:STANDARD
END:VTIMEZONE
BEGIN:VEVENT
DTSTART;TZID=America/Toronto:20230802T210000
DTEND;TZID=America/Toronto:20230802T210000
DTSTAMP:20260421T094036
CREATED:20230606T211851Z
LAST-MODIFIED:20230606T211851Z
UID:10367-1691010000-1691010000@barriefilmfestival.netgaindev.com
SUMMARY:RAIDERS OF THE LOST ARK - Outdoor Screening
DESCRIPTION:Lawn Chair Luminata 2023 | Outdoor screening \nRAIDERS OF THE LOST ARK\n\nWednesday\, August 2\, 2023\nMeridian Place\, Downtown Barrie\nAdmission: Free\nStarts at dusk\, weather permitting (rain date August 3) \n  \nAdventure/Action | 14A | 115 min. | 1981 | USA \nDirected by Steven Spielberg \nRated 14A for intense action and frightening scenes\, minor language. \n  \nSynopsis: Get ready for edge-of-your-seat thrills in “Indiana Jones and the Raiders of the Lost Ark.” Indy (Harrison Ford) and his feisty ex-flame Marion Ravenwood (Karen Allen) dodge booby-traps\, fight Nazis and stare down snakes in their incredible worldwide quest for the mystical Ark of the Covenant. Experience one exciting cliffhanger after another when you discover adventure with the one and only Indiana Jones. \n  \nAwards: Won 4 Oscars (Best Picture\, Director\, Cinematography\, Art Direction and Sound)\, 38 wins\, 24 nominations\n \n  \nhttps://youtu.be/lhUfUxPRLAY \n\nPresented in partnership with the Downtown Barrie BIA.\n \n  \nSupported by:
URL:https://barriefilmfestival.netgaindev.com/now-playing/raiders-of-the-lost-ark/
LOCATION:Meridian Place\, 30 Simcoe Street\, Barrie\, ON\, L4M 1A7\, Canada
END:VEVENT
END:VCALENDAR