BEGIN:VCALENDAR
VERSION:2.0
PRODID:-//Barrie Film Festival - ECPv6.7.0//NONSGML v1.0//EN
CALSCALE:GREGORIAN
METHOD:PUBLISH
X-ORIGINAL-URL:https://barriefilmfestival.netgaindev.com
X-WR-CALDESC:Events for Barrie Film Festival
REFRESH-INTERVAL;VALUE=DURATION:PT1H
X-Robots-Tag:noindex
X-PUBLISHED-TTL:PT1H
BEGIN:VTIMEZONE
TZID:America/Toronto
BEGIN:DAYLIGHT
TZOFFSETFROM:-0500
TZOFFSETTO:-0400
TZNAME:EDT
DTSTART:20230312T070000
END:DAYLIGHT
BEGIN:STANDARD
TZOFFSETFROM:-0400
TZOFFSETTO:-0500
TZNAME:EST
DTSTART:20231105T060000
END:STANDARD
END:VTIMEZONE
BEGIN:VEVENT
DTSTART;TZID=America/Toronto:20230802T210000
DTEND;TZID=America/Toronto:20230802T210000
DTSTAMP:20260421T165326
CREATED:20230606T211851Z
LAST-MODIFIED:20230606T211851Z
UID:10367-1691010000-1691010000@barriefilmfestival.netgaindev.com
SUMMARY:RAIDERS OF THE LOST ARK - Outdoor Screening
DESCRIPTION:Lawn Chair Luminata 2023 | Outdoor screening \nRAIDERS OF THE LOST ARK\n\nWednesday\, August 2\, 2023\nMeridian Place\, Downtown Barrie\nAdmission: Free\nStarts at dusk\, weather permitting (rain date August 3) \n  \nAdventure/Action | 14A | 115 min. | 1981 | USA \nDirected by Steven Spielberg \nRated 14A for intense action and frightening scenes\, minor language. \n  \nSynopsis: Get ready for edge-of-your-seat thrills in “Indiana Jones and the Raiders of the Lost Ark.” Indy (Harrison Ford) and his feisty ex-flame Marion Ravenwood (Karen Allen) dodge booby-traps\, fight Nazis and stare down snakes in their incredible worldwide quest for the mystical Ark of the Covenant. Experience one exciting cliffhanger after another when you discover adventure with the one and only Indiana Jones. \n  \nAwards: Won 4 Oscars (Best Picture\, Director\, Cinematography\, Art Direction and Sound)\, 38 wins\, 24 nominations\n \n  \nhttps://youtu.be/lhUfUxPRLAY \n\nPresented in partnership with the Downtown Barrie BIA.\n \n  \nSupported by:
URL:https://barriefilmfestival.netgaindev.com/now-playing/raiders-of-the-lost-ark/
LOCATION:Meridian Place\, 30 Simcoe Street\, Barrie\, ON\, L4M 1A7\, Canada
END:VEVENT
BEGIN:VEVENT
DTSTART;TZID=America/Toronto:20230809T205000
DTEND;TZID=America/Toronto:20230809T205000
DTSTAMP:20260421T165326
CREATED:20230606T212747Z
LAST-MODIFIED:20230606T212747Z
UID:10372-1691614200-1691614200@barriefilmfestival.netgaindev.com
SUMMARY:LYLE\, LYLE\, CROCODILE - Outdoor Screening
DESCRIPTION:Lawn Chair Luminata 2023 | Outdoor screening \nLYLE\, LYLE\, CROCODILE\nWednesday\, August 9\, 2023\nMeridian Place\, Downtown Barrie\nAdmission: Free\nStarts at dusk\, weather permitting (rain date August 10) \n  \nFamily/Adventure | G | 107 min. | 2022 | USA/UK \nDirected by Will Speck and Josh Gordon \nRated G – mild peril and thematic elements. \n  \nSynopsis: When the Primm family moves to New York City\, their young son\, Josh\, struggles to adapt to his new school and friends. All of that changes when he discovers Lyle\, a singing crocodile that loves baths\, caviar and great music. The two become fast friends\, but when evil neighbour Mr. Grumps threatens Lyle’s existence\, the Primms must band together to show the world that family can come from the most unexpected of places. \n  \nAwards: 1 nomination\n \n  \n \n\nPresented in partnership with the Downtown Barrie BIA.\n \n  \nSupported by:
URL:https://barriefilmfestival.netgaindev.com/now-playing/lyle-lyle-crocodile/
LOCATION:Meridian Place\, 30 Simcoe Street\, Barrie\, ON\, L4M 1A7\, Canada
END:VEVENT
BEGIN:VEVENT
DTSTART;TZID=America/Toronto:20230816T205000
DTEND;TZID=America/Toronto:20230816T205000
DTSTAMP:20260421T165326
CREATED:20230606T213358Z
LAST-MODIFIED:20230606T213358Z
UID:10376-1692219000-1692219000@barriefilmfestival.netgaindev.com
SUMMARY:MRS. HARRIS GOES TO PARIS - Outdoor Screening
DESCRIPTION:Lawn Chair Luminata 2023 | Outdoor screening \nMRS. HARRIS GOES TO PARIS\nWednesday\, August 16\, 2023\nMeridian Place\, Downtown Barrie\nAdmission: Free\nStarts at dusk\, weather permitting (rain date August 17) \n  \nDrama/Comedy | G | 115 min. | 2022 | UK/Canada/France/Hungary/Belgium \nDirected by Anthony Fabian \nRated G – minor language\, suggestive material. \n  \nSynopsis: MRS. HARRIS GOES TO PARIS tells a humorously heart-warming tale about a London housecleaner Ada Harris (Lesley Manville) who thinks her lonely life might turn around if she can become the owner of a Christian Dior gown. Saying goodbye to friends like Vi (Ellen Thomas) and Archie (Jason Isaacs) won’t be easy\, and neither will be winning over elite people in Paris from Madame Colbert (Isabelle Huppert) to idealistic accountant André (Lucas Bravo). But Ada’s irrepressible charm just might end up saving the whole House of Dior in this uplifting story of how an ordinary woman becomes an extraordinary inspiration by daring to follow her dreams. \n  \nAwards: Nominated for 1 Oscar (Costume Design)\, 4 wins\, 13 nominations\n \n  \n \n\nPresented in partnership with the Downtown Barrie BIA.\n \n  \nSupported by:
URL:https://barriefilmfestival.netgaindev.com/now-playing/mrs-harris/
LOCATION:Meridian Place\, 30 Simcoe Street\, Barrie\, ON\, L4M 1A7\, Canada
END:VEVENT
BEGIN:VEVENT
DTSTART;TZID=America/Toronto:20230823T204000
DTEND;TZID=America/Toronto:20230823T204000
DTSTAMP:20260421T165326
CREATED:20230606T214407Z
LAST-MODIFIED:20230606T214407Z
UID:10382-1692823200-1692823200@barriefilmfestival.netgaindev.com
SUMMARY:PUSS IN BOOTS: THE LAST WISH - Outdoor Screening
DESCRIPTION:Lawn Chair Luminata 2023 | Outdoor screening \nPUSS IN BOOTS: THE LAST WISH\nWednesday\, August 23\, 2023\nMeridian Place\, Downtown Barrie\nAdmission: Free\nStarts at dusk\, weather permitting (rain date August 24) \n  \nAnimated Adventure | PG | 103 min. | 2022 | USA \nDirected by Joel Crawford \nRated PG for action/violence\, rude humour/language\, and some scary moments. \n  \nSynopsis: Everyone’s favourite leche-loving\, swashbuckling\, fear-defying feline\, Puss in Boots\, returns in a new adventure from the Shrek universe as the daring outlaw discovers that his passion for peril and disregard for safety have taken their toll. Puss has burned through eight of his nine lives\, though he lost count along the way. Getting those lives back will send Puss in Boots into the Black Forest to find the mythical Wishing Star on his grandest quest yet. With only one life left\, Puss will have to humble himself and ask for help from his former partner and nemesis: Kitty Softpaws. They are joined in their journey by a chatty and cheerful mutt named Perro. Together\, our trio of heroes will need to stay one step ahead of the fairy tale realm’s craftiest crooks including Goldilocks and the Three Bears. \n  \nAwards: Nominated for 1 Oscar (Best Animated Feature)\, 5 wins\, 51 nominations\n \n  \n \n\nPresented in partnership with the Downtown Barrie BIA.\n \n  \nSupported by:
URL:https://barriefilmfestival.netgaindev.com/now-playing/puss-in-boots-the-last-wish/
LOCATION:Meridian Place\, 30 Simcoe Street\, Barrie\, ON\, L4M 1A7\, Canada
END:VEVENT
BEGIN:VEVENT
DTSTART;TZID=America/Toronto:20230830T203000
DTEND;TZID=America/Toronto:20230830T203000
DTSTAMP:20260421T165326
CREATED:20230606T215415Z
LAST-MODIFIED:20230606T215415Z
UID:10391-1693427400-1693427400@barriefilmfestival.netgaindev.com
SUMMARY:DUNGEONS & DRAGONS: HONOR AMONG THIEVES - Outdoor Screening
DESCRIPTION:Lawn Chair Luminata 2023 | Outdoor screening \nDUNGEONS & DRAGONS: HONOR AMONG THIEVES\nWednesday\, August 30\, 2023\nMeridian Place\, Downtown Barrie\nAdmission: Free\nStarts at dusk\, weather permitting (rain date August 31) \n  \nAction/Adventure | PG-13 | 134 min. | 2023 | USA/Canada/UK/Iceland/Ireland/Australia \nDirected by Jonathan Goldstein and John Francis Daley \nRated PG-13 for fantasy action/violence and some language. \n  \nSynopsis: A charming thief and a band of unlikely adventurers undertake an epic heist to retrieve a lost relic\, but things go dangerously awry when they run afoul of the wrong people. DUNGEONS & DRAGONS: HONOR AMONG THIEVES brings the rich world and playful spirit of the legendary roleplaying game to the big screen in a hilarious and action-packed adventure. \n  \n \n\nPresented in partnership with the Downtown Barrie BIA.\n \n  \nSupported by:
URL:https://barriefilmfestival.netgaindev.com/now-playing/dungeons-dragons-honor-among-thieves/
LOCATION:Meridian Place\, 30 Simcoe Street\, Barrie\, ON\, L4M 1A7\, Canada
END:VEVENT
END:VCALENDAR