BEGIN:VCALENDAR
VERSION:2.0
PRODID:-//Barrie Film Festival - ECPv6.7.0//NONSGML v1.0//EN
CALSCALE:GREGORIAN
METHOD:PUBLISH
X-ORIGINAL-URL:https://barriefilmfestival.netgaindev.com
X-WR-CALDESC:Events for Barrie Film Festival
REFRESH-INTERVAL;VALUE=DURATION:PT1H
X-Robots-Tag:noindex
X-PUBLISHED-TTL:PT1H
BEGIN:VTIMEZONE
TZID:America/Toronto
BEGIN:DAYLIGHT
TZOFFSETFROM:-0500
TZOFFSETTO:-0400
TZNAME:EDT
DTSTART:20180311T070000
END:DAYLIGHT
BEGIN:STANDARD
TZOFFSETFROM:-0400
TZOFFSETTO:-0500
TZNAME:EST
DTSTART:20181104T060000
END:STANDARD
END:VTIMEZONE
BEGIN:VEVENT
DTSTART;TZID=America/Toronto:20180103T160000
DTEND;TZID=America/Toronto:20180103T160000
DTSTAMP:20260425T183741
CREATED:20171218T214318Z
LAST-MODIFIED:20171218T214318Z
UID:3898-1514995200-1514995200@barriefilmfestival.netgaindev.com
SUMMARY:Tulipani - 4PM
DESCRIPTION:[fullwidth ] \n[col_one ] \n\n[/col_one] \n[col_one_third ] \n[col_one_third ] \n \n[/col_one_third] \n[col_two_thirds ] \nTulipani: Love\, Honour and a Bicycle\n(Tulipani: Liefde\, Eer en een Fiets)\n\nScreening:\nWednesday\, January 3 – 4pm\, 7pm\nThursday\, January 4 – 4pm\, 7pm\nLocation: Uptown Theatre\, 55 Dunlop St. W.\, Barrie \n  \nDirected by: Mike van Diem\nPrinciple Cast: Ksenia Solo\, Giancarlo Giannini\, Gijs Naber\, Lidia Vitale and Donatella Finocchiaro\nComedy/Drama\, 14A\, 90 minutes\, Language: English/Dutch/Italian with English subtitles (Netherlands) \n  \n[btnsx id=”3907″] \n  \n[/col_two_thirds] \n[col_one ] \nTULIPANI tells the story of a romantic Dutch farmer named Gauke (Gijs Naber) who after losing his farm during the floods of 1953 is determined to never ever have wet socks again. He cycles to the sizzling hot south of Italy to start a new life and ends up at the outskirts of a small village in Puglia. Due to his fairylike and miraculous tulip trade\, his passionate love-life and his turbulent scuffles with the dubious local business practices\, he becomes a living legend – to then suddenly disappear. Thirty years later\, an Italian police inspector (Giancarlo Giannini) attempts to unravel the story\, but struggles to distinguish fact from fiction. With the help of the young Canadian Anna (Ksenia Solo) he discovers what truly happened. \n  \nAward:\nWon\, Best International Film/Festival Prize\, Terra di Siena Film Festival\, 2017 \n  \n  \n[embed_video video_site=”youtube” video_url=”https://www.youtube.com/watch?v=6N6Pve4wb9k” video_width=”640″ video_height=”360″ ] \n  \n \n[/col_one] \n 
URL:https://barriefilmfestival.netgaindev.com/now-playing/tulipani-4pm/
LOCATION:Annual Barrie Film Festival
END:VEVENT
BEGIN:VEVENT
DTSTART;TZID=America/Toronto:20180103T190000
DTEND;TZID=America/Toronto:20180103T190000
DTSTAMP:20260425T183741
CREATED:20171218T214435Z
LAST-MODIFIED:20171218T214435Z
UID:3900-1515006000-1515006000@barriefilmfestival.netgaindev.com
SUMMARY:Tulipani - 7PM
DESCRIPTION:[fullwidth ] \n[col_one ] \n\n[/col_one] \n[col_one_third ] \n[col_one_third ] \n \n[/col_one_third] \n[col_two_thirds ] \nTulipani: Love\, Honour and a Bicycle\n(Tulipani: Liefde\, Eer en een Fiets)\n\nScreening:\nWednesday\, January 3 – 4pm\, 7pm\nThursday\, January 4 – 4pm\, 7pm\nLocation: Uptown Theatre\, 55 Dunlop St. W.\, Barrie \n  \nDirected by: Mike van Diem\nPrinciple Cast: Ksenia Solo\, Giancarlo Giannini\, Gijs Naber\, Lidia Vitale and Donatella Finocchiaro\nComedy/Drama\, 14A\, 90 minutes\, Language: English/Dutch/Italian with English subtitles (Netherlands) \n  \n[btnsx id=”3907″] \n  \n[/col_two_thirds] \n[col_one ] \nTULIPANI tells the story of a romantic Dutch farmer named Gauke (Gijs Naber) who after losing his farm during the floods of 1953 is determined to never ever have wet socks again. He cycles to the sizzling hot south of Italy to start a new life and ends up at the outskirts of a small village in Puglia. Due to his fairylike and miraculous tulip trade\, his passionate love-life and his turbulent scuffles with the dubious local business practices\, he becomes a living legend – to then suddenly disappear. Thirty years later\, an Italian police inspector (Giancarlo Giannini) attempts to unravel the story\, but struggles to distinguish fact from fiction. With the help of the young Canadian Anna (Ksenia Solo) he discovers what truly happened. \n  \nAward:\nWon\, Best International Film/Festival Prize\, Terra di Siena Film Festival\, 2017 \n  \n  \n[embed_video video_site=”youtube” video_url=”https://www.youtube.com/watch?v=6N6Pve4wb9k” video_width=”640″ video_height=”360″ ] \n  \n \n[/col_one] \n 
URL:https://barriefilmfestival.netgaindev.com/now-playing/tulipani-7pm/
LOCATION:Annual Barrie Film Festival
END:VEVENT
BEGIN:VEVENT
DTSTART;TZID=America/Toronto:20180104T160000
DTEND;TZID=America/Toronto:20180104T160000
DTSTAMP:20260425T183741
CREATED:20171218T214529Z
LAST-MODIFIED:20171218T214529Z
UID:3902-1515081600-1515081600@barriefilmfestival.netgaindev.com
SUMMARY:Tulipani - 4PM
DESCRIPTION:[fullwidth ] \n[col_one ] \n\n[/col_one] \n[col_one_third ] \n[col_one_third ] \n \n[/col_one_third] \n[col_two_thirds ] \nTulipani: Love\, Honour and a Bicycle\n(Tulipani: Liefde\, Eer en een Fiets)\n\nScreening:\nWednesday\, January 3 – 4pm\, 7pm\nThursday\, January 4 – 4pm\, 7pm\nLocation: Uptown Theatre\, 55 Dunlop St. W.\, Barrie \n  \nDirected by: Mike van Diem\nPrinciple Cast: Ksenia Solo\, Giancarlo Giannini\, Gijs Naber\, Lidia Vitale and Donatella Finocchiaro\nComedy/Drama\, 14A\, 90 minutes\, Language: English/Dutch/Italian with English subtitles (Netherlands) \n  \n[btnsx id=”3907″] \n  \n[/col_two_thirds] \n[col_one ] \nTULIPANI tells the story of a romantic Dutch farmer named Gauke (Gijs Naber) who after losing his farm during the floods of 1953 is determined to never ever have wet socks again. He cycles to the sizzling hot south of Italy to start a new life and ends up at the outskirts of a small village in Puglia. Due to his fairylike and miraculous tulip trade\, his passionate love-life and his turbulent scuffles with the dubious local business practices\, he becomes a living legend – to then suddenly disappear. Thirty years later\, an Italian police inspector (Giancarlo Giannini) attempts to unravel the story\, but struggles to distinguish fact from fiction. With the help of the young Canadian Anna (Ksenia Solo) he discovers what truly happened. \n  \nAward:\nWon\, Best International Film/Festival Prize\, Terra di Siena Film Festival\, 2017 \n  \n  \n[embed_video video_site=”youtube” video_url=”https://www.youtube.com/watch?v=6N6Pve4wb9k” video_width=”640″ video_height=”360″ ] \n  \n \n[/col_one] \n 
URL:https://barriefilmfestival.netgaindev.com/now-playing/tulipani-4pm-2/
LOCATION:Annual Barrie Film Festival
END:VEVENT
BEGIN:VEVENT
DTSTART;TZID=America/Toronto:20180104T190000
DTEND;TZID=America/Toronto:20180104T190000
DTSTAMP:20260425T183741
CREATED:20171218T214622Z
LAST-MODIFIED:20171218T214622Z
UID:3904-1515092400-1515092400@barriefilmfestival.netgaindev.com
SUMMARY:Tulipani - 7PM
DESCRIPTION:[fullwidth ] \n[col_one ] \n\n[/col_one] \n[col_one_third ] \n[col_one_third ] \n \n[/col_one_third] \n[col_two_thirds ] \nTulipani: Love\, Honour and a Bicycle\n(Tulipani: Liefde\, Eer en een Fiets)\n\nScreening:\nWednesday\, January 3 – 4pm\, 7pm\nThursday\, January 4 – 4pm\, 7pm\nLocation: Uptown Theatre\, 55 Dunlop St. W.\, Barrie \n  \nDirected by: Mike van Diem\nPrinciple Cast: Ksenia Solo\, Giancarlo Giannini\, Gijs Naber\, Lidia Vitale and Donatella Finocchiaro\nComedy/Drama\, 14A\, 90 minutes\, Language: English/Dutch/Italian with English subtitles (Netherlands) \n  \n[btnsx id=”3907″] \n  \n[/col_two_thirds] \n[col_one ] \nTULIPANI tells the story of a romantic Dutch farmer named Gauke (Gijs Naber) who after losing his farm during the floods of 1953 is determined to never ever have wet socks again. He cycles to the sizzling hot south of Italy to start a new life and ends up at the outskirts of a small village in Puglia. Due to his fairylike and miraculous tulip trade\, his passionate love-life and his turbulent scuffles with the dubious local business practices\, he becomes a living legend – to then suddenly disappear. Thirty years later\, an Italian police inspector (Giancarlo Giannini) attempts to unravel the story\, but struggles to distinguish fact from fiction. With the help of the young Canadian Anna (Ksenia Solo) he discovers what truly happened. \n  \nAward:\nWon\, Best International Film/Festival Prize\, Terra di Siena Film Festival\, 2017 \n  \n  \n[embed_video video_site=”youtube” video_url=”https://www.youtube.com/watch?v=6N6Pve4wb9k” video_width=”640″ video_height=”360″ ] \n  \n \n[/col_one] \n 
URL:https://barriefilmfestival.netgaindev.com/now-playing/tulipani-7pm-2/
LOCATION:Annual Barrie Film Festival
END:VEVENT
BEGIN:VEVENT
DTSTART;TZID=America/Toronto:20180118T160000
DTEND;TZID=America/Toronto:20180118T173300
DTSTAMP:20260425T183741
CREATED:20171230T184020Z
LAST-MODIFIED:20171230T184020Z
UID:3924-1516291200-1516296780@barriefilmfestival.netgaindev.com
SUMMARY:In Search of Fellini - 4PM
DESCRIPTION:[col_one] \n \n[col_two_thirds ] \nIn Search of Fellini\n\nScreening: Thursday\, January 18\, 2018 – 4pm\, 7pm\nUptown Theatre\, 55 Dunlop St. W.\, Barrie\nDirected by: Taron Lexton\nCast: Ksenia Solo\, Maria Bello and Mary Lynn Rajskub\nDrama/Adventure\, 14A for sexuality/nudity and language\, 93 minutes (USA/Italy) \n  \n[btnsx id=”3922″] \n  \n“Cinephiles should appreciate this nostalgic coming-of-age drama that finds its own modest niche while capturing the spirit of the legendary Italian filmmaker.” – Todd Jorgenson\, Cinemalogue.com \n  \nLucy (Ksenia Solo) has never kissed a boy\, never had a job\, and never really had friends. Her best friend is her mother Claire (Maria Bello)\, who has shielded her from all the bad in the world\, including Claire’s own terminal illness. Claire’s sister\, Kerri (Mary Lynn Rajskub)\, urges Claire to break her silence and tell Lucy the truth before it’s too late. Lucy leaps into adulthood and onto her Vespa to Cleveland for an ill-fated job interview. There\, she stumbles into a bizarre and wonderful festival of the films of Federico Fellini\, the great Italian director\, where she sees his Oscar-winning La Strada – a movie that doesn’t have the happy ending she’s used to. In a burst of courage\, she leaves her small-town home and sets off on a journey across Italy to find the filmmaker and unlock his mysterious enigma and her own. \n  \nAwards:\nWon\, Best Feature (USA)\, Best Director (Taron Lexton) and Best Actress (Ksenia Solo)\, Ferrara Film Festival\, 2017 \n  \nFilm tickets: $10 for Adults\, $8 for Seniors/Students \n  \n[embed_video video_site=”vimeo” video_url=”https://vimeo.com/233868715″ video_width=”640″ video_height=”360″ ] \n  \nProgram is Sponsored by: \n \n\n[/col_one] \n[/fullwidth]
URL:https://barriefilmfestival.netgaindev.com/now-playing/in-search-of-fellini-4pm/
LOCATION:Annual Barrie Film Festival
END:VEVENT
BEGIN:VEVENT
DTSTART;TZID=America/Toronto:20180118T190000
DTEND;TZID=America/Toronto:20180118T203300
DTSTAMP:20260425T183741
CREATED:20171230T184208Z
LAST-MODIFIED:20171230T184208Z
UID:3926-1516302000-1516307580@barriefilmfestival.netgaindev.com
SUMMARY:In Search of Fellini - 7PM
DESCRIPTION:[col_one] \n \n[col_two_thirds ] \nIn Search of Fellini\n\nScreening: Thursday\, January 18\, 2018 – 4pm\, 7pm\nUptown Theatre\, 55 Dunlop St. W.\, Barrie\nDirected by: Taron Lexton\nCast: Ksenia Solo\, Maria Bello and Mary Lynn Rajskub\nDrama/Adventure\, 14A for sexuality/nudity and language\, 93 minutes (USA/Italy) \n  \n[btnsx id=”3922″] \n  \n“Cinephiles should appreciate this nostalgic coming-of-age drama that finds its own modest niche while capturing the spirit of the legendary Italian filmmaker.” – Todd Jorgenson\, Cinemalogue.com \n  \nLucy (Ksenia Solo) has never kissed a boy\, never had a job\, and never really had friends. Her best friend is her mother Claire (Maria Bello)\, who has shielded her from all the bad in the world\, including Claire’s own terminal illness. Claire’s sister\, Kerri (Mary Lynn Rajskub)\, urges Claire to break her silence and tell Lucy the truth before it’s too late. Lucy leaps into adulthood and onto her Vespa to Cleveland for an ill-fated job interview. There\, she stumbles into a bizarre and wonderful festival of the films of Federico Fellini\, the great Italian director\, where she sees his Oscar-winning La Strada – a movie that doesn’t have the happy ending she’s used to. In a burst of courage\, she leaves her small-town home and sets off on a journey across Italy to find the filmmaker and unlock his mysterious enigma and her own. \n  \nAwards:\nWon\, Best Feature (USA)\, Best Director (Taron Lexton) and Best Actress (Ksenia Solo)\, Ferrara Film Festival\, 2017 \n  \nFilm tickets: $10 for Adults\, $8 for Seniors/Students \n  \n[embed_video video_site=”vimeo” video_url=”https://vimeo.com/233868715″ video_width=”640″ video_height=”360″ ] \n  \nProgram is Sponsored by: \n \n\n[/col_one] \n[/fullwidth]
URL:https://barriefilmfestival.netgaindev.com/now-playing/in-search-of-fellini-7pm/
LOCATION:Annual Barrie Film Festival
END:VEVENT
END:VCALENDAR