BEGIN:VCALENDAR
VERSION:2.0
PRODID:-//Barrie Film Festival - ECPv6.7.0//NONSGML v1.0//EN
CALSCALE:GREGORIAN
METHOD:PUBLISH
X-WR-CALNAME:Barrie Film Festival
X-ORIGINAL-URL:https://barriefilmfestival.netgaindev.com
X-WR-CALDESC:Events for Barrie Film Festival
REFRESH-INTERVAL;VALUE=DURATION:PT1H
X-Robots-Tag:noindex
X-PUBLISHED-TTL:PT1H
BEGIN:VTIMEZONE
TZID:America/Toronto
BEGIN:DAYLIGHT
TZOFFSETFROM:-0500
TZOFFSETTO:-0400
TZNAME:EDT
DTSTART:20180311T070000
END:DAYLIGHT
BEGIN:STANDARD
TZOFFSETFROM:-0400
TZOFFSETTO:-0500
TZNAME:EST
DTSTART:20181104T060000
END:STANDARD
END:VTIMEZONE
BEGIN:VEVENT
DTSTART;TZID=America/Toronto:20180602T210000
DTEND;TZID=America/Toronto:20180602T225000
DTSTAMP:20260425T080409
CREATED:20180508T201532Z
LAST-MODIFIED:20180508T201532Z
UID:4238-1527973200-1527979800@barriefilmfestival.netgaindev.com
SUMMARY:Outdoor Screening - Back to the Future
DESCRIPTION:[col_one ] \n– STARLIGHT CINEMA –\nAfter a fun-filled day at Celebrate Barrie\, experience the soft glow of the silver screen as you enjoy an outdoor film at the beach! Bring your blankets and lawn chairs for a movie under the stars. \n  \nBack to the Future (1985)\nSaturday\, June 2\, 2018\nCentennial Beach\, Barrie\nStarts at dusk (approx. 9pm)\, weather permitting (rain date is Jun 9). Admission is Free. \n \nDirected by: Robert Zemeckis\nStarring: Michael J. Fox\, Christopher Lloyd\, Lea Thompson\, Crispin Glover\nAdventure/Comedy\, Rated PG\, 110 min. (USA) \n  \nMarty McFly (Michael J. Fox) is blasted to 1955 in the time machine created by Doc Brown (Christopher Lloyd) and finds himself in a time-shattering situation that jeopardizes his future. \n  \n    \n[/col_one]
URL:https://barriefilmfestival.netgaindev.com/now-playing/outdoor-screening-back-to-the-future/
LOCATION:Programs
END:VEVENT
BEGIN:VEVENT
DTSTART;TZID=America/Toronto:20180606T040000
DTEND;TZID=America/Toronto:20180606T180100
DTSTAMP:20260425T080409
CREATED:20180507T143624Z
LAST-MODIFIED:20180507T143624Z
UID:4217-1528257600-1528308060@barriefilmfestival.netgaindev.com
SUMMARY:Lean On Pete - 4PM
DESCRIPTION:[col_one_third ] \n[col_one_third ] \n \n[/col_one_third] \n[col_two_thirds ] \nLean on Pete\n\nScreening:\nWednesday\, June 6\, 2018 – 4 pm\, 7 pm\nThursday\, June 7\, 2018 – 4 pm\, 7 pm\nLocation: Uptown Theatre\, 55 Dunlop St. W.\, Barrie \n  \nWritten and Directed by: Andrew Haigh\nCast: Charlie Plummer\, Steve Buscemi\, Chloë Sevigny\, Steve Zahn and Travis Fimmel\nDrama\, 14A for coarse language\, brief violence\, mild sexual references\, 121 minutes (United Kingdom) \n  \n[btnsx id=”4259″] \n\n[/col_two_thirds] \n[col_one ] \n“Throughout\, Plummer is mesmerizing\, his sunken eyes and gaunt face telling of the layers of hardships Charley is forced to endure.” – Adam Graham\, Detroit News \n“Again and again\, I marveled at the humanist depth of the world Haigh creates\, one that can only be rendered by a truly great writer and director\, working near the top of his game.” – Brian Tellerico\, RogerEbert.com \n  \n  \nFrom acclaimed filmmaker Andrew Haigh comes a deeply moving story told through the unique prism of one boy’s connection to a very special racehorse. 15-year-old Charley (Charlie Plummer) arrives in Portland\, Oregon\, with his single father Ray (Travis Fimmel)\, both eager for a fresh start after a series of hard knocks. While Ray descends into personal turmoil\, Charley finds camaraderie at a local racetrack where he lands a job caring for an ageing Quarter Horse named Lean On Pete. The horse’s gruff owner Del (Steve Buscemi) and his seasoned jockey Bonnie (Chloë Sevigny) help Charley fill the void of his father’s absence — until he discovers that Pete is bound for slaughter\, prompting him to take extreme measures to spare his new friend’s life. Charley and Pete head out into the great unknown\, embarking on an odyssey across the new American frontier in search of a loving aunt Charley hasn’t seen in years. They experience adventure and heartbreak in equal measure\, but never lose their irrepressible hope and resiliency as they pursue their dream of finding a place they can call home. Featuring an award-winning performance by Plummer\, Lean on Pete is a compassionate and heartrending look at the desire for love\, family and acceptance. \n  \n7 Awards\, 3 Nominations: \nWinner\, Truly Moving Pictures Award\, Heartland Film\, 2018\nNominated\, Best 2018 Movies Already Seen\, Indiewire Critics’ Poll\, 2017\nWinner\, Best Picture\, International Cinephile Society Awards\, 2018\nWinner\, Best Actor (Charlie Plummer)/Best Cinematography\,\nLes Arcs European Film Festival\, 2017\nNominee\, Best Film\, London Film Festival\, 2017\nWinner\, Best Young Actor (Charlie Plummer)\, Venice Film Festival\, 2017 \n  \n  \n[embed_video video_site=”youtube” video_url=”https://www.youtube.com/watch?v=3GYnFP9HDRA” video_width=”640″ video_height=”360″ ] \n  \n  \n \n[/col_one]
URL:https://barriefilmfestival.netgaindev.com/now-playing/lean-on-pete/
LOCATION:Annual Barrie Film Festival
END:VEVENT
BEGIN:VEVENT
DTSTART;TZID=America/Toronto:20180606T190000
DTEND;TZID=America/Toronto:20180606T210100
DTSTAMP:20260425T080409
CREATED:20180507T143932Z
LAST-MODIFIED:20180507T143932Z
UID:4222-1528311600-1528318860@barriefilmfestival.netgaindev.com
SUMMARY:Lean On Pete - 7PM
DESCRIPTION:[col_one_third ] \n[col_one_third ] \n \n[/col_one_third] \n[col_two_thirds ] \nLean on Pete\n\nScreening:\nWednesday\, June 6\, 2018 – 4 pm\, 7 pm\nThursday\, June 7\, 2018 – 4 pm\, 7 pm\nLocation: Uptown Theatre\, 55 Dunlop St. W.\, Barrie \n  \nWritten and Directed by: Andrew Haigh\nCast: Charlie Plummer\, Steve Buscemi\, Chloë Sevigny\, Steve Zahn and Travis Fimmel\nDrama\, 14A for coarse language\, brief violence\, mild sexual references\, 121 minutes (United Kingdom) \n  \n[btnsx id=”4259″] \n\n[/col_two_thirds] \n[col_one ] \n“Throughout\, Plummer is mesmerizing\, his sunken eyes and gaunt face telling of the layers of hardships Charley is forced to endure.” – Adam Graham\, Detroit News \n“Again and again\, I marveled at the humanist depth of the world Haigh creates\, one that can only be rendered by a truly great writer and director\, working near the top of his game.” – Brian Tellerico\, RogerEbert.com \n  \n  \nFrom acclaimed filmmaker Andrew Haigh comes a deeply moving story told through the unique prism of one boy’s connection to a very special racehorse. 15-year-old Charley (Charlie Plummer) arrives in Portland\, Oregon\, with his single father Ray (Travis Fimmel)\, both eager for a fresh start after a series of hard knocks. While Ray descends into personal turmoil\, Charley finds camaraderie at a local racetrack where he lands a job caring for an ageing Quarter Horse named Lean On Pete. The horse’s gruff owner Del (Steve Buscemi) and his seasoned jockey Bonnie (Chloë Sevigny) help Charley fill the void of his father’s absence — until he discovers that Pete is bound for slaughter\, prompting him to take extreme measures to spare his new friend’s life. Charley and Pete head out into the great unknown\, embarking on an odyssey across the new American frontier in search of a loving aunt Charley hasn’t seen in years. They experience adventure and heartbreak in equal measure\, but never lose their irrepressible hope and resiliency as they pursue their dream of finding a place they can call home. Featuring an award-winning performance by Plummer\, Lean on Pete is a compassionate and heartrending look at the desire for love\, family and acceptance. \n  \n7 Awards\, 3 Nominations: \nWinner\, Truly Moving Pictures Award\, Heartland Film\, 2018\nNominated\, Best 2018 Movies Already Seen\, Indiewire Critics’ Poll\, 2017\nWinner\, Best Picture\, International Cinephile Society Awards\, 2018\nWinner\, Best Actor (Charlie Plummer)/Best Cinematography\,\nLes Arcs European Film Festival\, 2017\nNominee\, Best Film\, London Film Festival\, 2017\nWinner\, Best Young Actor (Charlie Plummer)\, Venice Film Festival\, 2017 \n  \n  \n[embed_video video_site=”youtube” video_url=”https://www.youtube.com/watch?v=3GYnFP9HDRA” video_width=”640″ video_height=”360″ ] \n  \n  \n \n[/col_one]
URL:https://barriefilmfestival.netgaindev.com/now-playing/lean-on-pete-7pm/
LOCATION:Annual Barrie Film Festival
END:VEVENT
BEGIN:VEVENT
DTSTART;TZID=America/Toronto:20180607T160000
DTEND;TZID=America/Toronto:20180607T180100
DTSTAMP:20260425T080409
CREATED:20180507T144112Z
LAST-MODIFIED:20180507T144112Z
UID:4224-1528387200-1528394460@barriefilmfestival.netgaindev.com
SUMMARY:Lean On Pete - 4PM
DESCRIPTION:[col_one_third ] \n[col_one_third ] \n \n[/col_one_third] \n[col_two_thirds ] \nLean on Pete\n\nScreening:\nWednesday\, June 6\, 2018 – 4 pm\, 7 pm\nThursday\, June 7\, 2018 – 4 pm\, 7 pm\nLocation: Uptown Theatre\, 55 Dunlop St. W.\, Barrie \n  \nWritten and Directed by: Andrew Haigh\nCast: Charlie Plummer\, Steve Buscemi\, Chloë Sevigny\, Steve Zahn and Travis Fimmel\nDrama\, 14A for coarse language\, brief violence\, mild sexual references\, 121 minutes (United Kingdom) \n  \n[btnsx id=”4259″]\n\n[/col_two_thirds] \n[col_one ] \n“Throughout\, Plummer is mesmerizing\, his sunken eyes and gaunt face telling of the layers of hardships Charley is forced to endure.” – Adam Graham\, Detroit News \n  \n“Again and again\, I marveled at the humanist depth of the world Haigh creates\, one that can only be rendered by a truly great writer and director\, working near the top of his game.” – Brian Tellerico\, RogerEbert.com \n  \n  \nFrom acclaimed filmmaker Andrew Haigh comes a deeply moving story told through the unique prism of one boy’s connection to a very special racehorse. 15-year-old Charley (Charlie Plummer) arrives in Portland\, Oregon\, with his single father Ray (Travis Fimmel)\, both eager for a fresh start after a series of hard knocks. While Ray descends into personal turmoil\, Charley finds camaraderie at a local racetrack where he lands a job caring for an ageing Quarter Horse named Lean On Pete. The horse’s gruff owner Del (Steve Buscemi) and his seasoned jockey Bonnie (Chloë Sevigny) help Charley fill the void of his father’s absence — until he discovers that Pete is bound for slaughter\, prompting him to take extreme measures to spare his new friend’s life. Charley and Pete head out into the great unknown\, embarking on an odyssey across the new American frontier in search of a loving aunt Charley hasn’t seen in years. They experience adventure and heartbreak in equal measure\, but never lose their irrepressible hope and resiliency as they pursue their dream of finding a place they can call home. Featuring an award-winning performance by Plummer\, Lean on Pete is a compassionate and heartrending look at the desire for love\, family and acceptance. \n  \n7 Awards\, 3 Nominations: \nWinner\, Truly Moving Pictures Award\, Heartland Film\, 2018\nNominated\, Best 2018 Movies Already Seen\, Indiewire Critics’ Poll\, 2017\nWinner\, Best Picture\, International Cinephile Society Awards\, 2018\nWinner\, Best Actor (Charlie Plummer)/Best Cinematography\,\nLes Arcs European Film Festival\, 2017\nNominee\, Best Film\, London Film Festival\, 2017\nWinner\, Best Young Actor (Charlie Plummer)\, Venice Film Festival\, 2017 \n  \n  \n[embed_video video_site=”youtube” video_url=”https://www.youtube.com/watch?v=3GYnFP9HDRA” video_width=”640″ video_height=”360″ ] \n  \n  \n \n[/col_one]
URL:https://barriefilmfestival.netgaindev.com/now-playing/lean-on-pete-4pm/
LOCATION:Annual Barrie Film Festival
END:VEVENT
BEGIN:VEVENT
DTSTART;TZID=America/Toronto:20180607T190000
DTEND;TZID=America/Toronto:20180607T210100
DTSTAMP:20260425T080409
CREATED:20180507T144234Z
LAST-MODIFIED:20180507T144234Z
UID:4226-1528398000-1528405260@barriefilmfestival.netgaindev.com
SUMMARY:Lean On Pete - 7PM
DESCRIPTION:[col_one_third ] \n[col_one_third ] \n \n[/col_one_third] \n[col_two_thirds ] \nLean on Pete\n\nScreening:\nWednesday\, June 6\, 2018 – 4 pm\, 7 pm\nThursday\, June 7\, 2018 – 4 pm\, 7 pm\nLocation: Uptown Theatre\, 55 Dunlop St. W.\, Barrie \n  \nWritten and Directed by: Andrew Haigh\nCast: Charlie Plummer\, Steve Buscemi\, Chloë Sevigny\, Steve Zahn and Travis Fimmel\nDrama\, 14A for coarse language\, brief violence\, mild sexual references\, 121 minutes (United Kingdom) \n  \n [btnsx id=”4259″]\n\n[/col_two_thirds] \n[col_one ] \n“Throughout\, Plummer is mesmerizing\, his sunken eyes and gaunt face telling of the layers of hardships Charley is forced to endure.” – Adam Graham\, Detroit News \n  \n“Again and again\, I marveled at the humanist depth of the world Haigh creates\, one that can only be rendered by a truly great writer and director\, working near the top of his game.” – Brian Tellerico\, RogerEbert.com \n  \n  \nFrom acclaimed filmmaker Andrew Haigh comes a deeply moving story told through the unique prism of one boy’s connection to a very special racehorse. 15-year-old Charley (Charlie Plummer) arrives in Portland\, Oregon\, with his single father Ray (Travis Fimmel)\, both eager for a fresh start after a series of hard knocks. While Ray descends into personal turmoil\, Charley finds camaraderie at a local racetrack where he lands a job caring for an ageing Quarter Horse named Lean On Pete. The horse’s gruff owner Del (Steve Buscemi) and his seasoned jockey Bonnie (Chloë Sevigny) help Charley fill the void of his father’s absence — until he discovers that Pete is bound for slaughter\, prompting him to take extreme measures to spare his new friend’s life. Charley and Pete head out into the great unknown\, embarking on an odyssey across the new American frontier in search of a loving aunt Charley hasn’t seen in years. They experience adventure and heartbreak in equal measure\, but never lose their irrepressible hope and resiliency as they pursue their dream of finding a place they can call home. Featuring an award-winning performance by Plummer\, Lean on Pete is a compassionate and heartrending look at the desire for love\, family and acceptance. \n  \n7 Awards\, 3 Nominations: \nWinner\, Truly Moving Pictures Award\, Heartland Film\, 2018\nNominated\, Best 2018 Movies Already Seen\, Indiewire Critics’ Poll\, 2017\nWinner\, Best Picture\, International Cinephile Society Awards\, 2018\nWinner\, Best Actor (Charlie Plummer)/Best Cinematography\,\nLes Arcs European Film Festival\, 2017\nNominee\, Best Film\, London Film Festival\, 2017\nWinner\, Best Young Actor (Charlie Plummer)\, Venice Film Festival\, 2017 \n  \n  \n[embed_video video_site=”youtube” video_url=”https://www.youtube.com/watch?v=3GYnFP9HDRA” video_width=”640″ video_height=”360″ ] \n  \n  \n \n[/col_one]
URL:https://barriefilmfestival.netgaindev.com/now-playing/lean-on-pete-7pm-2/
LOCATION:Annual Barrie Film Festival
END:VEVENT
BEGIN:VEVENT
DTSTART;TZID=America/Toronto:20180621T160000
DTEND;TZID=America/Toronto:20180621T175200
DTSTAMP:20260425T080409
CREATED:20180507T145320Z
LAST-MODIFIED:20180507T145320Z
UID:4228-1529596800-1529603520@barriefilmfestival.netgaindev.com
SUMMARY:The Insult - 4PM
DESCRIPTION:[col_one_third ] \n[col_one_third ] \n \n[/col_one_third] \n[col_two_thirds ] \nThe Insult (L’insulte)\nScreening: Thursday\, June 21\, 2018 – 4 pm\, 7 pm\nLocation: Uptown Theatre\, 55 Dunlop St. W.\, Barrie \n  \nCo-written and Directed by: Ziad Doueiri\nCast: Kamel El Basha\, Adel Karam\, Rita Hayek\, Camille Salameh\, Diamand Abou Abboud\, Carlos Chahine\nDrama/Thriller\, 14A for coarse language and some violent images\, 112 minutes\, Language: Arabic with English subtitles\n(Lebanon/Belgium/Cyprus/France/USA) \n  \n[btnsx id=”4389″] \n  \n \n\n[/col_two_thirds] \n[col_one ] \n“A powerful and impeccably crafted tale arguing for the crucial importance of addressing history and facing down trauma… Doueiri weaves a starkly intimate fable of violence that’s at once deeply personal and universally\, globally relevant.”  – Katie Walsh\, Tribune News Service \n  \n“… eloquently portrays not only the galloping dehumanization that the world is living through\, but above all its… deep contempt for the most basic human values ​​that inhabit the world’s geopolitics…”  – Toni Vall\, CINEMANIA \n  \n  \n  \nThe latest feature from Ziad Doueiri centres on a dispute between two men on the streets of Beirut that suddenly becomes a national sensation when it opens up old wounds and traumatic memories. One afternoon in the dog days of a Beirut summer\, Tony (Adel Karam) gets into an altercation with Yasser over a broken drainpipe. Tony is a mechanic and a Christian; Yasser is a construction foreman and a Palestinian. When Tony\, hard-nosed and hot-headed\, refuses to accept Yasser’s half-hearted apology\, two bruised male egos begin to swell. Tony utters an unforgiveable insult to Yasser. With a speed neither man could foresee\, their personal argument escalates through the neighbourhood and the city to the national stage. The dispute comes to encapsulate the lasting legacy of the Lebanese Civil War — and becomes a lightning rod for people with more power than either man to pursue their own agendas. Nominated for Best Foreign Language Film at the 90th Academy Awards\, The Insult is an impeccably made political drama\, layered with clever observations on the complex history of the region as seen through the intimate mechanisms of an interpersonal misunderstanding. \n  \n7 Awards\, 14 Nominations: \nNominated\, Best Foreign Language Film of the Year\, Academy Awards\, USA\, 2018\nWinner\, Audience Award/World Cinema\, AFI FEST\, 2017\nWinner\, Best Feature Film\, Boulder International Film Festival\, 2018\nNominated\, Best Lebanese Motion Picture/Best Ensemble Cast in a Lebanese Motion Picture\, The Lebanese Movie Awards\, 2018\nWinner\, Best Actor (Kamel El Basha) Venice Film Festival\, 2017 \n  \n  \n[embed_video video_site=”vimeo” video_url=”https://vimeo.com/248454124″ video_width=”640″ video_height=”360″ ] \n  \n  \n \n[/col_one]
URL:https://barriefilmfestival.netgaindev.com/now-playing/the-insult-4pm/
LOCATION:Annual Barrie Film Festival
END:VEVENT
BEGIN:VEVENT
DTSTART;TZID=America/Toronto:20180621T190000
DTEND;TZID=America/Toronto:20180621T205200
DTSTAMP:20260425T080409
CREATED:20180507T145630Z
LAST-MODIFIED:20180507T145630Z
UID:4232-1529607600-1529614320@barriefilmfestival.netgaindev.com
SUMMARY:The Insult - 7PM
DESCRIPTION:[col_one_third ] \n[col_one_third ] \n \n[/col_one_third] \n[col_two_thirds ] \nThe Insult (L’insulte)\nScreening: Thursday\, June 21\, 2018 – 4 pm\, 7 pm\nLocation: Uptown Theatre\, 55 Dunlop St. W.\, Barrie \n  \nCo-written and Directed by: Ziad Doueiri\nCast: Kamel El Basha\, Adel Karam\, Rita Hayek\, Camille Salameh\, Diamand Abou Abboud\, Carlos Chahine\nDrama/Thriller\, 14A for coarse language and some violent images\, 112 minutes\, Language: Arabic with English subtitles\n(Lebanon/Belgium/Cyprus/France/USA) \n  \n[btnsx id=”4389″] \n  \n \n\n[/col_two_thirds] \n[col_one ] \n“A powerful and impeccably crafted tale arguing for the crucial importance of addressing history and facing down trauma… Doueiri weaves a starkly intimate fable of violence that’s at once deeply personal and universally\, globally relevant.”  – Katie Walsh\, Tribune News Service \n  \n“… eloquently portrays not only the galloping dehumanization that the world is living through\, but above all its… deep contempt for the most basic human values ​​that inhabit the world’s geopolitics…”  – Toni Vall\, CINEMANIA \n  \n  \n  \nThe latest feature from Ziad Doueiri centres on a dispute between two men on the streets of Beirut that suddenly becomes a national sensation when it opens up old wounds and traumatic memories. One afternoon in the dog days of a Beirut summer\, Tony (Adel Karam) gets into an altercation with Yasser over a broken drainpipe. Tony is a mechanic and a Christian; Yasser is a construction foreman and a Palestinian. When Tony\, hard-nosed and hot-headed\, refuses to accept Yasser’s half-hearted apology\, two bruised male egos begin to swell. Tony utters an unforgiveable insult to Yasser. With a speed neither man could foresee\, their personal argument escalates through the neighbourhood and the city to the national stage. The dispute comes to encapsulate the lasting legacy of the Lebanese Civil War — and becomes a lightning rod for people with more power than either man to pursue their own agendas. Nominated for Best Foreign Language Film at the 90th Academy Awards\, The Insult is an impeccably made political drama\, layered with clever observations on the complex history of the region as seen through the intimate mechanisms of an interpersonal misunderstanding. \n  \n7 Awards\, 14 Nominations: \nNominated\, Best Foreign Language Film of the Year\, Academy Awards\, USA\, 2018\nWinner\, Audience Award/World Cinema\, AFI FEST\, 2017\nWinner\, Best Feature Film\, Boulder International Film Festival\, 2018\nNominated\, Best Lebanese Motion Picture/Best Ensemble Cast in a Lebanese Motion Picture\, The Lebanese Movie Awards\, 2018\nWinner\, Best Actor (Kamel El Basha) Venice Film Festival\, 2017 \n  \n  \n[embed_video video_site=”vimeo” video_url=”https://vimeo.com/248454124″ video_width=”640″ video_height=”360″ ] \n  \n  \n \n[/col_one]
URL:https://barriefilmfestival.netgaindev.com/now-playing/the-insult-7pm/
LOCATION:Annual Barrie Film Festival
END:VEVENT
END:VCALENDAR