BEGIN:VCALENDAR
VERSION:2.0
PRODID:-//Barrie Film Festival - ECPv6.7.0//NONSGML v1.0//EN
CALSCALE:GREGORIAN
METHOD:PUBLISH
X-ORIGINAL-URL:https://barriefilmfestival.netgaindev.com
X-WR-CALDESC:Events for Barrie Film Festival
REFRESH-INTERVAL;VALUE=DURATION:PT1H
X-Robots-Tag:noindex
X-PUBLISHED-TTL:PT1H
BEGIN:VTIMEZONE
TZID:America/Toronto
BEGIN:DAYLIGHT
TZOFFSETFROM:-0500
TZOFFSETTO:-0400
TZNAME:EDT
DTSTART:20190310T070000
END:DAYLIGHT
BEGIN:STANDARD
TZOFFSETFROM:-0400
TZOFFSETTO:-0500
TZNAME:EST
DTSTART:20191103T060000
END:STANDARD
END:VTIMEZONE
BEGIN:VEVENT
DTSTART;TZID=America/Toronto:20190109T160000
DTEND;TZID=America/Toronto:20190109T173600
DTSTAMP:20260424T225037
CREATED:20181213T202554Z
LAST-MODIFIED:20181213T202554Z
UID:5284-1547049600-1547055360@barriefilmfestival.netgaindev.com
SUMMARY:The Fireflies Are Gone
DESCRIPTION:[col_one_third ] \n[col_one_third ] \n \n[/col_one_third] \n[col_two_thirds ] \nThe Fireflies Are Gone (La disparition des lucioles)\n\nScreening:\nWednesday\, January 9 – 4pm\, 7pm\nThursday\, January 10 – 4pm\, 7pm\nLocation: Uptown Theatre\, 55 Dunlop St. W.\, Barrie \n  \nWritten and Directed by: Sébastien Pilote\nCast: Karelle Tremblay\, Pierre-Luc Brillant\, Luc Picard\, François Papineau\nDrama\, Not Rated\, 96 minutes\, Language: English and French with English subtitles (Canada) \n  \n[btnsx id=”5282″] \n[/col_two_thirds] \n[col_one ] \n“This is a satisfying\, slightly mournful seriocomedy that’s equal parts cynical\, hopeful\, and ambivalent.” – Dennis Harvey\, VARIETY \n  \n“It’s not a novel premise\, but Pilote delivers the requisite insights and atmosphere in an engaging way\, and his two leads are simply terrific.” – Norman Wilner\, NOW Toronto \n  \n  \nIt is near the end of high school\, and Léo (Tremblay) dreams of escape. She feels stuck in her small-town\, industrial Québécois life. The easiest target for her frustrations is her stepdad\, a local talk-radio celebrity on the wrong side of a political divide that forced her union-organizing father out of town. Léo misses her father and yearns to leave\, but her rebellion du jour only seems to manifest itself as a feeling of uneasiness. Enter Steve (Pierre-Luc Brillant\, C.R.A.Z.Y)\, a much older metal-head who still lives in his mother’s basement. Léo is fascinated and sees in him much more than the archetypal loser he may appear to be. As their relationship grows over the summer\, an ever-present longing lingers beneath the surface of their friendship — and Léo must decide how to express her deep desire for something more. However\, the tenacious vigour of Léo’s teenage angst\, brought to life by the magnetic Tremblay\, sets this film apart from the director’s earlier work. Winner of the Canada Goose Award for Best Canadian Feature Film at TIFF 2018\, this film revels in exquisite close-ups and dreamy musical flourishes that harkens back to classic melodramas; Pilote creates an evocative pop fantasy amidst the customary political tensions in a small Quebec town. \n  \n  \nAWARDS:\n \nWinner\, Best Canadian Feature Film\, Toronto International Film Festival\, 2018\nNominee\, Best Film\, Karlovy Vary International Film Festival\, 2018\nNominee\, Best Feature Film\, Torino Film Festival\, 2018\nWinner\, Best Cinematography\, Whistler Film Festival\, 2018 \n  \n[embed_video video_site=”youtube” video_url=”https://www.youtube.com/watch?v=FeY_FHcWhMo” video_width=”640″ video_height=”360″ ] \n  \n \n  \n[/col_one]
URL:https://barriefilmfestival.netgaindev.com/now-playing/the-fireflies-are-gone/
LOCATION:Annual Barrie Film Festival
END:VEVENT
BEGIN:VEVENT
DTSTART;TZID=America/Toronto:20190109T190000
DTEND;TZID=America/Toronto:20190109T203600
DTSTAMP:20260424T225037
CREATED:20181213T203301Z
LAST-MODIFIED:20181213T203301Z
UID:5287-1547060400-1547066160@barriefilmfestival.netgaindev.com
SUMMARY:The Fireflies Are Gone
DESCRIPTION:[col_one_third ] \n[col_one_third ] \n \n[/col_one_third] \n[col_two_thirds ] \nThe Fireflies Are Gone (La disparition des lucioles)\n\nScreening:\nWednesday\, January 9 – 4pm\, 7pm\nThursday\, January 10 – 4pm\, 7pm\nLocation: Uptown Theatre\, 55 Dunlop St. W.\, Barrie \n  \nWritten and Directed by: Sébastien Pilote\nCast: Karelle Tremblay\, Pierre-Luc Brillant\, Luc Picard\, François Papineau\nDrama\, Not Rated\, 96 minutes\, Language: English and French with English subtitles (Canada) \n  \n[btnsx id=”5282″] \n[/col_two_thirds] \n[col_one ] \n“This is a satisfying\, slightly mournful seriocomedy that’s equal parts cynical\, hopeful\, and ambivalent.” – Dennis Harvey\, VARIETY \n  \n“It’s not a novel premise\, but Pilote delivers the requisite insights and atmosphere in an engaging way\, and his two leads are simply terrific.” – Norman Wilner\, NOW Toronto \n  \n  \nIt is near the end of high school\, and Léo (Tremblay) dreams of escape. She feels stuck in her small-town\, industrial Québécois life. The easiest target for her frustrations is her stepdad\, a local talk-radio celebrity on the wrong side of a political divide that forced her union-organizing father out of town. Léo misses her father and yearns to leave\, but her rebellion du jour only seems to manifest itself as a feeling of uneasiness. Enter Steve (Pierre-Luc Brillant\, C.R.A.Z.Y)\, a much older metal-head who still lives in his mother’s basement. Léo is fascinated and sees in him much more than the archetypal loser he may appear to be. As their relationship grows over the summer\, an ever-present longing lingers beneath the surface of their friendship — and Léo must decide how to express her deep desire for something more. However\, the tenacious vigour of Léo’s teenage angst\, brought to life by the magnetic Tremblay\, sets this film apart from the director’s earlier work. Winner of the Canada Goose Award for Best Canadian Feature Film at TIFF 2018\, this film revels in exquisite close-ups and dreamy musical flourishes that harkens back to classic melodramas; Pilote creates an evocative pop fantasy amidst the customary political tensions in a small Quebec town. \n  \n  \nAWARDS:\n \nWinner\, Best Canadian Feature Film\, Toronto International Film Festival\, 2018\nNominee\, Best Film\, Karlovy Vary International Film Festival\, 2018\nNominee\, Best Feature Film\, Torino Film Festival\, 2018\nWinner\, Best Cinematography\, Whistler Film Festival\, 2018 \n  \n[embed_video video_site=”youtube” video_url=”https://www.youtube.com/watch?v=FeY_FHcWhMo” video_width=”640″ video_height=”360″ ] \n  \n \n  \n[/col_one]
URL:https://barriefilmfestival.netgaindev.com/now-playing/the-fireflies-are-gone-2/
LOCATION:Annual Barrie Film Festival
END:VEVENT
BEGIN:VEVENT
DTSTART;TZID=America/Toronto:20190110T160000
DTEND;TZID=America/Toronto:20190110T173600
DTSTAMP:20260424T225037
CREATED:20181213T203515Z
LAST-MODIFIED:20181213T203515Z
UID:5291-1547136000-1547141760@barriefilmfestival.netgaindev.com
SUMMARY:The Fireflies Are Gone
DESCRIPTION:[col_one_third ] \n[col_one_third ] \n \n[/col_one_third] \n[col_two_thirds ] \nThe Fireflies Are Gone (La disparition des lucioles)\n\nScreening:\nWednesday\, January 9 – 4pm\, 7pm\nThursday\, January 10 – 4pm\, 7pm\nLocation: Uptown Theatre\, 55 Dunlop St. W.\, Barrie \n  \nWritten and Directed by: Sébastien Pilote\nCast: Karelle Tremblay\, Pierre-Luc Brillant\, Luc Picard\, François Papineau\nDrama\, Not Rated\, 96 minutes\, Language: English and French with English subtitles (Canada) \n  \n[btnsx id=”5282″] \n[/col_two_thirds] \n[col_one ] \n“This is a satisfying\, slightly mournful seriocomedy that’s equal parts cynical\, hopeful\, and ambivalent.” – Dennis Harvey\, VARIETY \n  \n“It’s not a novel premise\, but Pilote delivers the requisite insights and atmosphere in an engaging way\, and his two leads are simply terrific.” – Norman Wilner\, NOW Toronto \n  \n  \nIt is near the end of high school\, and Léo (Tremblay) dreams of escape. She feels stuck in her small-town\, industrial Québécois life. The easiest target for her frustrations is her stepdad\, a local talk-radio celebrity on the wrong side of a political divide that forced her union-organizing father out of town. Léo misses her father and yearns to leave\, but her rebellion du jour only seems to manifest itself as a feeling of uneasiness. Enter Steve (Pierre-Luc Brillant\, C.R.A.Z.Y)\, a much older metal-head who still lives in his mother’s basement. Léo is fascinated and sees in him much more than the archetypal loser he may appear to be. As their relationship grows over the summer\, an ever-present longing lingers beneath the surface of their friendship — and Léo must decide how to express her deep desire for something more. However\, the tenacious vigour of Léo’s teenage angst\, brought to life by the magnetic Tremblay\, sets this film apart from the director’s earlier work. Winner of the Canada Goose Award for Best Canadian Feature Film at TIFF 2018\, this film revels in exquisite close-ups and dreamy musical flourishes that harkens back to classic melodramas; Pilote creates an evocative pop fantasy amidst the customary political tensions in a small Quebec town. \n  \n  \nAWARDS:\n \nWinner\, Best Canadian Feature Film\, Toronto International Film Festival\, 2018\nNominee\, Best Film\, Karlovy Vary International Film Festival\, 2018\nNominee\, Best Feature Film\, Torino Film Festival\, 2018\nWinner\, Best Cinematography\, Whistler Film Festival\, 2018 \n  \n[embed_video video_site=”youtube” video_url=”https://www.youtube.com/watch?v=FeY_FHcWhMo” video_width=”640″ video_height=”360″ ] \n  \n \n  \n[/col_one]
URL:https://barriefilmfestival.netgaindev.com/now-playing/the-fireflies-are-gone-3/
LOCATION:Annual Barrie Film Festival
END:VEVENT
BEGIN:VEVENT
DTSTART;TZID=America/Toronto:20190110T190000
DTEND;TZID=America/Toronto:20190110T203600
DTSTAMP:20260424T225037
CREATED:20181213T203613Z
LAST-MODIFIED:20181213T203613Z
UID:5293-1547146800-1547152560@barriefilmfestival.netgaindev.com
SUMMARY:The Fireflies Are Gone
DESCRIPTION:[col_one_third ] \n[col_one_third ] \n \n[/col_one_third] \n[col_two_thirds ] \nThe Fireflies Are Gone (La disparition des lucioles)\n\nScreening:\nWednesday\, January 9 – 4pm\, 7pm\nThursday\, January 10 – 4pm\, 7pm\nLocation: Uptown Theatre\, 55 Dunlop St. W.\, Barrie \n  \nWritten and Directed by: Sébastien Pilote\nCast: Karelle Tremblay\, Pierre-Luc Brillant\, Luc Picard\, François Papineau\nDrama\, Not Rated\, 96 minutes\, Language: English and French with English subtitles (Canada) \n  \n[btnsx id=”5282″] \n[/col_two_thirds] \n[col_one ] \n“This is a satisfying\, slightly mournful seriocomedy that’s equal parts cynical\, hopeful\, and ambivalent.” – Dennis Harvey\, VARIETY \n  \n“It’s not a novel premise\, but Pilote delivers the requisite insights and atmosphere in an engaging way\, and his two leads are simply terrific.” – Norman Wilner\, NOW Toronto \n  \n  \nIt is near the end of high school\, and Léo (Tremblay) dreams of escape. She feels stuck in her small-town\, industrial Québécois life. The easiest target for her frustrations is her stepdad\, a local talk-radio celebrity on the wrong side of a political divide that forced her union-organizing father out of town. Léo misses her father and yearns to leave\, but her rebellion du jour only seems to manifest itself as a feeling of uneasiness. Enter Steve (Pierre-Luc Brillant\, C.R.A.Z.Y)\, a much older metal-head who still lives in his mother’s basement. Léo is fascinated and sees in him much more than the archetypal loser he may appear to be. As their relationship grows over the summer\, an ever-present longing lingers beneath the surface of their friendship — and Léo must decide how to express her deep desire for something more. However\, the tenacious vigour of Léo’s teenage angst\, brought to life by the magnetic Tremblay\, sets this film apart from the director’s earlier work. Winner of the Canada Goose Award for Best Canadian Feature Film at TIFF 2018\, this film revels in exquisite close-ups and dreamy musical flourishes that harkens back to classic melodramas; Pilote creates an evocative pop fantasy amidst the customary political tensions in a small Quebec town. \n  \n  \nAWARDS:\n \nWinner\, Best Canadian Feature Film\, Toronto International Film Festival\, 2018\nNominee\, Best Film\, Karlovy Vary International Film Festival\, 2018\nNominee\, Best Feature Film\, Torino Film Festival\, 2018\nWinner\, Best Cinematography\, Whistler Film Festival\, 2018 \n  \n[embed_video video_site=”youtube” video_url=”https://www.youtube.com/watch?v=FeY_FHcWhMo” video_width=”640″ video_height=”360″ ] \n  \n \n  \n[/col_one]
URL:https://barriefilmfestival.netgaindev.com/now-playing/the-fireflies-are-gone-4/
LOCATION:Annual Barrie Film Festival
END:VEVENT
BEGIN:VEVENT
DTSTART;TZID=America/Toronto:20190117T160000
DTEND;TZID=America/Toronto:20190117T174000
DTSTAMP:20260424T225037
CREATED:20181218T173252Z
LAST-MODIFIED:20181218T173252Z
UID:5306-1547740800-1547746800@barriefilmfestival.netgaindev.com
SUMMARY:Falls Around Her
DESCRIPTION:[col_one ] \n\nFalls Around Her\nScreening: Thursday\, January 17\, 2019 – 4pm\, 7pm\nUptown Theatre\, 55 Dunlop St. W.\, Barrie \n  \n[btnsx id=”5337″] \n  \nWritten and Directed by: Darlene Naponse\nCast: Tantoo Cardinal\, Lewis Hodgson\, Rob Stewart\, Tina Keeper\, and Johnny Issaluk\nDrama/Thriller\, NR\, 100 minutes\, Language: English and Ojibwa with English subtitles (Canada) \n  \n“Falls Around Her is legendary Cree and Métis actor Tantoo Cardinal’s first lead role in a feature film – and she’s enthralling in it.” – Samantha Edwards\, NOW Toronto \n  \nMary (Tantoo Cardinal) is a renowned Anishinaabe musician who comes home to Atikameksheng Anishnawbek First Nation in northern Ontario\, exhausted by many years on the road touring internationally with her band. She returns to the land to restore herself but her past success makes her a commodity to some\, and it can be tricky to hide from the demands of the outside world. \n  \nHer sister Betty (Tina Keeper) senses there may be more to Mary’s need for isolation and urges her to reconnect with family and old friends. As Mary gets out more and even starts dating\, it seems as though new possibilities are on the horizon. However\, the past has a way of catching up\, and when Mary starts to hear disturbing noises around her cabin\, she becomes paranoid that someone may be after her. \n  \nMary knows how to survive\, but she also deserves to thrive. And that means gathering the ability to be open to the healing that comes from love\, self-expression\, family\, community\, and\, especially\, the land. (TIFF/DANIS GOULET) \n  \n\n \n[/col_one]
URL:https://barriefilmfestival.netgaindev.com/now-playing/falls-around-her/
LOCATION:Annual Barrie Film Festival
END:VEVENT
BEGIN:VEVENT
DTSTART;TZID=America/Toronto:20190117T190000
DTEND;TZID=America/Toronto:20190117T204000
DTSTAMP:20260424T225037
CREATED:20181218T173406Z
LAST-MODIFIED:20181218T173406Z
UID:5309-1547751600-1547757600@barriefilmfestival.netgaindev.com
SUMMARY:Falls Around Her
DESCRIPTION:[col_one ] \n\nFalls Around Her\nScreening: Thursday\, January 17\, 2019 – 4pm\, 7pm\nUptown Theatre\, 55 Dunlop St. W.\, Barrie \n  \n[btnsx id=”5337″] \n  \nWritten and Directed by: Darlene Naponse\nCast: Tantoo Cardinal\, Lewis Hodgson\, Rob Stewart\, Tina Keeper\, and Johnny Issaluk\nDrama/Thriller\, NR\, 100 minutes\, Language: English and Ojibwa with English subtitles (Canada) \n  \n“Falls Around Her is legendary Cree and Métis actor Tantoo Cardinal’s first lead role in a feature film – and she’s enthralling in it.” – Samantha Edwards\, NOW Toronto \n  \nMary (Tantoo Cardinal) is a renowned Anishinaabe musician who comes home to Atikameksheng Anishnawbek First Nation in northern Ontario\, exhausted by many years on the road touring internationally with her band. She returns to the land to restore herself but her past success makes her a commodity to some\, and it can be tricky to hide from the demands of the outside world. \n  \nHer sister Betty (Tina Keeper) senses there may be more to Mary’s need for isolation and urges her to reconnect with family and old friends. As Mary gets out more and even starts dating\, it seems as though new possibilities are on the horizon. However\, the past has a way of catching up\, and when Mary starts to hear disturbing noises around her cabin\, she becomes paranoid that someone may be after her. \n  \nMary knows how to survive\, but she also deserves to thrive. And that means gathering the ability to be open to the healing that comes from love\, self-expression\, family\, community\, and\, especially\, the land. (TIFF/DANIS GOULET) \n  \n\n \n[/col_one]
URL:https://barriefilmfestival.netgaindev.com/now-playing/falls-around-her-2/
LOCATION:Annual Barrie Film Festival
END:VEVENT
END:VCALENDAR