BEGIN:VCALENDAR
VERSION:2.0
PRODID:-//Barrie Film Festival - ECPv6.7.0//NONSGML v1.0//EN
CALSCALE:GREGORIAN
METHOD:PUBLISH
X-WR-CALNAME:Barrie Film Festival
X-ORIGINAL-URL:https://barriefilmfestival.netgaindev.com
X-WR-CALDESC:Events for Barrie Film Festival
REFRESH-INTERVAL;VALUE=DURATION:PT1H
X-Robots-Tag:noindex
X-PUBLISHED-TTL:PT1H
BEGIN:VTIMEZONE
TZID:America/Toronto
BEGIN:DAYLIGHT
TZOFFSETFROM:-0500
TZOFFSETTO:-0400
TZNAME:EDT
DTSTART:20190310T070000
END:DAYLIGHT
BEGIN:STANDARD
TZOFFSETFROM:-0400
TZOFFSETTO:-0500
TZNAME:EST
DTSTART:20191103T060000
END:STANDARD
END:VTIMEZONE
BEGIN:VEVENT
DTSTART;TZID=America/Toronto:20190403T160000
DTEND;TZID=America/Toronto:20190403T170000
DTSTAMP:20260424T161932
CREATED:20190309T140051Z
LAST-MODIFIED:20190309T140051Z
UID:5573-1554307200-1554310800@barriefilmfestival.netgaindev.com
SUMMARY:If Beale Street Could Talk - 4pm
DESCRIPTION:[col_one_third ] \n[col_one_third ] \n \n[/col_one_third] \n[col_two_thirds ] \nIf Beale Street Could Talk\nScreening:\nWednesday\, April 3\, 2019 – 4pm\, 7pm\nThursday\, April 4\, 2019 – 4pm\, 7pm\nLocation: Uptown Theatre\, 55 Dunlop St. W.\, Barrie \n  \n[btnsx id=”5590″] \n  \nAdapted and Directed by: Barry Jenkins\nCast: KiKi Layne\, Stephan James\, Regina King and Brian Tyree Henry\nDrama\, 18A – mature theme\, sexual content\, language may offend\, 117 minutes (USA) \n  \n[/col_two_thirds] \n[col_one ] \n“This movie works as a timeless romance\, a family drama\, a legal thriller and a poignant social commentary. A great American novel has been turned into a great American film.” – Richard Roeper\, Chicago Sun-Times \n  \n“If a powerful kick to your gut’s sense of social justice is what you’re looking for\, you can’t do any better.” – Jeff Stickler\, Minneapolis Star Tribune \n  \n“That’s pure cinema. What Baldwin does with words\, Mr. Jenkins does visually.” – Michael Phillips\, Chicago Tribune \n  \n  \nSet in early-1970s Harlem\, If Beale Street Could Talk is a timeless and moving love story of both a couple’s unbreakable bond and the African-American family’s empowering embrace\, as told through the eyes of 19-year-old Tish Rivers (screen newcomer KiKi Layne). A daughter and wife-to-be\, Tish vividly recalls the passion\, respect and trust that have connected her and her artist fiancé Alonzo Hunt\, who goes by the nickname Fonny (Stephan James). Friends since childhood\, the devoted couple dream of a future together but their plans are derailed when Fonny is arrested for a crime he did not commit. Through the unique intimacy and power of cinema\, If Beale Street Could Talk honours the author\, James Baldwin prescient words and imagery\, charting the emotional currents navigated in an unforgiving and racially biased world as the filmmaker poetically crosses time frames to show how love and humanity endure. \n  \n  \nAWARDS: 87 Wins\, 154 Nominations! \nWinner\, Best Performance by an Actress in a Supporting Role (Regina King)\, Academy Awards\, USA\, 2019\nWinner\, Best Supporting Actress in a Motion Picture (Regina King)\, Golden Globes\, USA\, 2019\nNominated Best Motion Picture (Drama)/Best Screenplay (Motion Picture)\, Golden Globes\, USA\, 2019\nNominated\, Best Adapted Screenplay/Original Music\, BAFTA Awards\, 2019\nWinner\, Movie of the Year\, AFI Awards\, USA\, 2019\nWinner\, Best Supporting Actress (Regina King)/Best Independent Film\, African-American Film Critics Association (AAFCA)\, 2018 \n  \n[embed_video video_site=”youtube” video_url=”https://www.youtube.com/watch?v=d8qbq6Z6HYk” video_width=”640″ video_height=”360″ ] \n  \n \n  \n[/col_one]
URL:https://barriefilmfestival.netgaindev.com/now-playing/if-beale-street-could-talk-4pm/
LOCATION:Annual Barrie Film Festival
END:VEVENT
BEGIN:VEVENT
DTSTART;TZID=America/Toronto:20190403T190000
DTEND;TZID=America/Toronto:20190403T200000
DTSTAMP:20260424T161932
CREATED:20190309T140353Z
LAST-MODIFIED:20190309T140353Z
UID:5577-1554318000-1554321600@barriefilmfestival.netgaindev.com
SUMMARY:If Beale Street Could Talk - 7PM
DESCRIPTION:[col_one_third ] \n[col_one_third ] \n \n[/col_one_third] \n[col_two_thirds ] \nIf Beale Street Could Talk\nScreening:\nWednesday\, April 3\, 2019 – 4pm\, 7pm\nThursday\, April 4\, 2019 – 4pm\, 7pm\nLocation: Uptown Theatre\, 55 Dunlop St. W.\, Barrie \n  \n[btnsx id=”5590″] \n  \nAdapted and Directed by: Barry Jenkins\nCast: KiKi Layne\, Stephan James\, Regina King and Brian Tyree Henry\nDrama\, 18A – mature theme\, sexual content\, language may offend\, 117 minutes (USA) \n  \n[/col_two_thirds] \n[col_one ] \n“This movie works as a timeless romance\, a family drama\, a legal thriller and a poignant social commentary. A great American novel has been turned into a great American film.” – Richard Roeper\, Chicago Sun-Times \n  \n“If a powerful kick to your gut’s sense of social justice is what you’re looking for\, you can’t do any better.” – Jeff Stickler\, Minneapolis Star Tribune \n  \n“That’s pure cinema. What Baldwin does with words\, Mr. Jenkins does visually.” – Michael Phillips\, Chicago Tribune \n  \n  \nSet in early-1970s Harlem\, If Beale Street Could Talk is a timeless and moving love story of both a couple’s unbreakable bond and the African-American family’s empowering embrace\, as told through the eyes of 19-year-old Tish Rivers (screen newcomer KiKi Layne). A daughter and wife-to-be\, Tish vividly recalls the passion\, respect and trust that have connected her and her artist fiancé Alonzo Hunt\, who goes by the nickname Fonny (Stephan James). Friends since childhood\, the devoted couple dream of a future together but their plans are derailed when Fonny is arrested for a crime he did not commit. Through the unique intimacy and power of cinema\, If Beale Street Could Talk honours the author\, James Baldwin prescient words and imagery\, charting the emotional currents navigated in an unforgiving and racially biased world as the filmmaker poetically crosses time frames to show how love and humanity endure. \n  \n  \nAWARDS: 87 Wins\, 154 Nominations! \nWinner\, Best Performance by an Actress in a Supporting Role (Regina King)\, Academy Awards\, USA\, 2019\nWinner\, Best Supporting Actress in a Motion Picture (Regina King)\, Golden Globes\, USA\, 2019\nNominated Best Motion Picture (Drama)/Best Screenplay (Motion Picture)\, Golden Globes\, USA\, 2019\nNominated\, Best Adapted Screenplay/Original Music\, BAFTA Awards\, 2019\nWinner\, Movie of the Year\, AFI Awards\, USA\, 2019\nWinner\, Best Supporting Actress (Regina King)/Best Independent Film\, African-American Film Critics Association (AAFCA)\, 2018 \n  \n[embed_video video_site=”youtube” video_url=”https://www.youtube.com/watch?v=d8qbq6Z6HYk” video_width=”640″ video_height=”360″ ] \n  \n \n  \n[/col_one]
URL:https://barriefilmfestival.netgaindev.com/now-playing/if-beale-street-could-talk-7pm/
LOCATION:Annual Barrie Film Festival
END:VEVENT
BEGIN:VEVENT
DTSTART;TZID=America/Toronto:20190404T160000
DTEND;TZID=America/Toronto:20190404T170000
DTSTAMP:20260424T161932
CREATED:20190309T140524Z
LAST-MODIFIED:20190309T140524Z
UID:5579-1554393600-1554397200@barriefilmfestival.netgaindev.com
SUMMARY:If Beale Street Could Talk - 4PM
DESCRIPTION:[col_one_third ] \n[col_one_third ] \n \n[/col_one_third] \n[col_two_thirds ] \nIf Beale Street Could Talk\nScreening:\nWednesday\, April 3\, 2019 – 4pm\, 7pm\nThursday\, April 4\, 2019 – 4pm\, 7pm\nLocation: Uptown Theatre\, 55 Dunlop St. W.\, Barrie \n  \n[btnsx id=”5590″] \n  \nAdapted and Directed by: Barry Jenkins\nCast: KiKi Layne\, Stephan James\, Regina King and Brian Tyree Henry\nDrama\, 18A – mature theme\, sexual content\, language may offend\, 117 minutes (USA) \n  \n[/col_two_thirds] \n[col_one ] \n“This movie works as a timeless romance\, a family drama\, a legal thriller and a poignant social commentary. A great American novel has been turned into a great American film.” – Richard Roeper\, Chicago Sun-Times \n  \n“If a powerful kick to your gut’s sense of social justice is what you’re looking for\, you can’t do any better.” – Jeff Stickler\, Minneapolis Star Tribune \n  \n“That’s pure cinema. What Baldwin does with words\, Mr. Jenkins does visually.” – Michael Phillips\, Chicago Tribune \n  \n  \nSet in early-1970s Harlem\, If Beale Street Could Talk is a timeless and moving love story of both a couple’s unbreakable bond and the African-American family’s empowering embrace\, as told through the eyes of 19-year-old Tish Rivers (screen newcomer KiKi Layne). A daughter and wife-to-be\, Tish vividly recalls the passion\, respect and trust that have connected her and her artist fiancé Alonzo Hunt\, who goes by the nickname Fonny (Stephan James). Friends since childhood\, the devoted couple dream of a future together but their plans are derailed when Fonny is arrested for a crime he did not commit. Through the unique intimacy and power of cinema\, If Beale Street Could Talk honours the author\, James Baldwin prescient words and imagery\, charting the emotional currents navigated in an unforgiving and racially biased world as the filmmaker poetically crosses time frames to show how love and humanity endure. \n  \n  \nAWARDS: 87 Wins\, 154 Nominations! \nWinner\, Best Performance by an Actress in a Supporting Role (Regina King)\, Academy Awards\, USA\, 2019\nWinner\, Best Supporting Actress in a Motion Picture (Regina King)\, Golden Globes\, USA\, 2019\nNominated Best Motion Picture (Drama)/Best Screenplay (Motion Picture)\, Golden Globes\, USA\, 2019\nNominated\, Best Adapted Screenplay/Original Music\, BAFTA Awards\, 2019\nWinner\, Movie of the Year\, AFI Awards\, USA\, 2019\nWinner\, Best Supporting Actress (Regina King)/Best Independent Film\, African-American Film Critics Association (AAFCA)\, 2018 \n  \n[embed_video video_site=”youtube” video_url=”https://www.youtube.com/watch?v=d8qbq6Z6HYk” video_width=”640″ video_height=”360″ ] \n  \n \n  \n[/col_one]
URL:https://barriefilmfestival.netgaindev.com/now-playing/if-beale-street-could-talk-4pm-2/
LOCATION:Annual Barrie Film Festival
END:VEVENT
BEGIN:VEVENT
DTSTART;TZID=America/Toronto:20190404T190000
DTEND;TZID=America/Toronto:20190404T200000
DTSTAMP:20260424T161932
CREATED:20190309T140641Z
LAST-MODIFIED:20190309T140641Z
UID:5581-1554404400-1554408000@barriefilmfestival.netgaindev.com
SUMMARY:If Beale Street Could Talk - 7PM
DESCRIPTION:[col_one_third ] \n[col_one_third ] \n \n[/col_one_third] \n[col_two_thirds ] \nIf Beale Street Could Talk\nScreening:\nWednesday\, April 3\, 2019 – 4pm\, 7pm\nThursday\, April 4\, 2019 – 4pm\, 7pm\nLocation: Uptown Theatre\, 55 Dunlop St. W.\, Barrie \n  \n[btnsx id=”5590″] \n  \nAdapted and Directed by: Barry Jenkins\nCast: KiKi Layne\, Stephan James\, Regina King and Brian Tyree Henry\nDrama\, 18A – mature theme\, sexual content\, language may offend\, 117 minutes (USA) \n  \n[/col_two_thirds] \n[col_one ] \n“This movie works as a timeless romance\, a family drama\, a legal thriller and a poignant social commentary. A great American novel has been turned into a great American film.” – Richard Roeper\, Chicago Sun-Times \n  \n“If a powerful kick to your gut’s sense of social justice is what you’re looking for\, you can’t do any better.” – Jeff Stickler\, Minneapolis Star Tribune \n  \n“That’s pure cinema. What Baldwin does with words\, Mr. Jenkins does visually.” – Michael Phillips\, Chicago Tribune \n  \n  \nSet in early-1970s Harlem\, If Beale Street Could Talk is a timeless and moving love story of both a couple’s unbreakable bond and the African-American family’s empowering embrace\, as told through the eyes of 19-year-old Tish Rivers (screen newcomer KiKi Layne). A daughter and wife-to-be\, Tish vividly recalls the passion\, respect and trust that have connected her and her artist fiancé Alonzo Hunt\, who goes by the nickname Fonny (Stephan James). Friends since childhood\, the devoted couple dream of a future together but their plans are derailed when Fonny is arrested for a crime he did not commit. Through the unique intimacy and power of cinema\, If Beale Street Could Talk honours the author\, James Baldwin prescient words and imagery\, charting the emotional currents navigated in an unforgiving and racially biased world as the filmmaker poetically crosses time frames to show how love and humanity endure. \n  \n  \nAWARDS: 87 Wins\, 154 Nominations! \nWinner\, Best Performance by an Actress in a Supporting Role (Regina King)\, Academy Awards\, USA\, 2019\nWinner\, Best Supporting Actress in a Motion Picture (Regina King)\, Golden Globes\, USA\, 2019\nNominated Best Motion Picture (Drama)/Best Screenplay (Motion Picture)\, Golden Globes\, USA\, 2019\nNominated\, Best Adapted Screenplay/Original Music\, BAFTA Awards\, 2019\nWinner\, Movie of the Year\, AFI Awards\, USA\, 2019\nWinner\, Best Supporting Actress (Regina King)/Best Independent Film\, African-American Film Critics Association (AAFCA)\, 2018 \n  \n[embed_video video_site=”youtube” video_url=”https://www.youtube.com/watch?v=d8qbq6Z6HYk” video_width=”640″ video_height=”360″ ] \n  \n \n  \n[/col_one]
URL:https://barriefilmfestival.netgaindev.com/now-playing/if-beale-street-could-talk-7pm-2/
LOCATION:Annual Barrie Film Festival
END:VEVENT
BEGIN:VEVENT
DTSTART;TZID=America/Toronto:20190417T190000
DTEND;TZID=America/Toronto:20190417T202400
DTSTAMP:20260424T161932
CREATED:20190326T161159Z
LAST-MODIFIED:20190326T161159Z
UID:5613-1555527600-1555532640@barriefilmfestival.netgaindev.com
SUMMARY:You Are Here: A Come From Away Story - 7PM
DESCRIPTION:[fullwidth ] \n[col_one ] \n \nA FREE SCREENING and GUEST Q&A for National Canadian Film Day • April 17\, 2019\nNCFD is a massive one-day\, coast-to-coast-to-coast celebration of Canadian cinema. \n \n\nYou Are Here: A Come From Away Story – includes guest Q&A!\n\nWednesday\, April 17 – 7:00 pm\nUptown Theatre\, 55 Dunlop St. W.\, Barrie\nAdmission: FREE (tickets available at Uptown box office)\nDirected by: Moze Mossanen\nDocumentary\, PG\, 84 minutes (Canada) \n  \nWhat would you do if 6\,600 people unexpectedly landed in your small town with no place to stay? For the 11\,000 people of Gander\, Newfoundland\, this incredible event happened in the wake of the 9/11 attacks\, when nearly 40 planes are rerouted and grounded there. This documentary shows how this town in Newfoundland came together to feed\, shelter and support all of the stranded airline passengers for 6 days. With interviews from a selection of airline passengers and residents of the town\, this emotional and inspirational documentary tells the incredible true story that inspired the smash-hit musical Come From Away. \n\nGuest Q&A with Director Moze Mossanen \n \nMoze Mossanen is a director\, writer and producer who has created a body of popular and critically acclaimed work that have included a unique blend of drama\, documentary\, music and performance. These films “Year of the Lion” (winner of three Gemini Awards and the Jury Prize at the Yorkton Film Festival); “Roxana” (winner of two Golden Sheaf awards\, the CSC Award for Cinematography and two Gemini Awards); and “Nureyev” (winner of the Golden Sheaf Award and two Gemini awards\, including one for Best Direction for Moze). His 2013 doc\, “Unsung”\, a documentary about the world of show choirs\, won the Canadian Screen Award in 2015.  CBC aired his 2018 feature doc\, “My Piece of the City”\, in September 2018.  His most recent feature doc\, “You Are Here”\, about the actual people who inspired the current Broadway hit\, “Come From Away”\, was released on HBO Canada in September 2018.  The film won the Audience Award at CineFest in October 2018 and two CSA Awards including Best Documentary in March 2019. \n[col_one ] \n[embed_video video_site=”youtube” video_url=”https://www.youtube.com/watch?v=KYjtD-SBpFw” video_width=”640″ video_height=”360″ ] \n  \n\n  \n[/col_one] \n 
URL:https://barriefilmfestival.netgaindev.com/now-playing/you-are-here-a-come-from-away-story-7pm/
LOCATION:Annual Barrie Film Festival
END:VEVENT
BEGIN:VEVENT
DTSTART;TZID=America/Toronto:20190418T160000
DTEND;TZID=America/Toronto:20190418T175100
DTSTAMP:20260424T161932
CREATED:20190309T141928Z
LAST-MODIFIED:20190309T141928Z
UID:5583-1555603200-1555609860@barriefilmfestival.netgaindev.com
SUMMARY:At Eternity's Gate - 4PM
DESCRIPTION:[col_one_third ] \n[col_one_third ] \n \n[/col_one_third] \n[col_two_thirds ] \nAt Eternity’s Gate\n\nScreening: Thursday\, April 18\, 2019 – 4pm\, 7pm\nLocation: Uptown Theatre\, 55 Dunlop St. W.\, Barrie \n  \nCo-Written and Directed by: Julian Schnabel\nCast: Willem Dafoe\, Rupert Friend\, Mads Mikkelsen\, Mathieu Amalric\, Emmanuelle Seigner\, Oscar Isaac\nBiography/Drama\, 14A for mature thematic content\, 111 minutes\, Language: English and French with English subtitles (Switzerland/Ireland/UK/France/USA) \n  \n[btnsx id=”5627″] \n  \n[/col_two_thirds] \n[col_one ] \n“Dafoe’s elegiac quality hints at why the artist was ahead of his time: because he saw more than anyone else could. It’s a towering performance in a movie that casts a magnetic spell.” – Chris Hewitt\, Minneapolis Star Tribune \n  \n“Memorable moments come from its series of penetrating philosophical conversations… Dafoe expertly plays the keenness of Van Gogh’s intellect and creativity against his searing drive\, his raw emotions\, and the haunting that was his depression.” – Peter Canvese\, Groucho Reviews \n“Dafoe adds another masterful performance to his resume; his work here is as deep and as piercing as his performance in “The Last Temptation of Christ” more than 30 years ago.” – Adam Graham\, Detroit News \n  \n  \nAcademy Award® Nominee Julian Schnabel’s At Eternity’s Gate is a journey inside the world and mind of a person who\, despite scepticism\, ridicule and illness\, created some of the world’s most beloved and stunning works of art. This is not a forensic biography\, but rather scenes based on Vincent van Gogh’s (Academy Award® Nominee Willem Dafoe) letters\, common agreement about events in his life that present as facts\, hearsay\, and moments that are just plain invented. \n  \n  \nAWARDS: 3 Wins\, 15 Nominations! \nNominated\, Best Actor (Willem Dafoe)\, Academy Awards\, USA\, 2019\nNominated\, Best Actor (Willem Dafoe) Golden Globes\, USA\, 2019\nNominated\, Best Actor (Willem Dafoe)\, Alliance of Women Film Journalists\, 2019\nWinner\, Best Actor (Willem Dafoe)/Nominated Best Film\, Venice Film Festival\, 2018\nNominated\, Best Actor (Willem Dafoe)\, International Cinephile Society Awards\, 2019\nNominated\, Best Actor (Willem Dafoe)\, Satellite Awards\, 2019\nNominated\, Best Actor (Willem Dafoe)\, Toronto Film Critics Association Awards\, 2018\nNominated\, Best Actor (Willem Dafoe)\, Indiewire Critics’ Poll\, 2018 \n  \n[embed_video video_site=”youtube” video_url=”https://www.youtube.com/watch?v=FFevp4cyZhE” video_width=”640″ video_height=”360″ ] \n  \n \n  \n[/col_one]
URL:https://barriefilmfestival.netgaindev.com/now-playing/at-eternitys-gate-4pm/
LOCATION:Annual Barrie Film Festival
END:VEVENT
BEGIN:VEVENT
DTSTART;TZID=America/Toronto:20190418T190000
DTEND;TZID=America/Toronto:20190418T205100
DTSTAMP:20260424T161932
CREATED:20190309T142031Z
LAST-MODIFIED:20190309T142031Z
UID:5586-1555614000-1555620660@barriefilmfestival.netgaindev.com
SUMMARY:At Eternity's Gate - 7PM
DESCRIPTION:[col_one_third ] \n[col_one_third ] \n \n[/col_one_third] \n[col_two_thirds ] \nAt Eternity’s Gate\n\nScreening: Thursday\, April 18\, 2019 – 4pm\, 7pm\nLocation: Uptown Theatre\, 55 Dunlop St. W.\, Barrie \n  \nCo-Written and Directed by: Julian Schnabel\nCast: Willem Dafoe\, Rupert Friend\, Mads Mikkelsen\, Mathieu Amalric\, Emmanuelle Seigner\, Oscar Isaac\nBiography/Drama\, 14A for mature thematic content\, 111 minutes\, Language: English and French with English subtitles (Switzerland/Ireland/UK/France/USA) \n  \n[btnsx id=”5627″] \n  \n[/col_two_thirds] \n[col_one ] \n“Dafoe’s elegiac quality hints at why the artist was ahead of his time: because he saw more than anyone else could. It’s a towering performance in a movie that casts a magnetic spell.” – Chris Hewitt\, Minneapolis Star Tribune \n  \n“Memorable moments come from its series of penetrating philosophical conversations… Dafoe expertly plays the keenness of Van Gogh’s intellect and creativity against his searing drive\, his raw emotions\, and the haunting that was his depression.” – Peter Canvese\, Groucho Reviews \n“Dafoe adds another masterful performance to his resume; his work here is as deep and as piercing as his performance in “The Last Temptation of Christ” more than 30 years ago.” – Adam Graham\, Detroit News \n  \n  \nAcademy Award® Nominee Julian Schnabel’s At Eternity’s Gate is a journey inside the world and mind of a person who\, despite scepticism\, ridicule and illness\, created some of the world’s most beloved and stunning works of art. This is not a forensic biography\, but rather scenes based on Vincent van Gogh’s (Academy Award® Nominee Willem Dafoe) letters\, common agreement about events in his life that present as facts\, hearsay\, and moments that are just plain invented. \n  \n  \nAWARDS: 3 Wins\, 15 Nominations! \nNominated\, Best Actor (Willem Dafoe)\, Academy Awards\, USA\, 2019\nNominated\, Best Actor (Willem Dafoe) Golden Globes\, USA\, 2019\nNominated\, Best Actor (Willem Dafoe)\, Alliance of Women Film Journalists\, 2019\nWinner\, Best Actor (Willem Dafoe)/Nominated Best Film\, Venice Film Festival\, 2018\nNominated\, Best Actor (Willem Dafoe)\, International Cinephile Society Awards\, 2019\nNominated\, Best Actor (Willem Dafoe)\, Satellite Awards\, 2019\nNominated\, Best Actor (Willem Dafoe)\, Toronto Film Critics Association Awards\, 2018\nNominated\, Best Actor (Willem Dafoe)\, Indiewire Critics’ Poll\, 2018 \n  \n[embed_video video_site=”youtube” video_url=”https://www.youtube.com/watch?v=FFevp4cyZhE” video_width=”640″ video_height=”360″ ] \n  \n \n  \n[/col_one]
URL:https://barriefilmfestival.netgaindev.com/now-playing/at-eternitys-gate-7pm/
LOCATION:Annual Barrie Film Festival
END:VEVENT
END:VCALENDAR