BEGIN:VCALENDAR
VERSION:2.0
PRODID:-//Barrie Film Festival - ECPv6.7.0//NONSGML v1.0//EN
CALSCALE:GREGORIAN
METHOD:PUBLISH
X-WR-CALNAME:Barrie Film Festival
X-ORIGINAL-URL:https://barriefilmfestival.netgaindev.com
X-WR-CALDESC:Events for Barrie Film Festival
REFRESH-INTERVAL;VALUE=DURATION:PT1H
X-Robots-Tag:noindex
X-PUBLISHED-TTL:PT1H
BEGIN:VTIMEZONE
TZID:America/Toronto
BEGIN:DAYLIGHT
TZOFFSETFROM:-0500
TZOFFSETTO:-0400
TZNAME:EDT
DTSTART:20190310T070000
END:DAYLIGHT
BEGIN:STANDARD
TZOFFSETFROM:-0400
TZOFFSETTO:-0500
TZNAME:EST
DTSTART:20191103T060000
END:STANDARD
END:VTIMEZONE
BEGIN:VEVENT
DTSTART;TZID=America/Toronto:20190501T160000
DTEND;TZID=America/Toronto:20190501T174100
DTSTAMP:20260424T145526
CREATED:20190415T184111Z
LAST-MODIFIED:20190415T184111Z
UID:5669-1556726400-1556732460@barriefilmfestival.netgaindev.com
SUMMARY:Wild Rose - 4PM
DESCRIPTION:[col_one_third ] \n[col_one_third ] \n \n[/col_one_third] \n[col_two_thirds ] \nWild Rose\n\nScreening:\nWednesday\, May 1\, 2019 – 4pm\, 7pm\nThursday\, May 2\, 2019 – 4pm\, 7pm\nLocation: Uptown Theatre\, 55 Dunlop St. W.\, Barrie \n  \n[btnsx id=”5666″] \n  \nDirected by: Tom Harper\nCast: Jessie Buckley\, Julie Walters\, Sophie Okonedo\, James Harkness\, Neill McColl\nComedy/Drama/Music\, 14A for coarse language\, mature thematics\, some sexuality\, 101 min. (United Kingdom) \n  \n[/col_two_thirds] \n[col_one ] \n“Wild Rose is so much fun that you only half notice its left-turn from the star-is-born setup to something altogether richer and more emotionally satisfying.” – Jamie Dunn\, The Skinny \n  \n“A happy-sad drama of star struck fever that lifts you up and sweeps you along\, touching you down in a puddle of well-earned tears.” – Owen Gleiberman\, Variety \n  \n“A beautiful story told with a huge amount of tenderness and love for its unconventional heroine. Jessie Buckley is one of the brightest stars in our sky right now.” – Linda Marric\, HeyUGuys \n  \n“Entirely delightful\, fresh as a Scottish summer evening.” – Leslie Felperin\, Hollywood Reporter \n  \nYoung single mother Rose-Lynn Harlan (former musical reality talent show contestant Jessie Buckley\, who came in second on the BBC show I’d Do Anything)\, 23\, lives in Glasgow\, but dreams of becoming a country star in Nashville. \nAfter spending a year in prison on drug-related offences\, Rose-Lynn goes home to her mother (Julie Walters)\, who has been taking care of Rose-Lynn’s two young children. Rose-Lynn is indifferent to her kids\, seeing them as an impediment on her road to stardom. \nOnce a singer at a local country music club\, Rose-Lynn now has a strict parole curfew and an ankle monitor\, which precludes her from returning to the stage. Instead\, she finds a job as a housekeeper for an English woman\, Susannah (Sophie Okonedo)\, during the day. When Susannah and her children hear Rose-Lynn singing while working\, they become fans and want to help her reach her dreams. \n  \n[embed_video video_site=”youtube” video_url=”https://www.youtube.com/watch?v=i_o9-zcirEM” video_width=”640″ video_height=”360″ ] \n  \n \n  \n[/col_one]
URL:https://barriefilmfestival.netgaindev.com/now-playing/wild-rose-4pm/
LOCATION:Annual Barrie Film Festival
END:VEVENT
BEGIN:VEVENT
DTSTART;TZID=America/Toronto:20190501T190000
DTEND;TZID=America/Toronto:20190501T204100
DTSTAMP:20260424T145526
CREATED:20190415T184218Z
LAST-MODIFIED:20190415T184218Z
UID:5671-1556737200-1556743260@barriefilmfestival.netgaindev.com
SUMMARY:Wild Rose - 7PM
DESCRIPTION:[col_one_third ] \n[col_one_third ] \n \n[/col_one_third] \n[col_two_thirds ] \nWild Rose\n\nScreening:\nWednesday\, May 1\, 2019 – 4pm\, 7pm\nThursday\, May 2\, 2019 – 4pm\, 7pm\nLocation: Uptown Theatre\, 55 Dunlop St. W.\, Barrie \n  \n[btnsx id=”5666″] \n  \nDirected by: Tom Harper\nCast: Jessie Buckley\, Julie Walters\, Sophie Okonedo\, James Harkness\, Neill McColl\nComedy/Drama/Music\, 14A for coarse language\, mature thematics\, some sexuality\, 101 min. (United Kingdom) \n  \n[/col_two_thirds] \n[col_one ] \n“Wild Rose is so much fun that you only half notice its left-turn from the star-is-born setup to something altogether richer and more emotionally satisfying.” – Jamie Dunn\, The Skinny \n  \n“A happy-sad drama of star struck fever that lifts you up and sweeps you along\, touching you down in a puddle of well-earned tears.” – Owen Gleiberman\, Variety \n  \n“A beautiful story told with a huge amount of tenderness and love for its unconventional heroine. Jessie Buckley is one of the brightest stars in our sky right now.” – Linda Marric\, HeyUGuys \n  \n“Entirely delightful\, fresh as a Scottish summer evening.” – Leslie Felperin\, Hollywood Reporter \n  \nYoung single mother Rose-Lynn Harlan (former musical reality talent show contestant Jessie Buckley\, who came in second on the BBC show I’d Do Anything)\, 23\, lives in Glasgow\, but dreams of becoming a country star in Nashville. \nAfter spending a year in prison on drug-related offences\, Rose-Lynn goes home to her mother (Julie Walters)\, who has been taking care of Rose-Lynn’s two young children. Rose-Lynn is indifferent to her kids\, seeing them as an impediment on her road to stardom. \nOnce a singer at a local country music club\, Rose-Lynn now has a strict parole curfew and an ankle monitor\, which precludes her from returning to the stage. Instead\, she finds a job as a housekeeper for an English woman\, Susannah (Sophie Okonedo)\, during the day. When Susannah and her children hear Rose-Lynn singing while working\, they become fans and want to help her reach her dreams. \n  \n[embed_video video_site=”youtube” video_url=”https://www.youtube.com/watch?v=i_o9-zcirEM” video_width=”640″ video_height=”360″ ] \n  \n \n  \n[/col_one]
URL:https://barriefilmfestival.netgaindev.com/now-playing/wild-rose-7pm/
LOCATION:Annual Barrie Film Festival
END:VEVENT
BEGIN:VEVENT
DTSTART;TZID=America/Toronto:20190502T160000
DTEND;TZID=America/Toronto:20190502T174100
DTSTAMP:20260424T145526
CREATED:20190415T184324Z
LAST-MODIFIED:20190415T184324Z
UID:5673-1556812800-1556818860@barriefilmfestival.netgaindev.com
SUMMARY:Wild Rose - 4PM
DESCRIPTION:[col_one_third ] \n[col_one_third ] \n \n[/col_one_third] \n[col_two_thirds ] \nWild Rose\n\nScreening:\nWednesday\, May 1\, 2019 – 4pm\, 7pm\nThursday\, May 2\, 2019 – 4pm\, 7pm\nLocation: Uptown Theatre\, 55 Dunlop St. W.\, Barrie \n  \n[btnsx id=”5666″] \n  \nDirected by: Tom Harper\nCast: Jessie Buckley\, Julie Walters\, Sophie Okonedo\, James Harkness\, Neill McColl\nComedy/Drama/Music\, 14A for coarse language\, mature thematics\, some sexuality\, 101 min. (United Kingdom) \n  \n[/col_two_thirds] \n[col_one ] \n“Wild Rose is so much fun that you only half notice its left-turn from the star-is-born setup to something altogether richer and more emotionally satisfying.” – Jamie Dunn\, The Skinny \n  \n“A happy-sad drama of star struck fever that lifts you up and sweeps you along\, touching you down in a puddle of well-earned tears.” – Owen Gleiberman\, Variety \n  \n“A beautiful story told with a huge amount of tenderness and love for its unconventional heroine. Jessie Buckley is one of the brightest stars in our sky right now.” – Linda Marric\, HeyUGuys \n  \n“Entirely delightful\, fresh as a Scottish summer evening.” – Leslie Felperin\, Hollywood Reporter \n  \nYoung single mother Rose-Lynn Harlan (former musical reality talent show contestant Jessie Buckley\, who came in second on the BBC show I’d Do Anything)\, 23\, lives in Glasgow\, but dreams of becoming a country star in Nashville. \nAfter spending a year in prison on drug-related offences\, Rose-Lynn goes home to her mother (Julie Walters)\, who has been taking care of Rose-Lynn’s two young children. Rose-Lynn is indifferent to her kids\, seeing them as an impediment on her road to stardom. \nOnce a singer at a local country music club\, Rose-Lynn now has a strict parole curfew and an ankle monitor\, which precludes her from returning to the stage. Instead\, she finds a job as a housekeeper for an English woman\, Susannah (Sophie Okonedo)\, during the day. When Susannah and her children hear Rose-Lynn singing while working\, they become fans and want to help her reach her dreams. \n  \n[embed_video video_site=”youtube” video_url=”https://www.youtube.com/watch?v=i_o9-zcirEM” video_width=”640″ video_height=”360″ ] \n  \n  \n \n  \n[/col_one]
URL:https://barriefilmfestival.netgaindev.com/now-playing/wild-rose-4pm-2/
LOCATION:Annual Barrie Film Festival
END:VEVENT
BEGIN:VEVENT
DTSTART;TZID=America/Toronto:20190502T190000
DTEND;TZID=America/Toronto:20190502T204100
DTSTAMP:20260424T145526
CREATED:20190415T184607Z
LAST-MODIFIED:20190415T184607Z
UID:5678-1556823600-1556829660@barriefilmfestival.netgaindev.com
SUMMARY:Wild Rose - 7PM
DESCRIPTION:[col_one_third ] \n[col_one_third ] \n \n[/col_one_third] \n[col_two_thirds ] \nWild Rose\n\nScreening:\nWednesday\, May 1\, 2019 – 4pm\, 7pm\nThursday\, May 2\, 2019 – 4pm\, 7pm\nLocation: Uptown Theatre\, 55 Dunlop St. W.\, Barrie \n  \n[btnsx id=”5666″] \n  \nDirected by: Tom Harper\nCast: Jessie Buckley\, Julie Walters\, Sophie Okonedo\, James Harkness\, Neill McColl\nComedy/Drama/Music\, 14A for coarse language\, mature thematics\, some sexuality\, 101 min. (United Kingdom) \n  \n[/col_two_thirds] \n[col_one ] \n“Wild Rose is so much fun that you only half notice its left-turn from the star-is-born setup to something altogether richer and more emotionally satisfying.” – Jamie Dunn\, The Skinny \n  \n“A happy-sad drama of star struck fever that lifts you up and sweeps you along\, touching you down in a puddle of well-earned tears.” – Owen Gleiberman\, Variety \n  \n“A beautiful story told with a huge amount of tenderness and love for its unconventional heroine. Jessie Buckley is one of the brightest stars in our sky right now.” – Linda Marric\, HeyUGuys \n  \n“Entirely delightful\, fresh as a Scottish summer evening.” – Leslie Felperin\, Hollywood Reporter \n  \nYoung single mother Rose-Lynn Harlan (former musical reality talent show contestant Jessie Buckley\, who came in second on the BBC show I’d Do Anything)\, 23\, lives in Glasgow\, but dreams of becoming a country star in Nashville. \nAfter spending a year in prison on drug-related offences\, Rose-Lynn goes home to her mother (Julie Walters)\, who has been taking care of Rose-Lynn’s two young children. Rose-Lynn is indifferent to her kids\, seeing them as an impediment on her road to stardom. \nOnce a singer at a local country music club\, Rose-Lynn now has a strict parole curfew and an ankle monitor\, which precludes her from returning to the stage. Instead\, she finds a job as a housekeeper for an English woman\, Susannah (Sophie Okonedo)\, during the day. When Susannah and her children hear Rose-Lynn singing while working\, they become fans and want to help her reach her dreams. \n  \n[embed_video video_site=”youtube” video_url=”https://www.youtube.com/watch?v=i_o9-zcirEM” video_width=”640″ video_height=”360″ ] \n  \n \n  \n[/col_one]
URL:https://barriefilmfestival.netgaindev.com/now-playing/wild-rose-7pm-2/
LOCATION:Annual Barrie Film Festival
END:VEVENT
BEGIN:VEVENT
DTSTART;TZID=America/Toronto:20190516T160000
DTEND;TZID=America/Toronto:20190516T175900
DTSTAMP:20260424T145526
CREATED:20190419T174535Z
LAST-MODIFIED:20190419T174535Z
UID:5687-1558022400-1558029540@barriefilmfestival.netgaindev.com
SUMMARY:Goalie - 4PM
DESCRIPTION:[col_one ] \n \nGoalie\nScreening: Thursday\, May 16\, 2019 – 4pm\, 7pm\nUptown Theatre\, 55 Dunlop St. W.\, Barrie \n  \n[btnsx id=”5699″] \n  \nCo-written and Directed by: Adriana Maggs\nCast: Mark O’Brien\, Kevin Pollak\, Georgina Reilly\nDrama/Sports/Biography\, PG\, 119 minutes (Canada) \n  \n“Director Maggs tells a tough\, sympathetic story in an imaginative way that makes Goalie feel like a war story.” – Brad Wheeler\, Globe and Mail \n  \nThe life of a professional hockey player was not always a glamorous one. For legendary goaltender Terry Sawchuk\, each save means one more gash to his unmasked face and one more drink to numb the pain. Even with a wife and seven children at home\, he is haunted by the void left from his childhood which he tried to fill with cheering crowds. Following Sawchuk from his youth in Winnipeg in the 1930s to Detroit\, Boston\, Toronto\, Los Angeles\, and New York between 1950 and 1970\, his 103 shutouts\, and 400 stitches to his face\, this is a man who lives\, breathes\, and dies a goalie. \n  \nThe film is based in part on the award-winning book of poetry\, Night Work\, by Randall Maggs and the only authorized biography\, Sawchuk: The Troubles and Triumphs of the World’s Greatest Goalie by David Dupuis. Goalie was filmed on location in Sudbury\, Ontario\, Canada. \n  \n  \n[embed_video video_site=”youtube” video_url=”https://www.youtube.com/watch?v=56nzs7p8lY4″ video_width=”640″ video_height=”360″ ] \n[col_one] \n[col_two_thirds ] \n\nProgram is Sponsored by: \n \n\nFilm tickets: $10 for Adults\, $8 for Seniors/Students \nAdvance tickets are available one week before screening online and at the Uptown Theatre box office (in the evenings an hour before their first screening). HST is included in the ticket price. \n[/col_one]
URL:https://barriefilmfestival.netgaindev.com/now-playing/goalie-4pm/
LOCATION:Annual Barrie Film Festival
END:VEVENT
BEGIN:VEVENT
DTSTART;TZID=America/Toronto:20190516T190000
DTEND;TZID=America/Toronto:20190516T205900
DTSTAMP:20260424T145526
CREATED:20190419T174951Z
LAST-MODIFIED:20190419T174951Z
UID:5690-1558033200-1558040340@barriefilmfestival.netgaindev.com
SUMMARY:Goalie - 7PM
DESCRIPTION:[col_one ] \n \nGoalie\nScreening: Thursday\, May 16\, 2019 – 4pm\, 7pm\nUptown Theatre\, 55 Dunlop St. W.\, Barrie \n  \n[btnsx id=”5699″] \n  \nCo-written and Directed by: Adriana Maggs\nCast: Mark O’Brien\, Kevin Pollak\, Georgina Reilly\nDrama/Sports/Biography\, PG\, 119 minutes (Canada) \n  \n“Director Maggs tells a tough\, sympathetic story in an imaginative way that makes Goalie feel like a war story.” – Brad Wheeler\, Globe and Mail \n  \nThe life of a professional hockey player was not always a glamorous one. For legendary goaltender Terry Sawchuk\, each save means one more gash to his unmasked face and one more drink to numb the pain. Even with a wife and seven children at home\, he is haunted by the void left from his childhood which he tried to fill with cheering crowds. Following Sawchuk from his youth in Winnipeg in the 1930s to Detroit\, Boston\, Toronto\, Los Angeles\, and New York between 1950 and 1970\, his 103 shutouts\, and 400 stitches to his face\, this is a man who lives\, breathes\, and dies a goalie. \n  \nThe film is based in part on the award-winning book of poetry\, Night Work\, by Randall Maggs and the only authorized biography\, Sawchuk: The Troubles and Triumphs of the World’s Greatest Goalie by David Dupuis. Goalie was filmed on location in Sudbury\, Ontario\, Canada. \n  \n  \n[embed_video video_site=”youtube” video_url=”https://www.youtube.com/watch?v=56nzs7p8lY4″ video_width=”640″ video_height=”360″ ] \n[col_one] \n[col_two_thirds ] \n\nProgram is Sponsored by: \n \n\nFilm tickets: $10 for Adults\, $8 for Seniors/Students \nAdvance tickets are available one week before screening online and at the Uptown Theatre box office (in the evenings an hour before their first screening). HST is included in the ticket price. \n[/col_one]
URL:https://barriefilmfestival.netgaindev.com/now-playing/goalie-7pm/
LOCATION:Annual Barrie Film Festival
END:VEVENT
END:VCALENDAR