BEGIN:VCALENDAR
VERSION:2.0
PRODID:-//Barrie Film Festival - ECPv6.7.0//NONSGML v1.0//EN
CALSCALE:GREGORIAN
METHOD:PUBLISH
X-ORIGINAL-URL:https://barriefilmfestival.netgaindev.com
X-WR-CALDESC:Events for Barrie Film Festival
REFRESH-INTERVAL;VALUE=DURATION:PT1H
X-Robots-Tag:noindex
X-PUBLISHED-TTL:PT1H
BEGIN:VTIMEZONE
TZID:America/Toronto
BEGIN:DAYLIGHT
TZOFFSETFROM:-0500
TZOFFSETTO:-0400
TZNAME:EDT
DTSTART:20190310T070000
END:DAYLIGHT
BEGIN:STANDARD
TZOFFSETFROM:-0400
TZOFFSETTO:-0500
TZNAME:EST
DTSTART:20191103T060000
END:STANDARD
END:VTIMEZONE
BEGIN:VEVENT
DTSTART;TZID=America/Toronto:20190601T210000
DTEND;TZID=America/Toronto:20190601T210000
DTSTAMP:20260424T132906
CREATED:20190514T194906Z
LAST-MODIFIED:20190514T194906Z
UID:5771-1559422800-1559422800@barriefilmfestival.netgaindev.com
SUMMARY:Ghostbusters - RESCHEDULED to June 8
DESCRIPTION:[col_one ] \nRescheduling due to rain – see you June 8th!\n\n \nGhostbusters (1984)\nSaturday\, June 8\, 2019 – Updated\nat dusk\, weather permitting\nCentennial Beach\, Barrie\nAdmission is FREE \nDirected by: Ivan Reitman\nStarring: Bill Murray\, Dan Aykroyd\, Sigourney Weaver\, Harold Ramis\, Rick Moranis\, Annie Potts\, Ernie Hudson\, William Atherton\, David Margulies\nAction/Comedy/Fantasy\, Rated PG for scary scenes\, mild language and suggestive content\, 105 min. (USA) \n  \nWhen Doctors Venkman (Bill Murray)\, Stantz (Dan Aykroyd) and Spengler (Harold Ramis) suddenly find themselves downsized from the University’s parapsychology department\, they decide to go the entrepreneurial route\, chasing down ghastly ghosts\, unappetizing apparitions and the occasional insolent succubae. But the paratroopers of the paranormal face their greatest challenge when the beautiful Dana Barret (Sigourney Weaver) discovers her refrigerator door leads directly to the gates of hell! Now with the whole world watching\, it’s up to the Ghostbusters to keep Manhattan from becoming a madhouse in this hilariously-haunting action-comedy. \n  \n[embed_video video_site=”youtube” video_url=”https://www.youtube.com/watch?v=vntAEVjPBzQ” video_width=”640″ video_height=”360″ ] \n  \nPresented by The City of Barrie in partnership with the Barrie Film Festival. \n     \n[/col_one]
URL:https://barriefilmfestival.netgaindev.com/now-playing/ghostbusters-outdoor-screening/
LOCATION:Programs
END:VEVENT
BEGIN:VEVENT
DTSTART;TZID=America/Toronto:20190605T160000
DTEND;TZID=America/Toronto:20190605T173800
DTSTAMP:20260424T132906
CREATED:20190506T152143Z
LAST-MODIFIED:20190506T152143Z
UID:5722-1559750400-1559756280@barriefilmfestival.netgaindev.com
SUMMARY:Papi Chulo - 4PM
DESCRIPTION:[col_one ] \n\nPapi Chulo\n\nScreening:\nWednesday\, June 5\, 2019 – 4pm\, 7pm\nThursday\, June 6\, 2019 – 4pm\, 7pm\nLocation: Uptown Theatre\, 55 Dunlop St. W.\, Barrie \n  \n[btnsx id=”5741″] \n  \nWritten and Directed by: John Butler\nCast: Matt Bomer\, Alejandro Patino\, Wendi McLendon-Covey and Elena Campbell-Martinez\nDrama/Comedy\, 14A – mild language\, non-sexual nudity\, adult content\, not recommended for children\, 98 minutes (Ireland) \n  \n“Apart from fantastic performances from its cast\, especially Bomer and Patiño\, Papi Chulo’s biggest strength is the subtlety and grace with which it deals with the wide cross-section of issues it touches upon.” – Bedatri D. Choudhury\, Vague Visages \n  \n“It’s the synergistic performances of Matt Bomer\, playing raw and broken\, and Alejandro Patino\, conveying decency and nonjudgmental compassion behind his deadpan raised eyebrows\, that makes the movie click.” – David Rooney\, Hollywood Reporter \n  \n\nFollowing his acclaimed coming-of-age film Handsome Devil\, Irish writer-director John Butler returns with this poignant and very timely story of two worlds colliding in the same great city — and the delightfully unlikely friendship that emerges. \nDevastated with heartbreak\, a Los Angeles TV weatherman\, Sean (Matt Bomer)\, has an on-air meltdown in the midst of predicting a heat wave. The station insists he take a sabbatical and his friends urge him to find someone to talk to\, but Sean opts to swap self-care for home improvement. From a huddle of men seeking day labour outside the hardware store\, Sean hires Ernesto (a brilliantly deadpan Alejandro Patiño) to paint his deck. \nTheir initially straightforward business arrangement rapidly extends to strolling and boating excursions during which Sean tells Ernesto all about himself\, despite the fact that the two don’t share a common language. In fact\, this affluent\, white\, gay celebrity and this working class\, Mexican father of five don’t appear to have much in common at all. Does Sean want a tradesman or a sounding board? And just how much immersion in Sean’s emotional mire can Ernesto be expected to bear? \nAt once a heartwarming examination of empathy in action\, a charming culture-clash comedy\, and a sharp critique of xenophobic stereotypes\, Papi Chulo reminds us of the importance of truly seeing others… even while tending to our own internal wounds. (MICHÈLE MAHEUX\, TIFF)\n \n  \n[embed_video video_site=”youtube” video_url=”https://www.youtube.com/watch?v=dmtfpB6MUi0″ video_width=”640″ video_height=”360″ ] \n\n  \n \n  \n[/col_one] \n 
URL:https://barriefilmfestival.netgaindev.com/now-playing/papi-chulo-4pm/
LOCATION:Annual Barrie Film Festival
END:VEVENT
BEGIN:VEVENT
DTSTART;TZID=America/Toronto:20190605T190000
DTEND;TZID=America/Toronto:20190605T203800
DTSTAMP:20260424T132906
CREATED:20190506T152447Z
LAST-MODIFIED:20190506T152447Z
UID:5726-1559761200-1559767080@barriefilmfestival.netgaindev.com
SUMMARY:Papi Chulo - 7PM
DESCRIPTION:[col_one ] \n\nPapi Chulo\n\nScreening:\nWednesday\, June 5\, 2019 – 4pm\, 7pm\nThursday\, June 6\, 2019 – 4pm\, 7pm\nLocation: Uptown Theatre\, 55 Dunlop St. W.\, Barrie \n  \n[btnsx id=”5741″] \n  \nWritten and Directed by: John Butler\nCast: Matt Bomer\, Alejandro Patino\, Wendi McLendon-Covey and Elena Campbell-Martinez\nDrama/Comedy\, 14A – mild language\, non-sexual nudity\, adult content\, not recommended for children\, 98 minutes (Ireland) \n  \n“Apart from fantastic performances from its cast\, especially Bomer and Patiño\, Papi Chulo’s biggest strength is the subtlety and grace with which it deals with the wide cross-section of issues it touches upon.” – Bedatri D. Choudhury\, Vague Visages \n  \n“It’s the synergistic performances of Matt Bomer\, playing raw and broken\, and Alejandro Patino\, conveying decency and nonjudgmental compassion behind his deadpan raised eyebrows\, that makes the movie click.” – David Rooney\, Hollywood Reporter \n  \n\nFollowing his acclaimed coming-of-age film Handsome Devil\, Irish writer-director John Butler returns with this poignant and very timely story of two worlds colliding in the same great city — and the delightfully unlikely friendship that emerges. \nDevastated with heartbreak\, a Los Angeles TV weatherman\, Sean (Matt Bomer)\, has an on-air meltdown in the midst of predicting a heat wave. The station insists he take a sabbatical and his friends urge him to find someone to talk to\, but Sean opts to swap self-care for home improvement. From a huddle of men seeking day labour outside the hardware store\, Sean hires Ernesto (a brilliantly deadpan Alejandro Patiño) to paint his deck. \nTheir initially straightforward business arrangement rapidly extends to strolling and boating excursions during which Sean tells Ernesto all about himself\, despite the fact that the two don’t share a common language. In fact\, this affluent\, white\, gay celebrity and this working class\, Mexican father of five don’t appear to have much in common at all. Does Sean want a tradesman or a sounding board? And just how much immersion in Sean’s emotional mire can Ernesto be expected to bear? \nAt once a heartwarming examination of empathy in action\, a charming culture-clash comedy\, and a sharp critique of xenophobic stereotypes\, Papi Chulo reminds us of the importance of truly seeing others… even while tending to our own internal wounds. (MICHÈLE MAHEUX\, TIFF)\n \n  \n\n[embed_video video_site=”youtube” video_url=”https://www.youtube.com/watch?v=dmtfpB6MUi0″ video_width=”640″ video_height=”360″ ] \n  \n \n  \n[/col_one]
URL:https://barriefilmfestival.netgaindev.com/now-playing/papi-chulo-7pm/
LOCATION:Annual Barrie Film Festival
END:VEVENT
BEGIN:VEVENT
DTSTART;TZID=America/Toronto:20190606T160000
DTEND;TZID=America/Toronto:20190606T173800
DTSTAMP:20260424T132906
CREATED:20190506T152641Z
LAST-MODIFIED:20190506T152641Z
UID:5729-1559836800-1559842680@barriefilmfestival.netgaindev.com
SUMMARY:Papi Chulo - 4PM
DESCRIPTION:[col_one ] \n\nPapi Chulo\n\nScreening:\nWednesday\, June 5\, 2019 – 4pm\, 7pm\nThursday\, June 6\, 2019 – 4pm\, 7pm\nLocation: Uptown Theatre\, 55 Dunlop St. W.\, Barrie \n  \n[btnsx id=”5741″] \n  \nWritten and Directed by: John Butler\nCast: Matt Bomer\, Alejandro Patino\, Wendi McLendon-Covey and Elena Campbell-Martinez\nDrama/Comedy\, 14A – mild language\, non-sexual nudity\, adult content\, not recommended for children\, 98 minutes (Ireland) \n  \n“Apart from fantastic performances from its cast\, especially Bomer and Patiño\, Papi Chulo’s biggest strength is the subtlety and grace with which it deals with the wide cross-section of issues it touches upon.” – Bedatri D. Choudhury\, Vague Visages \n  \n“It’s the synergistic performances of Matt Bomer\, playing raw and broken\, and Alejandro Patino\, conveying decency and nonjudgmental compassion behind his deadpan raised eyebrows\, that makes the movie click.” – David Rooney\, Hollywood Reporter \n  \n\nFollowing his acclaimed coming-of-age film Handsome Devil\, Irish writer-director John Butler returns with this poignant and very timely story of two worlds colliding in the same great city — and the delightfully unlikely friendship that emerges. \nDevastated with heartbreak\, a Los Angeles TV weatherman\, Sean (Matt Bomer)\, has an on-air meltdown in the midst of predicting a heat wave. The station insists he take a sabbatical and his friends urge him to find someone to talk to\, but Sean opts to swap self-care for home improvement. From a huddle of men seeking day labour outside the hardware store\, Sean hires Ernesto (a brilliantly deadpan Alejandro Patiño) to paint his deck. \nTheir initially straightforward business arrangement rapidly extends to strolling and boating excursions during which Sean tells Ernesto all about himself\, despite the fact that the two don’t share a common language. In fact\, this affluent\, white\, gay celebrity and this working class\, Mexican father of five don’t appear to have much in common at all. Does Sean want a tradesman or a sounding board? And just how much immersion in Sean’s emotional mire can Ernesto be expected to bear? \nAt once a heartwarming examination of empathy in action\, a charming culture-clash comedy\, and a sharp critique of xenophobic stereotypes\, Papi Chulo reminds us of the importance of truly seeing others… even while tending to our own internal wounds. (MICHÈLE MAHEUX\, TIFF)\n \n  \n\n[embed_video video_site=”youtube” video_url=”https://www.youtube.com/watch?v=dmtfpB6MUi0″ video_width=”640″ video_height=”360″ ] \n  \n \n  \n[/col_one] \n 
URL:https://barriefilmfestival.netgaindev.com/now-playing/papi-chulo-4pm-2/
LOCATION:Annual Barrie Film Festival
END:VEVENT
BEGIN:VEVENT
DTSTART;TZID=America/Toronto:20190606T190000
DTEND;TZID=America/Toronto:20190606T203800
DTSTAMP:20260424T132906
CREATED:20190506T152751Z
LAST-MODIFIED:20190506T152751Z
UID:5731-1559847600-1559853480@barriefilmfestival.netgaindev.com
SUMMARY:Papi Chulo - 7PM
DESCRIPTION:[col_one ] \n\nPapi Chulo\n\nScreening:\nWednesday\, June 5\, 2019 – 4pm\, 7pm\nThursday\, June 6\, 2019 – 4pm\, 7pm\nLocation: Uptown Theatre\, 55 Dunlop St. W.\, Barrie \n  \n[btnsx id=”5741″] \n  \nWritten and Directed by: John Butler\nCast: Matt Bomer\, Alejandro Patino\, Wendi McLendon-Covey and Elena Campbell-Martinez\nDrama/Comedy\, 14A – mild language\, non-sexual nudity\, adult content\, not recommended for children\, 98 minutes (Ireland) \n  \n“Apart from fantastic performances from its cast\, especially Bomer and Patiño\, Papi Chulo’s biggest strength is the subtlety and grace with which it deals with the wide cross-section of issues it touches upon.” – Bedatri D. Choudhury\, Vague Visages \n  \n“It’s the synergistic performances of Matt Bomer\, playing raw and broken\, and Alejandro Patino\, conveying decency and nonjudgmental compassion behind his deadpan raised eyebrows\, that makes the movie click.” – David Rooney\, Hollywood Reporter \n  \n\nFollowing his acclaimed coming-of-age film Handsome Devil\, Irish writer-director John Butler returns with this poignant and very timely story of two worlds colliding in the same great city — and the delightfully unlikely friendship that emerges. \nDevastated with heartbreak\, a Los Angeles TV weatherman\, Sean (Matt Bomer)\, has an on-air meltdown in the midst of predicting a heat wave. The station insists he take a sabbatical and his friends urge him to find someone to talk to\, but Sean opts to swap self-care for home improvement. From a huddle of men seeking day labour outside the hardware store\, Sean hires Ernesto (a brilliantly deadpan Alejandro Patiño) to paint his deck. \nTheir initially straightforward business arrangement rapidly extends to strolling and boating excursions during which Sean tells Ernesto all about himself\, despite the fact that the two don’t share a common language. In fact\, this affluent\, white\, gay celebrity and this working class\, Mexican father of five don’t appear to have much in common at all. Does Sean want a tradesman or a sounding board? And just how much immersion in Sean’s emotional mire can Ernesto be expected to bear? \nAt once a heartwarming examination of empathy in action\, a charming culture-clash comedy\, and a sharp critique of xenophobic stereotypes\, Papi Chulo reminds us of the importance of truly seeing others… even while tending to our own internal wounds. (MICHÈLE MAHEUX\, TIFF)\n \n  \n\n[embed_video video_site=”youtube” video_url=”https://www.youtube.com/watch?v=dmtfpB6MUi0″ video_width=”640″ video_height=”360″ ] \n \n  \n[/col_one]
URL:https://barriefilmfestival.netgaindev.com/now-playing/papi-chulo-7pm-2/
LOCATION:Annual Barrie Film Festival
END:VEVENT
BEGIN:VEVENT
DTSTART;TZID=America/Toronto:20190608T210000
DTEND;TZID=America/Toronto:20190608T210000
DTSTAMP:20260424T132906
CREATED:20190601T214716Z
LAST-MODIFIED:20190601T214716Z
UID:5836-1560027600-1560027600@barriefilmfestival.netgaindev.com
SUMMARY:Ghostbusters - Outdoor Screening
DESCRIPTION:[col_one ] \n \nGhostbusters (1984)\nSaturday\, June 8\, 2019 – Updated\nat dusk (approx. 9-9:15pm)\, weather permitting\nCentennial Beach\, Barrie\nAdmission is FREE \nDirected by: Ivan Reitman\nStarring: Bill Murray\, Dan Aykroyd\, Sigourney Weaver\, Harold Ramis\, Rick Moranis\, Annie Potts\, Ernie Hudson\, William Atherton\, David Margulies\nAction/Comedy/Fantasy\, Rated PG for scary scenes\, mild language and suggestive content\, 105 min. (USA) \n  \nWhen Doctors Venkman (Bill Murray)\, Stantz (Dan Aykroyd) and Spengler (Harold Ramis) suddenly find themselves downsized from the University’s parapsychology department\, they decide to go the entrepreneurial route\, chasing down ghastly ghosts\, unappetizing apparitions and the occasional insolent succubae. But the paratroopers of the paranormal face their greatest challenge when the beautiful Dana Barret (Sigourney Weaver) discovers her refrigerator door leads directly to the gates of hell! Now with the whole world watching\, it’s up to the Ghostbusters to keep Manhattan from becoming a madhouse in this hilariously-haunting action-comedy. \n  \n[embed_video video_site=”youtube” video_url=”https://www.youtube.com/watch?v=vntAEVjPBzQ” video_width=”640″ video_height=”360″ ] \n  \nPresented by The City of Barrie in partnership with the Barrie Film Festival. \n     \n[/col_one]
URL:https://barriefilmfestival.netgaindev.com/now-playing/ghostbusters-outdoor-screening-2/
LOCATION:Programs
END:VEVENT
BEGIN:VEVENT
DTSTART;TZID=America/Toronto:20190620T160000
DTEND;TZID=America/Toronto:20190620T172700
DTSTAMP:20260424T132906
CREATED:20190506T153641Z
LAST-MODIFIED:20190506T153641Z
UID:5733-1561046400-1561051620@barriefilmfestival.netgaindev.com
SUMMARY:Village Rockstars - 4PM
DESCRIPTION:[col_one ] \n \nVillage Rockstars\nScreening: Thursday\, June 20\, 2019 – 4pm\, 7pm\nLocation: Uptown Theatre\, 55 Dunlop St. W.\, Barrie \n  \n[btnsx id=”5762″] \n  \nWritten and Directed by: Rima Das\nCast: Bhanita Das\, Basanti Das\, Boloram Das\, Bishnu Kalita\nDrama\, PG\, 87 minutes\, Language: Assamese with English subtitles (India) \n  \n“Village Rockstars is confident and sincere\, its story unfolding at a languid but controlled pace.” – Barry Hertz\, Globe and Mail \n  \n“Village Rockstars is heartbreaking and uplifting in equal measure.” – Renuka Vyavahare\, The Times of India \n  \n“The atmosphere of Village Rockstars is so real that it almost feels like a documentary. Rim Das’ direction is the opposite of fussy\, allowing the characters and their actions to breathe on screen in a way that speaks to her affection for the subject.” – I Hurtado\, ScreenAnarchy \n  \n  \n\nIn a small village in northeast India\, 10-year-old Dhunu dreams of having her own rock band. Her vibrant spirit\, imagination and self-assurance stand out in a world where girls are expected to be timid and submissive. She is a free spirit living in remote Assam\, firmly believing in the power of her big dreams. She always wished to own a guitar and is focused to form a rock band with the boys in her village of her own\, remaining undeterred in a society that threatens to pull her back. \n  \nAwards: Winner of over 54 International Awards!\nNominee\, Best Youth Feature Film\, Asia Pacific Screen Awards\, 2018\nWinner\, Best Original Score/Nominee\, Best Film\, Buenos Aires International Festival of Independent Cinema\, 2018\nNominee\, Audience Award\, Glasgow Film Festival\, 2018\nWinner\, Best Feature Film/Grand Jury Prize\, Indian Film Festival of Los Angeles\, 2018\nNominee\, Best Film\, International Film Festival of India\, 2017\nWinner\, Best Film\, Mumbai Film Festival\, 2017\nNational Film Awards\, India\, 2018 \n\n  \n[embed_video video_site=”youtube” video_url=”https://www.youtube.com/watch?v=vX7CG_-Abgc” video_width=”640″ video_height=”360″ ] \n  \n \n  \n[/col_one] \n 
URL:https://barriefilmfestival.netgaindev.com/now-playing/village-rockstars-4pm/
LOCATION:Annual Barrie Film Festival
END:VEVENT
BEGIN:VEVENT
DTSTART;TZID=America/Toronto:20190620T190000
DTEND;TZID=America/Toronto:20190620T202700
DTSTAMP:20260424T132906
CREATED:20190506T154320Z
LAST-MODIFIED:20190506T154320Z
UID:5739-1561057200-1561062420@barriefilmfestival.netgaindev.com
SUMMARY:Village Rockstars - 7PM
DESCRIPTION:[col_one ] \n \nVillage Rockstars\nScreening: Thursday\, June 20\, 2019 – 4pm\, 7pm\nLocation: Uptown Theatre\, 55 Dunlop St. W.\, Barrie \n  \n[btnsx id=”5762″] \n  \nWritten and Directed by: Rima Das\nCast: Bhanita Das\, Basanti Das\, Boloram Das\, Bishnu Kalita\nDrama\, PG\, 87 minutes\, Language: Assamese with English subtitles (India) \n  \n“Village Rockstars is confident and sincere\, its story unfolding at a languid but controlled pace.” – Barry Hertz\, Globe and Mail \n  \n“Village Rockstars is heartbreaking and uplifting in equal measure.” – Renuka Vyavahare\, The Times of India \n  \n“The atmosphere of Village Rockstars is so real that it almost feels like a documentary. Rim Das’ direction is the opposite of fussy\, allowing the characters and their actions to breathe on screen in a way that speaks to her affection for the subject.” – I Hurtado\, ScreenAnarchy \n  \n  \n\nIn a small village in northeast India\, 10-year-old Dhunu dreams of having her own rock band. Her vibrant spirit\, imagination and self-assurance stand out in a world where girls are expected to be timid and submissive. She is a free spirit living in remote Assam\, firmly believing in the power of her big dreams. She always wished to own a guitar and is focused to form a rock band with the boys in her village of her own\, remaining undeterred in a society that threatens to pull her back. \n  \nAwards: Winner of over 54 International Awards!\nNominee\, Best Youth Feature Film\, Asia Pacific Screen Awards\, 2018\nWinner\, Best Original Score/Nominee\, Best Film\, Buenos Aires International Festival of Independent Cinema\, 2018\nNominee\, Audience Award\, Glasgow Film Festival\, 2018\nWinner\, Best Feature Film/Grand Jury Prize\, Indian Film Festival of Los Angeles\, 2018\nNominee\, Best Film\, International Film Festival of India\, 2017\nWinner\, Best Film\, Mumbai Film Festival\, 2017\nNational Film Awards\, India\, 2018 \n\n  \n[embed_video video_site=”youtube” video_url=”https://www.youtube.com/watch?v=vX7CG_-Abgc” video_width=”640″ video_height=”360″ ] \n  \n \n  \n[/col_one] \n 
URL:https://barriefilmfestival.netgaindev.com/now-playing/village-rockstars-7pm/
LOCATION:Annual Barrie Film Festival
END:VEVENT
END:VCALENDAR