BEGIN:VCALENDAR
VERSION:2.0
PRODID:-//Barrie Film Festival - ECPv6.7.0//NONSGML v1.0//EN
CALSCALE:GREGORIAN
METHOD:PUBLISH
X-WR-CALNAME:Barrie Film Festival
X-ORIGINAL-URL:https://barriefilmfestival.netgaindev.com
X-WR-CALDESC:Events for Barrie Film Festival
REFRESH-INTERVAL;VALUE=DURATION:PT1H
X-Robots-Tag:noindex
X-PUBLISHED-TTL:PT1H
BEGIN:VTIMEZONE
TZID:America/Toronto
BEGIN:DAYLIGHT
TZOFFSETFROM:-0500
TZOFFSETTO:-0400
TZNAME:EDT
DTSTART:20190310T070000
END:DAYLIGHT
BEGIN:STANDARD
TZOFFSETFROM:-0400
TZOFFSETTO:-0500
TZNAME:EST
DTSTART:20191103T060000
END:STANDARD
END:VTIMEZONE
BEGIN:VEVENT
DTSTART;TZID=America/Toronto:20190703T160000
DTEND;TZID=America/Toronto:20190703T174100
DTSTAMP:20260424T115726
CREATED:20190526T174359Z
LAST-MODIFIED:20190526T174359Z
UID:5797-1562169600-1562175660@barriefilmfestival.netgaindev.com
SUMMARY:Woman At War - 4PM
DESCRIPTION:[col_one ] \n \nWoman At War\nScreening:\nWednesday\, July 3\, 2019 – 4pm\, 7pm\nThursday\, July 4\, 2019 – 4pm\, 7pm\nUptown Theatre\, 55 Dunlop St. W.\, Barrie \n  \n[btnsx id=”5801″] \n  \nCo-written and Directed by: Benedikt Erlingsson \nCast: Halldóra Geirharðsdóttir\, Jóhann Sigurðarson \, David Thor Jonsson and Magnus Trygvason Eliasen \nDrama/Comedy\, PG for some sexuality and nudity\, 101 minutes\, Language:\nIcelandic\, Spanish\, English\, Ukrainian with English subtitles (Iceland/France/Ukraine) \n  \n“An artful fable that examines what it really means to save the world\, Benedikt Erlingsson’s “Woman at War” is the rarest of things: A crowd-pleaser about climate change.” – David Ehrlich\, IndieWire \n  \n“A joyous and warm-hearted comedy drama taking on essential contemporary issues.” – Robert W. Monk\, FILMINK (Australia) \n  \n“Woman at War is a gorgeously thoughtful\, intense thriller filled with just the right touch of comedy throughout to give us an entertaining film that has social relevance to our world today.” – Pamela Powell\, Reel Honest Reviews \n  \nHalla is a fifty-year-old independent woman. But behind the scenes of a quiet routine\, she leads a double life as a passionate environmental activist. Known to others only by her alias “The Woman of the Mountain\,” Halla secretly wages a one-woman-war on the local aluminium industry. As Halla’s actions grow bolder\, from petty vandalism to outright industrial sabotage\, she succeeds in pausing the negotiations between the Icelandic government and the corporation building a new aluminium smelter. But right as she begins planning her biggest and boldest operation yet\, she receives an unexpected letter that changes everything. Her application to adopt a child has finally been accepted and there is a little girl waiting for her in Ukraine. As Halla prepares to abandon her role as saboteur and saviour of the Highlands to fulfill her dream of becoming a mother\, she decides to plot one final attack to deal the aluminium industry a crippling blow. \n  \nAwards: 21 wins\, 11 nominations \nNominated\, Best Film\, Cairo International Film Festival\, 2018\nNominated\, Critics Week Grand Prize\, Cannes Film Festival\, 2018\nWinner\, Director of the Year\, Best Film\, Actress of the Year (Halldóra Geirharðsdóttir)\, Screenplay of the Year\, Edda Awards\, Iceland\, 2019\nNominated\, European Actress (Halldóra Geirharðsdóttir) European Film Awards\, 2018\nWinner\, Best Feature\, Hamburg Film Festival\, 2018\nNominated\, Best Narrative Feature\, Melbourne International Film Festival\, 2018\nWinner\, Best Actress (Halldóra Geirharðsdóttir) Montréal Festival of New Cinema\, 2018\nWinner\, Audience Award\, Seville European Film Festival\, 2018 \n  \n[embed_video video_site=”youtube” video_url=”https://www.youtube.com/watch?v=WKmy0JNmZyI” video_width=”640″ video_height=”360″ ] \n\nProgram is Sponsored by: \n \n\nFilm tickets: $10 for Adults\, $8 for Seniors/Students \nAdvance tickets are available online and at the Uptown Theatre box office one week before screening (in the evenings an hour before their first screening). HST is included in the ticket price. \n[/col_one]
URL:https://barriefilmfestival.netgaindev.com/now-playing/woman-at-war-4pm/
LOCATION:Annual Barrie Film Festival
END:VEVENT
BEGIN:VEVENT
DTSTART;TZID=America/Toronto:20190703T190000
DTEND;TZID=America/Toronto:20190703T204100
DTSTAMP:20260424T115726
CREATED:20190526T174841Z
LAST-MODIFIED:20190526T174841Z
UID:5804-1562180400-1562186460@barriefilmfestival.netgaindev.com
SUMMARY:Woman At War - 7PM
DESCRIPTION:[col_one ] \n \nWoman At War\nScreening:\nWednesday\, July 3\, 2019 – 4pm\, 7pm\nThursday\, July 4\, 2019 – 4pm\, 7pm\nUptown Theatre\, 55 Dunlop St. W.\, Barrie \n  \n[btnsx id=”5801″] \n  \nCo-written and Directed by: Benedikt Erlingsson \nCast: Halldóra Geirharðsdóttir\, Jóhann Sigurðarson \, David Thor Jonsson and Magnus Trygvason Eliasen \nDrama/Comedy\, PG for some sexuality and nudity\, 101 minutes\, Language:\nIcelandic\, Spanish\, English\, Ukrainian with English subtitles (Iceland/France/Ukraine) \n  \n“An artful fable that examines what it really means to save the world\, Benedikt Erlingsson’s “Woman at War” is the rarest of things: A crowd-pleaser about climate change.” – David Ehrlich\, IndieWire \n  \n“A joyous and warm-hearted comedy drama taking on essential contemporary issues.” – Robert W. Monk\, FILMINK (Australia) \n  \n“Woman at War is a gorgeously thoughtful\, intense thriller filled with just the right touch of comedy throughout to give us an entertaining film that has social relevance to our world today.” – Pamela Powell\, Reel Honest Reviews \n  \nHalla is a fifty-year-old independent woman. But behind the scenes of a quiet routine\, she leads a double life as a passionate environmental activist. Known to others only by her alias “The Woman of the Mountain\,” Halla secretly wages a one-woman-war on the local aluminium industry. As Halla’s actions grow bolder\, from petty vandalism to outright industrial sabotage\, she succeeds in pausing the negotiations between the Icelandic government and the corporation building a new aluminium smelter. But right as she begins planning her biggest and boldest operation yet\, she receives an unexpected letter that changes everything. Her application to adopt a child has finally been accepted and there is a little girl waiting for her in Ukraine. As Halla prepares to abandon her role as saboteur and saviour of the Highlands to fulfill her dream of becoming a mother\, she decides to plot one final attack to deal the aluminium industry a crippling blow. \n  \nAwards: 21 wins\, 11 nominations \nNominated\, Best Film\, Cairo International Film Festival\, 2018\nNominated\, Critics Week Grand Prize\, Cannes Film Festival\, 2018\nWinner\, Director of the Year\, Best Film\, Actress of the Year (Halldóra Geirharðsdóttir)\, Screenplay of the Year\, Edda Awards\, Iceland\, 2019\nNominated\, European Actress (Halldóra Geirharðsdóttir) European Film Awards\, 2018\nWinner\, Best Feature\, Hamburg Film Festival\, 2018\nNominated\, Best Narrative Feature\, Melbourne International Film Festival\, 2018\nWinner\, Best Actress (Halldóra Geirharðsdóttir) Montréal Festival of New Cinema\, 2018\nWinner\, Audience Award\, Seville European Film Festival\, 2018 \n  \n[embed_video video_site=”youtube” video_url=”https://www.youtube.com/watch?v=WKmy0JNmZyI” video_width=”640″ video_height=”360″ ] \n\nProgram is Sponsored by: \n \n\nFilm tickets: $10 for Adults\, $8 for Seniors/Students \nAdvance tickets are available online and at the Uptown Theatre box office one week before screening (in the evenings an hour before their first screening). HST is included in the ticket price. \n[/col_one]
URL:https://barriefilmfestival.netgaindev.com/now-playing/woman-at-war-7pm/
LOCATION:Annual Barrie Film Festival
END:VEVENT
BEGIN:VEVENT
DTSTART;TZID=America/Toronto:20190703T210000
DTEND;TZID=America/Toronto:20190703T210000
DTSTAMP:20260424T115726
CREATED:20190624T184036Z
LAST-MODIFIED:20190624T184036Z
UID:5878-1562187600-1562187600@barriefilmfestival.netgaindev.com
SUMMARY:The Kid Who Would Be King - Outdoor Screening
DESCRIPTION:[col_one ] \nThe Kid Who Would Be King\n\nJuly 3\, 2019\nMeridian Place\, Downtown Barrie\nAdmission: Free\nStarts at dusk (approx. 9-9:15pm)\, weather permitting (rain date July 4)\nDirected by: Joe Cornish\nCast: Louis Ashbourne Serkis\, Dean Chaumoo\, Tom Taylor\, Rhianna Dorris\, Angus Imrie\, with Rebecca Ferguson and Patrick Stewart\nFamily/Thriller/Suspense\, 2019\, 120 min.\,\nPG – fantasy action violence\, scary images\, thematic elements\, some bullying (UK/USA) \n  \nSynopsis\nThe King Arthur legend meets the modern day in this epic family-friendly adventure. Young Alex is just another bullied kid until he discovers the legendary sword Excalibur\, and begins training as a knight with wizard Merlin (Patrick Stewart). Alex must turn schoolyard enemies into allies\, and become the leader he never dreamed he could be to defeat the wicked Morgana and save the world. \n  \nSponsored by the Downtown Barrie Business Association \n        \n  \n[embed_video video_site=”youtube” video_url=”https://www.youtube.com/watch?v=TADKiHYj6RE” video_width=”640″ video_height=”360″ ] \n  \n  \n[/col_one]
URL:https://barriefilmfestival.netgaindev.com/now-playing/the-kid-who-would-be-king-outdoor-screening/
LOCATION:Meridian Place\, 30 Simcoe Street\, Barrie\, ON\, L4M 1A7\, Canada
END:VEVENT
BEGIN:VEVENT
DTSTART;TZID=America/Toronto:20190704T160000
DTEND;TZID=America/Toronto:20190704T174100
DTSTAMP:20260424T115726
CREATED:20190526T175209Z
LAST-MODIFIED:20190526T175209Z
UID:5809-1562256000-1562262060@barriefilmfestival.netgaindev.com
SUMMARY:Woman At War - 4PM
DESCRIPTION:[col_one ] \n \nWoman At War\nScreening:\nWednesday\, July 3\, 2019 – 4pm\, 7pm\nThursday\, July 4\, 2019 – 4pm\, 7pm\nUptown Theatre\, 55 Dunlop St. W.\, Barrie \n  \n[btnsx id=”5801″] \n  \nCo-written and Directed by: Benedikt Erlingsson \nCast: Halldóra Geirharðsdóttir\, Jóhann Sigurðarson \, David Thor Jonsson and Magnus Trygvason Eliasen \nDrama/Comedy\, PG for some sexuality and nudity\, 101 minutes\, Language:\nIcelandic\, Spanish\, English\, Ukrainian with English subtitles (Iceland/France/Ukraine) \n  \n“An artful fable that examines what it really means to save the world\, Benedikt Erlingsson’s “Woman at War” is the rarest of things: A crowd-pleaser about climate change.” – David Ehrlich\, IndieWire \n  \n“A joyous and warm-hearted comedy drama taking on essential contemporary issues.” – Robert W. Monk\, FILMINK (Australia) \n  \n“Woman at War is a gorgeously thoughtful\, intense thriller filled with just the right touch of comedy throughout to give us an entertaining film that has social relevance to our world today.” – Pamela Powell\, Reel Honest Reviews \n  \nHalla is a fifty-year-old independent woman. But behind the scenes of a quiet routine\, she leads a double life as a passionate environmental activist. Known to others only by her alias “The Woman of the Mountain\,” Halla secretly wages a one-woman-war on the local aluminium industry. As Halla’s actions grow bolder\, from petty vandalism to outright industrial sabotage\, she succeeds in pausing the negotiations between the Icelandic government and the corporation building a new aluminium smelter. But right as she begins planning her biggest and boldest operation yet\, she receives an unexpected letter that changes everything. Her application to adopt a child has finally been accepted and there is a little girl waiting for her in Ukraine. As Halla prepares to abandon her role as saboteur and saviour of the Highlands to fulfill her dream of becoming a mother\, she decides to plot one final attack to deal the aluminium industry a crippling blow. \n  \nAwards: 21 wins\, 11 nominations \nNominated\, Best Film\, Cairo International Film Festival\, 2018\nNominated\, Critics Week Grand Prize\, Cannes Film Festival\, 2018\nWinner\, Director of the Year\, Best Film\, Actress of the Year (Halldóra Geirharðsdóttir)\, Screenplay of the Year\, Edda Awards\, Iceland\, 2019\nNominated\, European Actress (Halldóra Geirharðsdóttir) European Film Awards\, 2018\nWinner\, Best Feature\, Hamburg Film Festival\, 2018\nNominated\, Best Narrative Feature\, Melbourne International Film Festival\, 2018\nWinner\, Best Actress (Halldóra Geirharðsdóttir) Montréal Festival of New Cinema\, 2018\nWinner\, Audience Award\, Seville European Film Festival\, 2018 \n  \n[embed_video video_site=”youtube” video_url=”https://www.youtube.com/watch?v=WKmy0JNmZyI” video_width=”640″ video_height=”360″ ] \n\nProgram is Sponsored by: \n \n\nFilm tickets: $10 for Adults\, $8 for Seniors/Students \nAdvance tickets are available online and at the Uptown Theatre box office one week before screening (in the evenings an hour before their first screening). HST is included in the ticket price. \n[/col_one]
URL:https://barriefilmfestival.netgaindev.com/now-playing/woman-at-war-4pm-2/
LOCATION:Annual Barrie Film Festival
END:VEVENT
BEGIN:VEVENT
DTSTART;TZID=America/Toronto:20190704T190000
DTEND;TZID=America/Toronto:20190704T204100
DTSTAMP:20260424T115726
CREATED:20190526T175334Z
LAST-MODIFIED:20190526T175334Z
UID:5811-1562266800-1562272860@barriefilmfestival.netgaindev.com
SUMMARY:Woman At War - 7PM
DESCRIPTION:[col_one ] \n \nWoman At War\nScreening:\nWednesday\, July 3\, 2019 – 4pm\, 7pm\nThursday\, July 4\, 2019 – 4pm\, 7pm\nUptown Theatre\, 55 Dunlop St. W.\, Barrie \n  \n[btnsx id=”5801″] \n  \nCo-written and Directed by: Benedikt Erlingsson \nCast: Halldóra Geirharðsdóttir\, Jóhann Sigurðarson \, David Thor Jonsson and Magnus Trygvason Eliasen \nDrama/Comedy\, PG for some sexuality and nudity\, 101 minutes\, Language:\nIcelandic\, Spanish\, English\, Ukrainian with English subtitles (Iceland/France/Ukraine) \n  \n“An artful fable that examines what it really means to save the world\, Benedikt Erlingsson’s “Woman at War” is the rarest of things: A crowd-pleaser about climate change.” – David Ehrlich\, IndieWire \n  \n“A joyous and warm-hearted comedy drama taking on essential contemporary issues.” – Robert W. Monk\, FILMINK (Australia) \n  \n“Woman at War is a gorgeously thoughtful\, intense thriller filled with just the right touch of comedy throughout to give us an entertaining film that has social relevance to our world today.” – Pamela Powell\, Reel Honest Reviews \n  \nHalla is a fifty-year-old independent woman. But behind the scenes of a quiet routine\, she leads a double life as a passionate environmental activist. Known to others only by her alias “The Woman of the Mountain\,” Halla secretly wages a one-woman-war on the local aluminium industry. As Halla’s actions grow bolder\, from petty vandalism to outright industrial sabotage\, she succeeds in pausing the negotiations between the Icelandic government and the corporation building a new aluminium smelter. But right as she begins planning her biggest and boldest operation yet\, she receives an unexpected letter that changes everything. Her application to adopt a child has finally been accepted and there is a little girl waiting for her in Ukraine. As Halla prepares to abandon her role as saboteur and saviour of the Highlands to fulfill her dream of becoming a mother\, she decides to plot one final attack to deal the aluminium industry a crippling blow. \n  \nAwards: 21 wins\, 11 nominations \nNominated\, Best Film\, Cairo International Film Festival\, 2018\nNominated\, Critics Week Grand Prize\, Cannes Film Festival\, 2018\nWinner\, Director of the Year\, Best Film\, Actress of the Year (Halldóra Geirharðsdóttir)\, Screenplay of the Year\, Edda Awards\, Iceland\, 2019\nNominated\, European Actress (Halldóra Geirharðsdóttir) European Film Awards\, 2018\nWinner\, Best Feature\, Hamburg Film Festival\, 2018\nNominated\, Best Narrative Feature\, Melbourne International Film Festival\, 2018\nWinner\, Best Actress (Halldóra Geirharðsdóttir) Montréal Festival of New Cinema\, 2018\nWinner\, Audience Award\, Seville European Film Festival\, 2018 \n  \n[embed_video video_site=”youtube” video_url=”https://www.youtube.com/watch?v=WKmy0JNmZyI” video_width=”640″ video_height=”360″ ] \n\nProgram is Sponsored by: \n \n\nFilm tickets: $10 for Adults\, $8 for Seniors/Students \nAdvance tickets are available online and at the Uptown Theatre box office one week before screening (in the evenings an hour before their first screening). HST is included in the ticket price. \n[/col_one]
URL:https://barriefilmfestival.netgaindev.com/now-playing/5811/
LOCATION:Annual Barrie Film Festival
END:VEVENT
BEGIN:VEVENT
DTSTART;TZID=America/Toronto:20190710T210000
DTEND;TZID=America/Toronto:20190710T210000
DTSTAMP:20260424T115726
CREATED:20190624T184907Z
LAST-MODIFIED:20190624T184907Z
UID:5883-1562792400-1562792400@barriefilmfestival.netgaindev.com
SUMMARY:Mary Poppins Returns - Outdoor Screening
DESCRIPTION:[col_one ] \nMary Poppins Returns\n\nJuly 10\, 2019\nMeridian Place\, Downtown Barrie\nAdmission: Free\nStarts at dusk\, weather permitting (rain date July 11)\nDirected by: Rob Marshall\nCast: Emily Blunt\, Lin-Manuel Miranda\, Ben Whishaw\, Emily Mortimer\, Pixie Davies\, Nathanael Saleh\, Joel Dawson\, Julie Walters\, Meryl Streep\, Colin Firth\, Dick Van Dyke\nFamily/Fantasy/Musical\, 2018\, 130 min.\, G (USA/UK) \n  \nSynopsis\nThe magic continues in Disney’s classic as Mary Poppins (Emily Blunt) helps the Banks family remember the joy of being a child. Together with her friend Jack the lamplighter (Lin-Manuel Miranda)\, fun is brought back to the streets of London in celebration that everything is possible…even the impossible. \n  \nSponsored by the Downtown Barrie Business Association \n        \n  \n[embed_video video_site=”youtube” video_url=”https://www.youtube.com/watch?v=-3jsfXDZLIY” video_width=”640″ video_height=”360″ ] \n  \n[/col_one]
URL:https://barriefilmfestival.netgaindev.com/now-playing/mary-poppins-returns-outdoor-screening/
LOCATION:Meridian Place\, 30 Simcoe Street\, Barrie\, ON\, L4M 1A7\, Canada
END:VEVENT
BEGIN:VEVENT
DTSTART;TZID=America/Toronto:20190717T210000
DTEND;TZID=America/Toronto:20190717T210000
DTSTAMP:20260424T115726
CREATED:20190624T190033Z
LAST-MODIFIED:20190624T190033Z
UID:5888-1563397200-1563397200@barriefilmfestival.netgaindev.com
SUMMARY:Gordon Lightfoot: If You Could Read My Mind - Outdoor Screening
DESCRIPTION:[col_one ] \nGordon Lightfoot: If You Could Read My Mind\n\nJuly 17\, 2019\nMeridian Place\, Downtown Barrie\nAdmission: Free\nStarts at dusk\, weather permitting (rain date July 18)\nDirected by: Martha Kehoe\, Joan Tosoni\nDocumentary\, 2019\, 90 min.\, PG (Canada) \n  \nSynopsis\nProduced\, written and directed by Martha Kehoe and Joan Tosoni\, Insight Productions’ feature documentary Gordon Lightfoot: If You Could Read My Mind is an exploration of the career\, music and influence of legendary Canadian musical icon\, Gordon Lightfoot. With unprecedented access to the artist\, the film takes audiences from high school auditoriums in straight-laced\, small town Ontario in the 50s to the coffee houses of Yorkville and Greenwich Village in the 60s\, through Lightfoot’s turbulent\, substance-fueled arena shows of the 70s\, and finally to the artist in present day. \nThe documentary features interviews from many notable voices in the music industry including Lightfoot peers Ian and Sylvia Tyson\, Randy Bachman\, and Steve Earle; famous fans Alex Lifeson and Geddy Lee from Rush\, Alec Baldwin\, Anne Murray and Sarah McLachlan; as well as behind the scenes stories from members of his longtime band. Following Lightfoot’s evolution from Christian choirboy to troubled troubadour to international star and beloved Canadian icon\, Gordon Lightfoot: If You Could Read My Mind is an intimate and emotional examination of the artist’s profound relationship to his music and his Canadian roots. \n  \nAwards: Nominated for Audience Award\, Hot Docs Canadian International Documentary Festival\, 2019 \n  \nSponsored by the Downtown Barrie Business Association \n        \n[/col_one]
URL:https://barriefilmfestival.netgaindev.com/now-playing/gordon-lightfoot-if-you-could-read-my-mind-outdoor-screening/
LOCATION:Meridian Place\, 30 Simcoe Street\, Barrie\, ON\, L4M 1A7\, Canada
END:VEVENT
BEGIN:VEVENT
DTSTART;TZID=America/Toronto:20190718T160000
DTEND;TZID=America/Toronto:20190718T173600
DTSTAMP:20260424T115726
CREATED:20190526T180350Z
LAST-MODIFIED:20190526T180350Z
UID:5815-1563465600-1563471360@barriefilmfestival.netgaindev.com
SUMMARY:Ruben Brandt\, Collector - 4PM
DESCRIPTION:[col_one ] \n \nRuben Brandt\, Collector \nScreening: Thursday\, July 18\, 2019 – 4pm\, 7pm\nUptown Theatre\, 55 Dunlop St. W.\, Barrie \n  \n[btnsx id=”5818″] \n  \nWritten and Directed by: Milorad Krstić\nVoice Talents: Iván Kamarás\, Gabriella Hámori\, Zalán Makranczi and Csaba Márton\nAnimated/Crime/Drama\, Rated R in the USA\, violence\, nudity.\n96 minutes\, Language: English/Hungarian with English subtitles (Hungary) \n  \n“Ruben Brandt\, Collector is an intricately plotted\, hyper-stylized piece of eye candy with art – the love of\, the need for\, the inability to escape from – at its wildly beating heart.” – Marc Savlov\, Austin Chronicle \n  \n“Writer/director Milorad Krstic has combined his love for painting and film into an action thriller as surreal as it is familiar.” – Jared Mobarak\, BuffaloVibe \n  \n“If you love art\, “Ruben Brandt\, Collector” is a non-stop visual feast\, from the first frame till the last.” – Bill Goodykoontz\, Arizona Republic \n  \nRuben Brandt\, a famous psychotherapist\, is forced to steal 13 paintings from the world’s renowned museums and private collections to prevent his suffering from terrible nightmares he has as a result of subliminal messaging he received as a child. Accompanied by his four patients\, he and his band of thieves strike regularly and with great success: the Louvre\, Tate\, Uffizi\, Hermitage\, the Museum of Modern Art. “The Collector” quickly becomes the most wanted criminal in the world. Gangsters and head-hunters chase him around the world while the reward for his capture keeps rising\, approaching a hundred million dollars. A cartel of insurance companies entrusts Mike Kowalski\, a private detective and leading expert on art theft\, to solve the “Collector Case.” \n  \nAwards: 2 Wins\, 6 Nominations\nNominated\, Best Animated Independent Feature\, Annie Awards\, 2019\nChicago Film Critics Association Awards\, 2018\nNominated\, Best Motion Picture\, Animated or Mixed Media\, Satellite Awards\, 2019\nWinner/Best Screenplay and Nominated Best Film\, Seville European Film Festival\, 2018\nWinner\, Best Film\, Trieste Film Festival\, 2019 \n  \n[embed_video video_site=”youtube” video_url=”https://www.youtube.com/watch?v=cCiYEZFtrR8″ video_width=”640″ video_height=”360″ ] \n[col_one] \n[col_two_thirds ] \n\nProgram is Sponsored by: \n \n\nFilm tickets: $10 for Adults\, $8 for Seniors/Students \nAdvance tickets are available online and at the Uptown Theatre box office one week before screening (in the evenings an hour before their first screening). HST is included in the ticket price. \n[/col_one]
URL:https://barriefilmfestival.netgaindev.com/now-playing/ruben-brandt-collector-4pm/
LOCATION:Annual Barrie Film Festival
END:VEVENT
BEGIN:VEVENT
DTSTART;TZID=America/Toronto:20190718T190000
DTEND;TZID=America/Toronto:20190718T203600
DTSTAMP:20260424T115726
CREATED:20190526T180747Z
LAST-MODIFIED:20190526T180747Z
UID:5821-1563476400-1563482160@barriefilmfestival.netgaindev.com
SUMMARY:Ruben Brandt\, Collector - 7PM
DESCRIPTION:[col_one ] \n \nRuben Brandt\, Collector \nScreening: Thursday\, July 18\, 2019 – 4pm\, 7pm\nUptown Theatre\, 55 Dunlop St. W.\, Barrie \n  \n[btnsx id=”5818″] \n  \nWritten and Directed by: Milorad Krstić\nVoice Talents: Iván Kamarás\, Gabriella Hámori\, Zalán Makranczi and Csaba Márton\nAnimated/Crime/Drama\, Rated R in the USA\, violence\, nudity.\n96 minutes\, Language: English/Hungarian with English subtitles (Hungary) \n  \n“Ruben Brandt\, Collector is an intricately plotted\, hyper-stylized piece of eye candy with art – the love of\, the need for\, the inability to escape from – at its wildly beating heart.” – Marc Savlov\, Austin Chronicle \n  \n“Writer/director Milorad Krstic has combined his love for painting and film into an action thriller as surreal as it is familiar.” – Jared Mobarak\, BuffaloVibe \n  \n“If you love art\, “Ruben Brandt\, Collector” is a non-stop visual feast\, from the first frame till the last.” – Bill Goodykoontz\, Arizona Republic \n  \n  \nRuben Brandt\, a famous psychotherapist\, is forced to steal 13 paintings from the world’s renowned museums and private collections to prevent his suffering from terrible nightmares he has as a result of subliminal messaging he received as a child. Accompanied by his four patients\, he and his band of thieves strike regularly and with great success: the Louvre\, Tate\, Uffizi\, Hermitage\, the Museum of Modern Art. “The Collector” quickly becomes the most wanted criminal in the world. Gangsters and head-hunters chase him around the world while the reward for his capture keeps rising\, approaching a hundred million dollars. A cartel of insurance companies entrusts Mike Kowalski\, a private detective and leading expert on art theft\, to solve the “Collector Case.” \n  \nAwards: 2 Wins\, 6 Nominations\nNominated\, Best Animated Independent Feature\, Annie Awards\, 2019\nChicago Film Critics Association Awards\, 2018\nNominated\, Best Motion Picture\, Animated or Mixed Media\, Satellite Awards\, 2019\nWinner/Best Screenplay and Nominated Best Film\, Seville European Film Festival\, 2018\nWinner\, Best Film\, Trieste Film Festival\, 2019 \n  \n[embed_video video_site=”youtube” video_url=”https://www.youtube.com/watch?v=cCiYEZFtrR8″ video_width=”640″ video_height=”360″ ] \n[col_one] \n[col_two_thirds ] \n\nProgram is Sponsored by: \n \n\nFilm tickets: $10 for Adults\, $8 for Seniors/Students \nAdvance tickets are available online and at the Uptown Theatre box office one week before screening (in the evenings an hour before their first screening). HST is included in the ticket price. \n[/col_one]
URL:https://barriefilmfestival.netgaindev.com/now-playing/ruben-brandt-collector-7pm/
LOCATION:Annual Barrie Film Festival
END:VEVENT
BEGIN:VEVENT
DTSTART;TZID=America/Toronto:20190724T210000
DTEND;TZID=America/Toronto:20190724T210000
DTSTAMP:20260424T115726
CREATED:20190624T192059Z
LAST-MODIFIED:20190624T192059Z
UID:5896-1564002000-1564002000@barriefilmfestival.netgaindev.com
SUMMARY:Home Alone - Outdoor Screening
DESCRIPTION:[col_one ] \nHome Alone\n \nJuly 24\, 2019 – Join us for ‘Christmas in July’!\nMeridian Place\, Downtown Barrie\nAdmission: Free\nStarts at dusk\, weather permitting (rain date July 25)\nDirected by: Chris Columbus\nCast: Catherine O’Hara\, Daniel Stern\, Joe Pesci\, John Heard\, Macaulay Culkin\nComedy/Family\, 1990\, 101 min.\, PG (USA) \n  \nSynopsis\n8-year-old Kevin McAllister is accidentally left behind when his family takes off for a vacation in France over the holiday season. Once he realizes they’ve left him home by himself\, Kevin learns to fend for himself\, and eventually has to protect his house against bumbling burglars Harry and Marv\, who are planning to rob every house in Kevin’s suburban Chicago neighborhood. Kevin’s mother Kate is frantic when she realizes that she and the family have unintentionally left Kevin behind in Chicago\, and she tries to make it back to Chicago as fast as she can\, getting help from a polka band leader named Gus Polinski. \n  \nAwards: Winner of 10 Awards\, 6 Nominations! \n  \nSponsored by the Downtown Barrie Business Association \n        \n[/col_one]
URL:https://barriefilmfestival.netgaindev.com/now-playing/home-alone-outdoor-movies/
LOCATION:Meridian Place\, 30 Simcoe Street\, Barrie\, ON\, L4M 1A7\, Canada
END:VEVENT
BEGIN:VEVENT
DTSTART;TZID=America/Toronto:20190731T210000
DTEND;TZID=America/Toronto:20190731T210000
DTSTAMP:20260424T115726
CREATED:20190624T193853Z
LAST-MODIFIED:20190624T193853Z
UID:5903-1564606800-1564606800@barriefilmfestival.netgaindev.com
SUMMARY:Star Wars: Episode IV A New Hope - Outdoor Screening
DESCRIPTION:[col_one ] \n\nJuly 31\, 2019\nMeridian Place\, Downtown Barrie\nAdmission: Free\nStarts at dusk (approx. 9:05/9:10pm)\, weather permitting (rain date August 1)\nWritten and Directed by: George Lucas\n1977\, 121 min.\, PG (USA) \n  \nSynopsis\nNineteen years after the formation of the Empire\, Luke Skywalker is thrust into the struggle of the Rebel Alliance when he meets Obi-Wan Kenobi\, who has lived for years in seclusion on the desert planet of Tatooine. Obi-Wan begins Luke’s Jedi training as Luke joins him on a daring mission to rescue the beautiful Rebel leader Princess Leia from the clutches of the evil Empire. \n  \nPresenting Sponsor: \n \n\n  \nLawn Chair Luminata is a project of the Downtown Barrie Business Association \n        \n[/col_one]
URL:https://barriefilmfestival.netgaindev.com/now-playing/star-wars-episode-iv-a-new-hope-outdoor-screening/
LOCATION:Meridian Place\, 30 Simcoe Street\, Barrie\, ON\, L4M 1A7\, Canada
END:VEVENT
END:VCALENDAR