BEGIN:VCALENDAR
VERSION:2.0
PRODID:-//Barrie Film Festival - ECPv6.7.0//NONSGML v1.0//EN
CALSCALE:GREGORIAN
METHOD:PUBLISH
X-WR-CALNAME:Barrie Film Festival
X-ORIGINAL-URL:https://barriefilmfestival.netgaindev.com
X-WR-CALDESC:Events for Barrie Film Festival
REFRESH-INTERVAL;VALUE=DURATION:PT1H
X-Robots-Tag:noindex
X-PUBLISHED-TTL:PT1H
BEGIN:VTIMEZONE
TZID:America/Toronto
BEGIN:DAYLIGHT
TZOFFSETFROM:-0500
TZOFFSETTO:-0400
TZNAME:EDT
DTSTART:20190310T070000
END:DAYLIGHT
BEGIN:STANDARD
TZOFFSETFROM:-0400
TZOFFSETTO:-0500
TZNAME:EST
DTSTART:20191103T060000
END:STANDARD
END:VTIMEZONE
BEGIN:VEVENT
DTSTART;TZID=America/Toronto:20190904T160000
DTEND;TZID=America/Toronto:20190904T175000
DTSTAMP:20260424T082729
CREATED:20190809T040123Z
LAST-MODIFIED:20190809T040123Z
UID:6033-1567612800-1567619400@barriefilmfestival.netgaindev.com
SUMMARY:Photograph - 4PM
DESCRIPTION:[col_one_third ] \n[col_one_third ] \n \n[/col_one_third] \n[col_two_thirds ] \nPhotograph\nScreening:\nWednesday\, September 4\, 2019 – 4pm\, 7pm\nThursday\, September 5\, 2019 – 4pm\, 7pm\nLocation: Uptown Theatre\, 55 Dunlop St. W.\, Barrie \n  \n[btnsx id=”6031″] \n  \nWritten and Directed by: Ritesh Batra\nCast: Nawazuddin Siddiqui\, Sanya Malhotra\, Farrukh Jaffar\, Vijay Raaz\, Sachin Khedekar and Denzil Smith\nDrama/Romance\, G\, 110 minutes\, Language: Hindi\, Gujarati and English with English subtitles (Germany/India/USA) \n[/col_two_thirds] \n[col_one ] \n  \n“Photograph makes an impression.” – Wendy Shreve\, Featuring Film \n“The film plays around with cinematic traditions\, supplying a clever little twist to the rom-com formula.” – Rich Cline\, Shadows on the Wall \n“Patient viewers who enjoy deeply felt films that take their sweet (in a good way) time to tell a small\, human and relatable story should find writer-director Ritesh Batra’s Mumbai-set romance “Photograph” a lovely\, charming and gently transporting journey.” – Gary Goldstein\, Los Angeles Times \n  \n  \n\nTwo lives intersect in Mumbai and go along together. A struggling street photographer\, pressured to marry by his grandmother\, convinces a shy stranger to pose as his fiancée. Despite vast cultural differences\, the pair develops a surprising connection in ways that they could not expect and challenges their worldviews in this wistful and funny romance. Featuring some of Indian cinema’s most popular actors\, Photograph is a heartwarming and comical snapshot of life in contemporary Mumbai. \n\n  \n[embed_video video_site=”youtube” video_url=”https://www.youtube.com/watch?v=SRiweWB-w9A” video_width=”640″ video_height=”360″ ] \n  \n\n\n  \n\n \n  \n[/col_one]
URL:https://barriefilmfestival.netgaindev.com/now-playing/photograph-4pm/
LOCATION:Annual Barrie Film Festival
END:VEVENT
BEGIN:VEVENT
DTSTART;TZID=America/Toronto:20190904T190000
DTEND;TZID=America/Toronto:20190904T205000
DTSTAMP:20260424T082729
CREATED:20190809T040321Z
LAST-MODIFIED:20190809T040321Z
UID:6036-1567623600-1567630200@barriefilmfestival.netgaindev.com
SUMMARY:Photograph - 7PM
DESCRIPTION:[col_one_third ] \n[col_one_third ] \n \n[/col_one_third] \n[col_two_thirds ] \nPhotograph\nScreening:\nWednesday\, September 4\, 2019 – 4pm\, 7pm\nThursday\, September 5\, 2019 – 4pm\, 7pm\nLocation: Uptown Theatre\, 55 Dunlop St. W.\, Barrie \n  \n[btnsx id=”6031″] \n  \nWritten and Directed by: Ritesh Batra\nCast: Nawazuddin Siddiqui\, Sanya Malhotra\, Farrukh Jaffar\, Vijay Raaz\, Sachin Khedekar and Denzil Smith\nDrama/Romance\, G\, 110 minutes\, Language: Hindi\, Gujarati and English with English subtitles (Germany/India/USA) \n[/col_two_thirds] \n[col_one ] \n  \n“Photograph makes an impression.” – Wendy Shreve\, Featuring Film \n“The film plays around with cinematic traditions\, supplying a clever little twist to the rom-com formula.” – Rich Cline\, Shadows on the Wall \n“Patient viewers who enjoy deeply felt films that take their sweet (in a good way) time to tell a small\, human and relatable story should find writer-director Ritesh Batra’s Mumbai-set romance “Photograph” a lovely\, charming and gently transporting journey.” – Gary Goldstein\, Los Angeles Times \n  \n  \n\nTwo lives intersect in Mumbai and go along together. A struggling street photographer\, pressured to marry by his grandmother\, convinces a shy stranger to pose as his fiancée. Despite vast cultural differences\, the pair develops a surprising connection in ways that they could not expect and challenges their worldviews in this wistful and funny romance. Featuring some of Indian cinema’s most popular actors\, Photograph is a heartwarming and comical snapshot of life in contemporary Mumbai. \n\n  \n[embed_video video_site=”youtube” video_url=”https://www.youtube.com/watch?v=SRiweWB-w9A” video_width=”640″ video_height=”360″ ] \n  \n\n\n  \n\n \n  \n[/col_one]
URL:https://barriefilmfestival.netgaindev.com/now-playing/photograph-7pm/
LOCATION:Annual Barrie Film Festival
END:VEVENT
BEGIN:VEVENT
DTSTART;TZID=America/Toronto:20190904T200000
DTEND;TZID=America/Toronto:20190904T200000
DTSTAMP:20260424T082729
CREATED:20190628T201723Z
LAST-MODIFIED:20190628T201723Z
UID:5939-1567627200-1567627200@barriefilmfestival.netgaindev.com
SUMMARY:2019 World Tour Paddling Film Festival - Outdoor Screening
DESCRIPTION:[col_one ] \nPresented by \n \n\nSeptember 4\, 2019\nMeridian Place\, Downtown Barrie\nAdmission: Free\nStarts at dusk (approx. 8:00pm)\, weather permitting (rain date Sept 5) \n  \nSynopsis \nSince 2006\, the Reel Paddling Film Festival World Tour has been showcasing the very best paddling films. The World Tour screens in more than 120 cities around the world… You’ll be inspired to explore rivers\, lakes and oceans\, push extremes\, embrace the paddling lifestyle and appreciate some incredibly beautiful\, wild places. \n  \n[embed_video video_site=”youtube” video_url=”https://www.youtube.com/watch?v=3b46CrMh9GU” video_width=”640″ video_height=”360″ ] \n  \n\n  \nSponsored by the Downtown Barrie Business Association (BIA)\n \n      \n[/col_one]
URL:https://barriefilmfestival.netgaindev.com/now-playing/2019-world-tour-paddling-film-festival-outdoor-screening/
LOCATION:Meridian Place\, 30 Simcoe Street\, Barrie\, ON\, L4M 1A7\, Canada
END:VEVENT
BEGIN:VEVENT
DTSTART;TZID=America/Toronto:20190905T160000
DTEND;TZID=America/Toronto:20190905T175000
DTSTAMP:20260424T082729
CREATED:20190809T040430Z
LAST-MODIFIED:20190809T040430Z
UID:6038-1567699200-1567705800@barriefilmfestival.netgaindev.com
SUMMARY:Photograph - 4PM
DESCRIPTION:[col_one_third ] \n[col_one_third ] \n \n[/col_one_third] \n[col_two_thirds ] \nPhotograph\nScreening:\nWednesday\, September 4\, 2019 – 4pm\, 7pm\nThursday\, September 5\, 2019 – 4pm\, 7pm\nLocation: Uptown Theatre\, 55 Dunlop St. W.\, Barrie \n  \n[btnsx id=”6031″] \n  \nWritten and Directed by: Ritesh Batra\nCast: Nawazuddin Siddiqui\, Sanya Malhotra\, Farrukh Jaffar\, Vijay Raaz\, Sachin Khedekar and Denzil Smith\nDrama/Romance\, G\, 110 minutes\, Language: Hindi\, Gujarati and English with English subtitles (Germany/India/USA) \n[/col_two_thirds] \n[col_one ] \n  \n“Photograph makes an impression.” – Wendy Shreve\, Featuring Film \n“The film plays around with cinematic traditions\, supplying a clever little twist to the rom-com formula.” – Rich Cline\, Shadows on the Wall \n“Patient viewers who enjoy deeply felt films that take their sweet (in a good way) time to tell a small\, human and relatable story should find writer-director Ritesh Batra’s Mumbai-set romance “Photograph” a lovely\, charming and gently transporting journey.” – Gary Goldstein\, Los Angeles Times \n  \n  \n\nTwo lives intersect in Mumbai and go along together. A struggling street photographer\, pressured to marry by his grandmother\, convinces a shy stranger to pose as his fiancée. Despite vast cultural differences\, the pair develops a surprising connection in ways that they could not expect and challenges their worldviews in this wistful and funny romance. Featuring some of Indian cinema’s most popular actors\, Photograph is a heartwarming and comical snapshot of life in contemporary Mumbai. \n\n  \n[embed_video video_site=”youtube” video_url=”https://www.youtube.com/watch?v=SRiweWB-w9A” video_width=”640″ video_height=”360″ ] \n  \n\n\n  \n\n \n  \n[/col_one]
URL:https://barriefilmfestival.netgaindev.com/now-playing/photograph-4pm-2/
LOCATION:Annual Barrie Film Festival
END:VEVENT
BEGIN:VEVENT
DTSTART;TZID=America/Toronto:20190905T190000
DTEND;TZID=America/Toronto:20190905T205000
DTSTAMP:20260424T082729
CREATED:20190809T040543Z
LAST-MODIFIED:20190809T040543Z
UID:6040-1567710000-1567716600@barriefilmfestival.netgaindev.com
SUMMARY:Photograph - 7PM
DESCRIPTION:[col_one_third ] \n[col_one_third ] \n \n[/col_one_third] \n[col_two_thirds ] \nPhotograph\nScreening:\nWednesday\, September 4\, 2019 – 4pm\, 7pm\nThursday\, September 5\, 2019 – 4pm\, 7pm\nLocation: Uptown Theatre\, 55 Dunlop St. W.\, Barrie \n  \n[btnsx id=”6031″] \n  \nWritten and Directed by: Ritesh Batra\nCast: Nawazuddin Siddiqui\, Sanya Malhotra\, Farrukh Jaffar\, Vijay Raaz\, Sachin Khedekar and Denzil Smith\nDrama/Romance\, G\, 110 minutes\, Language: Hindi\, Gujarati and English with English subtitles (Germany/India/USA) \n[/col_two_thirds] \n[col_one ] \n  \n“Photograph makes an impression.” – Wendy Shreve\, Featuring Film \n“The film plays around with cinematic traditions\, supplying a clever little twist to the rom-com formula.” – Rich Cline\, Shadows on the Wall \n“Patient viewers who enjoy deeply felt films that take their sweet (in a good way) time to tell a small\, human and relatable story should find writer-director Ritesh Batra’s Mumbai-set romance “Photograph” a lovely\, charming and gently transporting journey.” – Gary Goldstein\, Los Angeles Times \n  \n  \n\nTwo lives intersect in Mumbai and go along together. A struggling street photographer\, pressured to marry by his grandmother\, convinces a shy stranger to pose as his fiancée. Despite vast cultural differences\, the pair develops a surprising connection in ways that they could not expect and challenges their worldviews in this wistful and funny romance. Featuring some of Indian cinema’s most popular actors\, Photograph is a heartwarming and comical snapshot of life in contemporary Mumbai. \n\n  \n[embed_video video_site=”youtube” video_url=”https://www.youtube.com/watch?v=SRiweWB-w9A” video_width=”640″ video_height=”360″ ] \n  \n\n\n  \n\n \n  \n[/col_one]
URL:https://barriefilmfestival.netgaindev.com/now-playing/photograph-7pm-2/
LOCATION:Annual Barrie Film Festival
END:VEVENT
BEGIN:VEVENT
DTSTART;TZID=America/Toronto:20190919T160000
DTEND;TZID=America/Toronto:20190919T172200
DTSTAMP:20260424T082729
CREATED:20190803T150919Z
LAST-MODIFIED:20190803T150919Z
UID:6011-1568908800-1568913720@barriefilmfestival.netgaindev.com
SUMMARY:Echo In The Canyon - 4PM
DESCRIPTION:[col_one ] \n \nEcho In The Canyon\n\nScreening: Thursday\, September 19\, 2019 – 4pm\, 7pm\nUptown Theatre\, 55 Dunlop St. W.\, Barrie \n  \n[btnsx id=”6010″] \n  \nAlso being shown as part of the ***Troubadour Music Festival*** on Sept 21 – 7pm\, for info: https://troubadourfestival.ca/film/ \n  \nDirected by: Andrew Slater\nWritten by: Eric Barrett\, Andrew Slater\nFeaturing: Jakob Dylan\, Tom Petty\, Eric Clapton\, Ringo Starr\, Stephen Stills\, David Crosby\, Roger Mcguinn\, Beck\, Regina Spektor\, Graham Nash\, Cat Power\, Lou Adler\, John Sebastian\, Jackson Browne\, Michelle Phillips\, Nora Jones\, Jade Castrinos\nDocumentary\, PG\, drug references and some suggestive content\, 82 minutes (USA/UK) \n  \n\n“This superlative documentary looks at the birth of the California sound\, a merging of folk and rock that essentially sprang from L.A.’s Laurel Canyon.” – Christopher Lloyd\, The Film Yap \n  \n“A star-studded\, nostalgic blast-from-the-past.” – Susan Granger\, SSG Syndicate \n  \nEcho In The Canyon celebrates the explosion of popular music that came out of LA’s Laurel Canyon in the mid-60s as folk went electric and The Byrds\, The Beach Boys\, Buffalo Springfield and The Mamas and the Papas gave birth to the California Sound. It was a moment (1965 to 1967) when bands came to LA to emulate The Beatles and Laurel Canyon emerged as a hotbed of creativity and collaboration for a new generation of musicians who would soon put an indelible stamp on the history of American popular music. Featuring Jakob Dylan\, the film explores the beginnings of the Laurel Canyon music scene. Dylan uncovers never-before-heard personal details behind the bands and their songs and how that music continues to inspire today. Echo in the Canyon contains candid conversations and performances with Brian Wilson\, Ringo Starr\, Michelle Phillips\, Eric Clapton\, Stephen Stills\, David Crosby\, Graham Nash\, Roger McGuinn and Jackson Browne as well as contemporary musicians they influenced such as Tom Petty (in his very last film interview)\, Beck\, Fiona Apple\, Cat Power\, Regina Spektor and Norah Jones. \n  \n  \nAwards: \nNominated\, Music Movies Competition\, Cleveland International Film Festival\, 2019 \n  \n[embed_video video_site=”vimeo” video_url=”https://vimeo.com/334991177″ video_width=”640″ video_height=”360″ ] \n[col_one] \n[col_two_thirds ] \n\nProgram is Sponsored by: \n \n\nFilm tickets: $10 for Adults\, $8 for Seniors/Students \nAdvance tickets are available online and at the Uptown Theatre box office one week before screening (in the evenings an hour before their first screening). HST is included in the ticket price. \n[/col_one]
URL:https://barriefilmfestival.netgaindev.com/now-playing/echo-in-the-canyon-4pm/
LOCATION:Annual Barrie Film Festival
END:VEVENT
BEGIN:VEVENT
DTSTART;TZID=America/Toronto:20190919T190000
DTEND;TZID=America/Toronto:20190919T202200
DTSTAMP:20260424T082729
CREATED:20190803T151029Z
LAST-MODIFIED:20190803T151029Z
UID:6015-1568919600-1568924520@barriefilmfestival.netgaindev.com
SUMMARY:Echo In The Canyon - 7PM
DESCRIPTION:[col_one ] \n \nEcho In The Canyon\n\nScreening: Thursday\, September 19\, 2019 – 4pm\, 7pm\nUptown Theatre\, 55 Dunlop St. W.\, Barrie \n  \n[btnsx id=”6010″] \n  \nAlso being shown as part of the ***Troubadour Music Festival*** on Sept 21 – 7pm\, for info: https://troubadourfestival.ca/film/ \n  \nDirected by: Andrew Slater\nWritten by: Eric Barrett\, Andrew Slater\nFeaturing: Jakob Dylan\, Tom Petty\, Eric Clapton\, Ringo Starr\, Stephen Stills\, David Crosby\, Roger Mcguinn\, Beck\, Regina Spektor\, Graham Nash\, Cat Power\, Lou Adler\, John Sebastian\, Jackson Browne\, Michelle Phillips\, Nora Jones\, Jade Castrinos\nDocumentary\, PG\, drug references and some suggestive content\, 82 minutes (USA/UK) \n  \n\n“This superlative documentary looks at the birth of the California sound\, a merging of folk and rock that essentially sprang from L.A.’s Laurel Canyon.” – Christopher Lloyd\, The Film Yap \n  \n“A star-studded\, nostalgic blast-from-the-past.” – Susan Granger\, SSG Syndicate \n  \nEcho In The Canyon celebrates the explosion of popular music that came out of LA’s Laurel Canyon in the mid-60s as folk went electric and The Byrds\, The Beach Boys\, Buffalo Springfield and The Mamas and the Papas gave birth to the California Sound. It was a moment (1965 to 1967) when bands came to LA to emulate The Beatles and Laurel Canyon emerged as a hotbed of creativity and collaboration for a new generation of musicians who would soon put an indelible stamp on the history of American popular music. Featuring Jakob Dylan\, the film explores the beginnings of the Laurel Canyon music scene. Dylan uncovers never-before-heard personal details behind the bands and their songs and how that music continues to inspire today. Echo in the Canyon contains candid conversations and performances with Brian Wilson\, Ringo Starr\, Michelle Phillips\, Eric Clapton\, Stephen Stills\, David Crosby\, Graham Nash\, Roger McGuinn and Jackson Browne as well as contemporary musicians they influenced such as Tom Petty (in his very last film interview)\, Beck\, Fiona Apple\, Cat Power\, Regina Spektor and Norah Jones. \n  \n  \nAwards: \nNominated\, Music Movies Competition\, Cleveland International Film Festival\, 2019 \n  \n[embed_video video_site=”vimeo” video_url=”https://vimeo.com/334991177″ video_width=”640″ video_height=”360″ ] \n[col_one] \n[col_two_thirds ] \n\nProgram is Sponsored by: \n \n\nFilm tickets: $10 for Adults\, $8 for Seniors/Students \nAdvance tickets are available online and at the Uptown Theatre box office one week before screening (in the evenings an hour before their first screening). HST is included in the ticket price. \n[/col_one]
URL:https://barriefilmfestival.netgaindev.com/now-playing/echo-in-the-canyon-7pm/
LOCATION:Annual Barrie Film Festival
END:VEVENT
END:VCALENDAR