BEGIN:VCALENDAR
VERSION:2.0
PRODID:-//Barrie Film Festival - ECPv6.7.0//NONSGML v1.0//EN
CALSCALE:GREGORIAN
METHOD:PUBLISH
X-WR-CALNAME:Barrie Film Festival
X-ORIGINAL-URL:https://barriefilmfestival.netgaindev.com
X-WR-CALDESC:Events for Barrie Film Festival
REFRESH-INTERVAL;VALUE=DURATION:PT1H
X-Robots-Tag:noindex
X-PUBLISHED-TTL:PT1H
BEGIN:VTIMEZONE
TZID:America/Toronto
BEGIN:DAYLIGHT
TZOFFSETFROM:-0500
TZOFFSETTO:-0400
TZNAME:EDT
DTSTART:20200308T070000
END:DAYLIGHT
BEGIN:STANDARD
TZOFFSETFROM:-0400
TZOFFSETTO:-0500
TZNAME:EST
DTSTART:20201101T060000
END:STANDARD
END:VTIMEZONE
BEGIN:VEVENT
DTSTART;TZID=America/Toronto:20200108T160000
DTEND;TZID=America/Toronto:20200108T160000
DTSTAMP:20260424T024440
CREATED:20191227T202851Z
LAST-MODIFIED:20191227T202851Z
UID:14947-1578499200-1578499200@barriefilmfestival.netgaindev.com
SUMMARY:From the Vine - 4PM
DESCRIPTION:[col_one_third ][col_one_third ] \n \n[/col_one_third][col_two_thirds ] \nScreenings:\nWednesday\, January 8\, 2020 – 4pm\, 7pm\nThursday\, January 9\, 2020 – 4pm\, 7pm\nLocation: Uptown Theatre\, 55 Dunlop St. W.\, Barrie \nDirected by: Sean Cisterna\nPrincipal Cast: Joe Pantoliano\, Wendy Crewson\, Marco Leonardi\, Paula Brancati\, Kevin Hanchard\nComedy/Drama\, Not Rated\, 97 minutes\, Language: English and Italian with English subtitles (Canada/Italy) \n  \n[btnsx id=”6662″] \n  \nIncludes Q&A with Producer/Director Sean Cisterna\n\n \n[/col_two_thirds] \n[col_one ] \n“Cisterna has always had a good sense of story\, it all has a genuine flow to it as we move along and it really has a strong sense of self. That kind of narrative confidence not only comes from the script\, from the director leading the ship.” “ – David Voigt\, IN THE SEATS \n  \nFrom the Vine is the heartwarming story of a middle-aged corporate executive who has all but lost his way\, and travels abroad in hopes of finding the missing piece. What he discovers is a vineyard on the brink of ruin\, and a desire within to breathe new life into it. \nBased on the acclaimed novel by Kenneth Cancellara\, Finding Marco\, the film takes us on an emotional journey of loss\, rebirth and self-discovery. Set against the beautiful backdrop of a vineyard in Southern Italy\, the tale of a man reconnecting with his family’s roots\, figuratively and literally\, is one that many will find relatable. From the Vine is a story of community and love\, and serves as a great reminder that our connection to our heritage is one that cannot easily be forgotten. (ICFF) \n  \n\nAwards:\nWinner\, Best Feature Drama\, Devour! Food Film Festival\, Wolfville\, NS\, 2019\nWinner\, Best Foreign Film/Best Career Achievement Award (Pantoliano)\, Fort Lauderdale International Film Festival\, 2019\nWinner\, Ishia Legend Award (Pantoliano) Ischia Global Film & Music Festival\, 2019\nWinner\, Best Film\, Italian Contemporary Film Festival\, 2019\nWinner\, Impact Award (Pantoliano) Naples International Film Festival\, 2019 \n\n  \n[embed_video video_site=”youtube” video_url=”https://www.youtube.com/watch?v=cSW1cqmQO1I” video_width=”640″ video_height=”360″ ] \n  \n\n\n  \n\n \n  \n[/col_one]
URL:https://barriefilmfestival.netgaindev.com/now-playing/from-the-vine-4pm-3/
LOCATION:Annual Barrie Film Festival
END:VEVENT
BEGIN:VEVENT
DTSTART;TZID=America/Toronto:20200108T190000
DTEND;TZID=America/Toronto:20200108T190000
DTSTAMP:20260424T024440
CREATED:20191227T203056Z
LAST-MODIFIED:20191227T203056Z
UID:14948-1578510000-1578510000@barriefilmfestival.netgaindev.com
SUMMARY:From the Vine - 7PM
DESCRIPTION:[col_one_third ][col_one_third ] \n \n[/col_one_third][col_two_thirds ] \nScreenings:\nWednesday\, January 8\, 2020 – 4pm\, 7pm\nThursday\, January 9\, 2020 – 4pm\, 7pm\nLocation: Uptown Theatre\, 55 Dunlop St. W.\, Barrie \nDirected by: Sean Cisterna\nPrincipal Cast: Joe Pantoliano\, Wendy Crewson\, Marco Leonardi\, Paula Brancati\, Kevin Hanchard\nComedy/Drama\, Not Rated\, 97 minutes\, Language: English and Italian with English subtitles (Canada/Italy) \n  \n[btnsx id=”6662″] \n  \nIncludes Q&A with Producer/Director Sean Cisterna\n\n \n[/col_two_thirds] \n[col_one ] \n“Cisterna has always had a good sense of story\, it all has a genuine flow to it as we move along and it really has a strong sense of self. That kind of narrative confidence not only comes from the script\, from the director leading the ship.” “ – David Voigt\, IN THE SEATS \n  \nFrom the Vine is the heartwarming story of a middle-aged corporate executive who has all but lost his way\, and travels abroad in hopes of finding the missing piece. What he discovers is a vineyard on the brink of ruin\, and a desire within to breathe new life into it. \nBased on the acclaimed novel by Kenneth Cancellara\, Finding Marco\, the film takes us on an emotional journey of loss\, rebirth and self-discovery. Set against the beautiful backdrop of a vineyard in Southern Italy\, the tale of a man reconnecting with his family’s roots\, figuratively and literally\, is one that many will find relatable. From the Vine is a story of community and love\, and serves as a great reminder that our connection to our heritage is one that cannot easily be forgotten. (ICFF) \n  \n\nAwards:\nWinner\, Best Feature Drama\, Devour! Food Film Festival\, Wolfville\, NS\, 2019\nWinner\, Best Foreign Film/Best Career Achievement Award (Pantoliano)\, Fort Lauderdale International Film Festival\, 2019\nWinner\, Ishia Legend Award (Pantoliano) Ischia Global Film & Music Festival\, 2019\nWinner\, Best Film\, Italian Contemporary Film Festival\, 2019\nWinner\, Impact Award (Pantoliano) Naples International Film Festival\, 2019 \n\n  \n[embed_video video_site=”youtube” video_url=”https://www.youtube.com/watch?v=cSW1cqmQO1I” video_width=”640″ video_height=”360″ ] \n  \n\n\n  \n\n \n  \n[/col_one]
URL:https://barriefilmfestival.netgaindev.com/now-playing/from-the-vine-7pm-3/
LOCATION:Annual Barrie Film Festival
END:VEVENT
BEGIN:VEVENT
DTSTART;TZID=America/Toronto:20200109T160000
DTEND;TZID=America/Toronto:20200109T160000
DTSTAMP:20260424T024440
CREATED:20191227T203157Z
LAST-MODIFIED:20191227T203157Z
UID:14949-1578585600-1578585600@barriefilmfestival.netgaindev.com
SUMMARY:From the Vine - 4PM
DESCRIPTION:[col_one_third ][col_one_third ] \n \n[/col_one_third][col_two_thirds ] \nScreenings:\nWednesday\, January 8\, 2020 – 4pm\, 7pm\nThursday\, January 9\, 2020 – 4pm\, 7pm\nLocation: Uptown Theatre\, 55 Dunlop St. W.\, Barrie \nDirected by: Sean Cisterna\nPrincipal Cast: Joe Pantoliano\, Wendy Crewson\, Marco Leonardi\, Paula Brancati\, Kevin Hanchard\nComedy/Drama\, Not Rated\, 97 minutes\, Language: English and Italian with English subtitles (Canada/Italy) \n  \n[btnsx id=”6662″] \n  \nIncludes Q&A with Producer/Director Sean Cisterna\n\n \n[/col_two_thirds] \n[col_one ] \n“Cisterna has always had a good sense of story\, it all has a genuine flow to it as we move along and it really has a strong sense of self. That kind of narrative confidence not only comes from the script\, from the director leading the ship.” “ – David Voigt\, IN THE SEATS \n  \nFrom the Vine is the heartwarming story of a middle-aged corporate executive who has all but lost his way\, and travels abroad in hopes of finding the missing piece. What he discovers is a vineyard on the brink of ruin\, and a desire within to breathe new life into it. \nBased on the acclaimed novel by Kenneth Cancellara\, Finding Marco\, the film takes us on an emotional journey of loss\, rebirth and self-discovery. Set against the beautiful backdrop of a vineyard in Southern Italy\, the tale of a man reconnecting with his family’s roots\, figuratively and literally\, is one that many will find relatable. From the Vine is a story of community and love\, and serves as a great reminder that our connection to our heritage is one that cannot easily be forgotten. (ICFF) \n  \n\nAwards:\nWinner\, Best Feature Drama\, Devour! Food Film Festival\, Wolfville\, NS\, 2019\nWinner\, Best Foreign Film/Best Career Achievement Award (Pantoliano)\, Fort Lauderdale International Film Festival\, 2019\nWinner\, Ishia Legend Award (Pantoliano) Ischia Global Film & Music Festival\, 2019\nWinner\, Best Film\, Italian Contemporary Film Festival\, 2019\nWinner\, Impact Award (Pantoliano) Naples International Film Festival\, 2019 \n\n  \n[embed_video video_site=”youtube” video_url=”https://www.youtube.com/watch?v=cSW1cqmQO1I” video_width=”640″ video_height=”360″ ] \n  \n\n\n  \n\n \n  \n[/col_one]
URL:https://barriefilmfestival.netgaindev.com/now-playing/from-the-vine-4pm-4/
LOCATION:Annual Barrie Film Festival
END:VEVENT
BEGIN:VEVENT
DTSTART;TZID=America/Toronto:20200109T190000
DTEND;TZID=America/Toronto:20200109T190000
DTSTAMP:20260424T024440
CREATED:20191227T203259Z
LAST-MODIFIED:20191227T203259Z
UID:14950-1578596400-1578596400@barriefilmfestival.netgaindev.com
SUMMARY:From the Vine - 7PM
DESCRIPTION:[col_one_third ][col_one_third ] \n \n[/col_one_third][col_two_thirds ] \nScreenings:\nWednesday\, January 8\, 2020 – 4pm\, 7pm\nThursday\, January 9\, 2020 – 4pm\, 7pm\nLocation: Uptown Theatre\, 55 Dunlop St. W.\, Barrie \nDirected by: Sean Cisterna\nPrincipal Cast: Joe Pantoliano\, Wendy Crewson\, Marco Leonardi\, Paula Brancati\, Kevin Hanchard\nComedy/Drama\, Not Rated\, 97 minutes\, Language: English and Italian with English subtitles (Canada/Italy) \n  \n[btnsx id=”6662″] \n  \nIncludes Q&A with Producer/Director Sean Cisterna\n\n \n[/col_two_thirds] \n[col_one ] \n“Cisterna has always had a good sense of story\, it all has a genuine flow to it as we move along and it really has a strong sense of self. That kind of narrative confidence not only comes from the script\, from the director leading the ship.” “ – David Voigt\, IN THE SEATS \n  \nFrom the Vine is the heartwarming story of a middle-aged corporate executive who has all but lost his way\, and travels abroad in hopes of finding the missing piece. What he discovers is a vineyard on the brink of ruin\, and a desire within to breathe new life into it. \nBased on the acclaimed novel by Kenneth Cancellara\, Finding Marco\, the film takes us on an emotional journey of loss\, rebirth and self-discovery. Set against the beautiful backdrop of a vineyard in Southern Italy\, the tale of a man reconnecting with his family’s roots\, figuratively and literally\, is one that many will find relatable. From the Vine is a story of community and love\, and serves as a great reminder that our connection to our heritage is one that cannot easily be forgotten. (ICFF) \n  \n\nAwards:\nWinner\, Best Feature Drama\, Devour! Food Film Festival\, Wolfville\, NS\, 2019\nWinner\, Best Foreign Film/Best Career Achievement Award (Pantoliano)\, Fort Lauderdale International Film Festival\, 2019\nWinner\, Ishia Legend Award (Pantoliano) Ischia Global Film & Music Festival\, 2019\nWinner\, Best Film\, Italian Contemporary Film Festival\, 2019\nWinner\, Impact Award (Pantoliano) Naples International Film Festival\, 2019 \n\n  \n[embed_video video_site=”youtube” video_url=”https://www.youtube.com/watch?v=cSW1cqmQO1I” video_width=”640″ video_height=”360″ ] \n  \n\n\n  \n\n \n  \n[/col_one]
URL:https://barriefilmfestival.netgaindev.com/now-playing/from-the-vine-7pm-4/
LOCATION:Annual Barrie Film Festival
END:VEVENT
BEGIN:VEVENT
DTSTART;TZID=America/Toronto:20200116T160000
DTEND;TZID=America/Toronto:20200116T160000
DTSTAMP:20260424T024440
CREATED:20191227T204854Z
LAST-MODIFIED:20191227T204854Z
UID:14951-1579190400-1579190400@barriefilmfestival.netgaindev.com
SUMMARY:Marriage Story - 4PM
DESCRIPTION:[col_one ] \n \nScreening: Thursday\, January 16\, 2020 – 4pm\, 7pm\nUptown Theatre\, 55 Dunlop St. W.\, Barrie \n  \n[btnsx id=”6713″] \n  \nWritten and Directed by: Noah Baumbach\nCast: Adam Driver\, Scarlett Johansson\, Laura Dern and Wallace Shawn\nDrama\, 14A for coarse language and sexual references throughout\, 136 minutes (USA/UK) \n  \n“One of the most realistic and genuinely told love stories I have ever seen. Adam Driver\, Scarlett Johansson & Laura Dern are perfect.” – Lauren Veneziani\, WBAL-TV \n  \n“Johansson and Driver are remarkably\, heartbreakingly good in every scene; showing their characters’ journeys to an unflinching camera\, letting the gap between them get wider yet unable\, for their son’s sake\, to completely walk away.” – Moira MacDonald\, Seattle Times \n  \n“It’s a triumph\, a mix of pleasure and pain that cuts so deep it leaves a scar. It hurts\, but it hurts so good.” – Adam Graham\, Detroit News \n  \n  \nNew York theatre director Charlie (Adam Driver) and actress Nicole (Scarlett Johansson) struggle through a gruelling\, coast-to-coast divorce that pushes them to their personal and creative extremes. For years\, Nicole\, who was once a successful Hollywood actress\, has wanted to return to Los Angeles\, but Charlie has no interest in moving. When she relocates with their eight-year-old son\, Henry (Azhy Robertson)\, things get ugly between the two spouses. Charlie has to fly back and forth to see Henry\, while their legal teams drive wedges between the two\, who at first\, began their separation amicably. (synopsis from tribute.ca) \n  \nAwards: \nNominee\, Best Actress in a Drama (Johansson)/Best Actor in a Drama (Driver)/Best Supporting Actress in a Motion Picture (Dern) /Best Screenplay/Best Original Score/Best Motion Picture-Drama\, Golden Globes\, USA\, 2020\nNominee\, Best Picture/Best Supporting Actress/Best Director/Best Screenwriter/Readers’Choice\, AARP Movies for Grownups Awards\, 2020\nWinner\, Best Actor (Adam Driver)/Nominee Top Ten Films (3rd Place) Atlanta Film Critics Circle\, 2019\nNominee/Best International Independent Film\, British Independent Film Awards\, 2019\nNominee\, Best Picture/Best Actor/Best Actress/Best Supporting Actress/Best Acting Ensemble/Best Director\, Broadcast Film Critics Association Awards\, 2020\nWinner\, Robert Altman Award\, Film Independent Spirit Awards\, 2020 \n  \n[embed_video video_site=”vimeo” video_url=”https://vimeo.com/357809346″ video_width=”640″ video_height=”360″ ] \n[col_one] \n\nProgram is Sponsored by: \n \n[/col_one]
URL:https://barriefilmfestival.netgaindev.com/now-playing/marriage-story-4pm/
LOCATION:Annual Barrie Film Festival
END:VEVENT
BEGIN:VEVENT
DTSTART;TZID=America/Toronto:20200116T190000
DTEND;TZID=America/Toronto:20200116T190000
DTSTAMP:20260424T024440
CREATED:20191227T205053Z
LAST-MODIFIED:20191227T205053Z
UID:14952-1579201200-1579201200@barriefilmfestival.netgaindev.com
SUMMARY:Marriage Story - 7PM
DESCRIPTION:[col_one ] \n \nScreening: Thursday\, January 16\, 2020 – 4pm\, 7pm\nUptown Theatre\, 55 Dunlop St. W.\, Barrie \n  \n[btnsx id=”6713″] \n  \nWritten and Directed by: Noah Baumbach\nCast: Adam Driver\, Scarlett Johansson\, Laura Dern and Wallace Shawn\nDrama\, 14A for coarse language and sexual references throughout\, 136 minutes (USA/UK) \n  \n“One of the most realistic and genuinely told love stories I have ever seen. Adam Driver\, Scarlett Johansson & Laura Dern are perfect.” – Lauren Veneziani\, WBAL-TV \n  \n“Johansson and Driver are remarkably\, heartbreakingly good in every scene; showing their characters’ journeys to an unflinching camera\, letting the gap between them get wider yet unable\, for their son’s sake\, to completely walk away.” – Moira MacDonald\, Seattle Times \n  \n“It’s a triumph\, a mix of pleasure and pain that cuts so deep it leaves a scar. It hurts\, but it hurts so good.” – Adam Graham\, Detroit News \n  \n  \nNew York theatre director Charlie (Adam Driver) and actress Nicole (Scarlett Johansson) struggle through a gruelling\, coast-to-coast divorce that pushes them to their personal and creative extremes. For years\, Nicole\, who was once a successful Hollywood actress\, has wanted to return to Los Angeles\, but Charlie has no interest in moving. When she relocates with their eight-year-old son\, Henry (Azhy Robertson)\, things get ugly between the two spouses. Charlie has to fly back and forth to see Henry\, while their legal teams drive wedges between the two\, who at first\, began their separation amicably. (synopsis from tribute.ca) \n  \nAwards: \nNominee\, Best Actress in a Drama (Johansson)/Best Actor in a Drama (Driver)/Best Supporting Actress in a Motion Picture (Dern) /Best Screenplay/Best Original Score/Best Motion Picture-Drama\, Golden Globes\, USA\, 2020\nNominee\, Best Picture/Best Supporting Actress/Best Director/Best Screenwriter/Readers’Choice\, AARP Movies for Grownups Awards\, 2020\nWinner\, Best Actor (Adam Driver)/Nominee Top Ten Films (3rd Place) Atlanta Film Critics Circle\, 2019\nNominee/Best International Independent Film\, British Independent Film Awards\, 2019\nNominee\, Best Picture/Best Actor/Best Actress/Best Supporting Actress/Best Acting Ensemble/Best Director\, Broadcast Film Critics Association Awards\, 2020\nWinner\, Robert Altman Award\, Film Independent Spirit Awards\, 2020 \n  \n[embed_video video_site=”vimeo” video_url=”https://vimeo.com/357809346″ video_width=”640″ video_height=”360″ ] \n[col_one] \n\nProgram is Sponsored by: \n \n[/col_one]
URL:https://barriefilmfestival.netgaindev.com/now-playing/marriage-story-7pm/
LOCATION:Annual Barrie Film Festival
END:VEVENT
END:VCALENDAR