BEGIN:VCALENDAR
VERSION:2.0
PRODID:-//Barrie Film Festival - ECPv6.7.0//NONSGML v1.0//EN
CALSCALE:GREGORIAN
METHOD:PUBLISH
X-ORIGINAL-URL:https://barriefilmfestival.netgaindev.com
X-WR-CALDESC:Events for Barrie Film Festival
REFRESH-INTERVAL;VALUE=DURATION:PT1H
X-Robots-Tag:noindex
X-PUBLISHED-TTL:PT1H
BEGIN:VTIMEZONE
TZID:America/Toronto
BEGIN:DAYLIGHT
TZOFFSETFROM:-0500
TZOFFSETTO:-0400
TZNAME:EDT
DTSTART:20200308T070000
END:DAYLIGHT
BEGIN:STANDARD
TZOFFSETFROM:-0400
TZOFFSETTO:-0500
TZNAME:EST
DTSTART:20201101T060000
END:STANDARD
END:VTIMEZONE
BEGIN:VEVENT
DTSTART;TZID=America/Toronto:20201001T193000
DTEND;TZID=America/Toronto:20201001T193000
DTSTAMP:20260423T145516
CREATED:20200922T211219Z
LAST-MODIFIED:20200922T211219Z
UID:7730-1601580600-1601580600@barriefilmfestival.netgaindev.com
SUMMARY:Percy @ drive-in
DESCRIPTION:[fullwidth ][col_one ] \n \nPERCY\n\nThursday\, October 1\, 2020\nShowtime is at dusk (7:30 pm)\nLocation: Sunset Barrie Drive-in\, 134 Line 4 South\, Oro-Medonte\, ON L0L 2L0\n[btnsx id=”7710″] \n\n  \n\nDirected by: Clark Johnson\nCast: Christopher Walken\, Christina Ricci\, Zach Braff\, Luke Kirby\, Adam Beach\, Martin Donovan\, Peter Stebbings\, Roberta Maxwell\nDrama/Biography\, Rated G\, 120 min. (Canada) \n  \nBased on events from a 1998 lawsuit\, PERCY follows small-town farmer Percy Schmeiser (Christopher Walken)\, who challenges a major conglomerate when the company’s genetically modified (GMO) canola is discovered in the 70-year-old farmer’s crops. As he speaks out against the company’s business practices\, he realizes he is representing thousands of other disenfranchised farmers around the world fighting the same battle. Suddenly\, he becomes an unsuspecting folk hero in a desperate war to protect farmers’ rights and the world’s food supply against what they see as corporate greed. \n  \nOFFICIAL SELECTION – 2020 QUÉBEC FILM FESTIVAL\nOFFICIAL SELECTION – 2020 CINÉFEST SUDBURY INTERNATIONAL FILM FESTIVAL\nOFFICIAL SELECTION – 2020 EDMONTON INTERNATIONAL FILM FESTIVAL \n  \n \n\n  \n\nPlease buy your tickets ahead of time. Tickets will be available at box office\, subject to availability. \nSingle (1 person 1 car) $13\nCouple (2 people 1 car) $26\nGroup (3-4 people 1 car) $38 \n  \nATTENTION: EACH TICKET IS SOLD ON A PER CAR BASIS. Therefore you cannot combine tickets for the same vehicle. \n  \nCOVID-19 RULES AT SUNSET BARRIE DRIVE IN: \n\nWe encourage the wearing of masks/face coverings when interacting with volunteers at front gate/box office\nPlaygrounds\, dog parks\, volleyball court are off limits\nMust remain in vehicles with exception to concession and washroom use. Masks must be worn if outside your vehicle. NO SITTING IN LAWNCHAIRS\nSocial distancing must be maintained at all times\nOne vehicle centred between each pair of poles\nScreenings are rain or shine\n\n  \n\nFunders:\nCity of Barrie | Ontario Trillium Foundation | Barrie Community Foundation \nPresenting Sponsor: Stewart Esten LLP \nProducer Level: Park Place \nDirector Level: Barriston Law LLP\, Express Radiant\, Devry Smith Frank LLP\, Lehman & Associates\, The Madison Group of RBC Wealth Management\, Michael & Marion’s\, Liz and Barry Peacock\, Storage Mart \nYear-round Series Sponsors: Busch Systems\, Netgain\, The Peggy Hill Team\, Restorations by Rodgers/Renovations by Rodgers\, Stewart Esten LLP\, Venable Park Investment Counsel Incl. \nActor Level: Baldwin Planning and Development Consultants\, Digital Giants\, Dr. Dove Dental Office\, Robert and Joan Gilroy\, The Hearing Clinic\, Kirkwood Properties\, Plumbtech Plumbing Inc.\, Simcoe Audio Video \nFilm Level: Carroll Heyd Chown LLP\, Edward Jones – Morgan Sheridan\, John Lawler – Royal Le Page\, George and Janet Lougheed\, Krista Alkerton – Royal Le Page\, Pearson Engineering Ltd.\, Voldi’s Time Centre\, Wall-Armstrong & Green\, Zuzu Fashion Boutique \nMedia Sponsors: 107.5 FM\, Barrie Advance\, Barrie 360\, BIG 101.1\, Pure Country\, Barrie Uncovered\, Rock 95\, Fresh Radio 93.1\, The Dock 104.1\, Tourism Barrie \n[/col_one]
URL:https://barriefilmfestival.netgaindev.com/now-playing/percy-drive-in/
LOCATION:Sunset Barrie Drive-in\, 134 Line 4 South\, Oro-Medonte\, Ontario\, L0L 2L0\, Canada
END:VEVENT
BEGIN:VEVENT
DTSTART;TZID=America/Toronto:20201002T193000
DTEND;TZID=America/Toronto:20201002T193000
DTSTAMP:20260423T145516
CREATED:20200922T212054Z
LAST-MODIFIED:20200922T212054Z
UID:7737-1601667000-1601667000@barriefilmfestival.netgaindev.com
SUMMARY:Spread Your Wings @ drive-in
DESCRIPTION:[fullwidth ][col_one ] \n \nSPREAD YOUR WINGS (donne-moi des ailes)\n\nFriday\, October 2\, 2020\nShowtime is at dusk (7:30 pm)\nLocation: Sunset Barrie Drive-in\, 134 Line 4 South\, Oro-Medonte\, ON L0L 2L0\n[btnsx id=”7711″] \n\n  \n\nDirected by: Nicolas Vanier\nCast: Jean-Paul Rouve\, Mélanie Doutey\, Louis Vazquez\, Frédéric Saurel\, Dominique Pinon\nAdventure/Family\, Rated PG – mild themes\, partial nudity in a non-sexual context\, mild language\, 113 minutes\, Language: French\, English\, Norwegian with English subtitles (France/Norway) \n  \nChristian (Jean-Paul Rouve)\, is a visionary scientist who studies migrating geese. His son Thomas (Louis Vazquez)\, a teenager obsessed with video games\, dreads the idea of spending his summer holiday with his father in a rural\, wifi-less hamlet. Much to his surprise\, he grows attached to his father’s new project: an ambitious plan to raise and train a flock of endangered geese to follow a new\, safer migratory path. Together\, father and son embark on an extraordinary and perilous journey to the Arctic circle with an ultralight glider\, which they’ll fly to guide the geese along their new route. Spread Your Wings is inspired by a true story. \n  \n\n[embed_video video_site=”youtube” video_url=”https://www.youtube.com/watch?v=WxGXbsiDhw0″ video_width=”640″ video_height=”360″ ] \n  \n\nPlease buy your tickets ahead of time. Tickets will be available at box office\, subject to availability. \nSingle (1 person 1 car) $13\nCouple (2 people 1 car) $26\nGroup (3-4 people 1 car) $38 \n  \nATTENTION: EACH TICKET IS SOLD ON A PER CAR BASIS. Therefore you cannot combine tickets for the same vehicle. \n  \nCOVID-19 RULES AT SUNSET BARRIE DRIVE IN: \n\nWe encourage the wearing of masks/face coverings when interacting with volunteers at front gate/box office\nPlaygrounds\, dog parks\, volleyball court are off limits\nMust remain in vehicles with exception to concession and washroom use. Masks must be worn if outside your vehicle. NO SITTING IN LAWNCHAIRS\nSocial distancing must be maintained at all times\nOne vehicle centred between each pair of poles\nScreenings are rain or shine\n\n\nFunders:\nCity of Barrie | Ontario Trillium Foundation | Barrie Community Foundation \nPresenting Sponsor: Stewart Esten LLP \nProducer Level: Park Place \nDirector Level: Barriston Law LLP\, Express Radiant\, Devry Smith Frank LLP\, Lehman & Associates\, The Madison Group of RBC Wealth Management\, Michael & Marion’s\, Liz and Barry Peacock\, Storage Mart \nYear-round Series Sponsors: Busch Systems\, Netgain\, The Peggy Hill Team\, Restorations by Rodgers/Renovations by Rodgers\, Stewart Esten LLP\, Venable Park Investment Counsel Incl. \nActor Level: Baldwin Planning and Development Consultants\, Digital Giants\, Dr. Dove Dental Office\, Robert and Joan Gilroy\, The Hearing Clinic\, Kirkwood Properties\, Plumbtech Plumbing Inc.\, Simcoe Audio Video \nFilm Level: Carroll Heyd Chown LLP\, Edward Jones – Morgan Sheridan\, John Lawler – Royal Le Page\, George and Janet Lougheed\, Krista Alkerton – Royal Le Page\, Pearson Engineering Ltd.\, Voldi’s Time Centre\, Wall-Armstrong & Green\, Zuzu Fashion Boutique \nMedia Sponsors: 107.5 FM\, Barrie Advance\, Barrie 360\, BIG 101.1\, Pure Country\, Barrie Uncovered\, Rock 95\, Fresh Radio 93.1\, The Dock 104.1\, Tourism Barrie \n[/col_one]
URL:https://barriefilmfestival.netgaindev.com/now-playing/spread-your-wings/
LOCATION:Sunset Barrie Drive-in\, 134 Line 4 South\, Oro-Medonte\, Ontario\, L0L 2L0\, Canada
END:VEVENT
BEGIN:VEVENT
DTSTART;TZID=America/Toronto:20201003T193000
DTEND;TZID=America/Toronto:20201003T193000
DTSTAMP:20260423T145516
CREATED:20200922T213113Z
LAST-MODIFIED:20200922T213113Z
UID:7743-1601753400-1601753400@barriefilmfestival.netgaindev.com
SUMMARY:Short Film Showcase & Anything For Jackson @ drive-in
DESCRIPTION:[fullwidth ][col_one ] \n \nShorts Showcase & Awards | Anything for Jackson\nSaturday\, October 3\, 2020\nShowtime is at dusk (7:30 pm)\nLocation: Sunset Barrie Drive-in\, 134 Line 4 South\, Oro-Medonte\, ON L0L 2L0\n[btnsx id=”7712″] \n\n \nShow 1: Shorts Showcase & Awards (7:30pm)\nVarious genres\, not rated (PG-13\, some films contain coarse language and adult themes)\, some are subtitled \nPresenting a highly varied selection of films submitted by regional\, national and international filmmakers and curated by our panel of judges. All of the short films screened at the event will be eligible for the People’s Choice Award that is voted on after the screening. The awards for all categories will be announced directly following the screening in a physically distanced format. A very big THANK YOU to all the filmmakers who submitted their work. CLICK HERE FOR THE FULL SHORT FILM SHOWCASE LINE-UP!\n \nTHE WINNERS ARE ANNOUNCED – CLICK HERE FOR THE RESULTS\n\nAwards sponsored by: Dr. Dove Dental Office and Simcoe Audio Video \n\n\nShow 2: Anything for Jackson (approx. 9:30pm)\nDirected by: Justin G. Dyck\nWritten by: Keith Cooper\nProducers: Keith Cooper\, Justin G. Dyck\, Christopher Giroux\, Bill Marks\nCast: Sheila McCarthy\, Julian Richings\, Konstantina Mantelos\, Yannick Bisson\, Josh Cruddas\nHorror\, Rated 14A for disturbing scenes\, coarse language and violence. Not for sensitive viewers\, 90 min. (Canada) \n  \nJoin us for a socially distanced pre-show Q&A with the film’s creators that you can watch on-screen from your car. Special Guests include: Director Justin G Dyck\, Writer Keith Cooper and Actors: Sheila McCarthy\, Konstantina Mantelos\, Josh Cruddas and Lanette Ware. Anything for Jackson was filmed in our region. \n  \nAfter losing their only grandson Jackson in a car accident\, grief-stricken Audrey and Henry kidnap a pregnant woman with the intentions of performing a “Reverse Exorcism” putting Jackson inside her unborn child. It doesn’t take long to figure out Jackson isn’t the only ghost the grandparents invited into their home. Now it’s a race against time for the couple\, as well as the pregnant woman to figure a way out of the haunting they’ve set upon themselves. \n  \n\nDirector Justin G Dyck \nIn 2004 Justin earned a BFA from Ryerson University before officially starting his career in film and television production.  Since then he has worked as a director\, cinematographer\, editor and producer. This vast experience helped establish Justin as a well-rounded and knowledgeable director who’s understanding of the tools enable impeccable execution of the creative. \nJustin strengths have allowed him to direct a wide variety of genres from romantic comedy (Christmas with a Prince/My Perfect Romance) to Children’s movies (A Witches Ball) to television (The Wedding Planners/Ponysitter Club). In his earlier work\, as a music video director\, themes of revenge\, violence\, poverty and politics played heavily in videos for artists such as Obie Trice and Bone Crusher. The critically acclaimed horror/thriller film ‘Anything For Jackson’ represents a lifelong goal to create\, produce and direct an independent feature film. \nWith several new projects on the horizon\, Justin G Dyck isn’t showing any sign of slowing down. \n  \nPresented by Super Channel  |  Sponsored by: Kirkwood Properties\n \n\n\n  \n\nPlease buy your tickets ahead of time. Tickets will be available at box office\, subject to availability. \nSingle (1 person 1 car) $13\nCouple (2 people 1 car) $26\nGroup (3-4 people 1 car) $38 \n  \nATTENTION: EACH TICKET IS SOLD ON A PER CAR BASIS. Therefore you cannot combine tickets for the same vehicle. \n  \nCOVID-19 RULES AT SUNSET BARRIE DRIVE IN: \n\nWe encourage the wearing of masks/face coverings when interacting with volunteers at front gate/box office\nPlaygrounds\, dog parks\, volleyball court are off limits\nMust remain in vehicles with exception to concession and washroom use. Masks must be worn if outside your vehicle. NO SITTING IN LAWNCHAIRS\nSocial distancing must be maintained at all times\nOne vehicle centred between each pair of poles\nScreenings are rain or shine\n\n\nFunders:\nCity of Barrie | Ontario Trillium Foundation | Barrie Community Foundation \nPresenting Sponsor: Stewart Esten LLP \nProducer Level: Park Place \nDirector Level: Barriston Law LLP\, Express Radiant\, Devry Smith Frank LLP\, Lehman & Associates\, The Madison Group of RBC Wealth Management\, Michael & Marion’s\, Liz and Barry Peacock\, Storage Mart \nYear-round Series Sponsors: Busch Systems\, Netgain\, The Peggy Hill Team\, Restorations by Rodgers/Renovations by Rodgers\, Stewart Esten LLP\, Venable Park Investment Counsel Incl. \nActor Level: Baldwin Planning and Development Consultants\, Digital Giants\, Dr. Dove Dental Office\, Robert and Joan Gilroy\, The Hearing Clinic\, Kirkwood Properties\, Plumbtech Plumbing Inc.\, Simcoe Audio Video \nFilm Level: Carroll Heyd Chown LLP\, Edward Jones – Morgan Sheridan\, John Lawler – Royal Le Page\, George and Janet Lougheed\, Krista Alkerton – Royal Le Page\, Pearson Engineering Ltd.\, Voldi’s Time Centre\, Wall-Armstrong & Green\, Zuzu Fashion Boutique \nMedia Sponsors: 107.5 FM\, Barrie Advance\, Barrie 360\, BIG 101.1\, Pure Country\, Barrie Uncovered\, Rock 95\, Fresh Radio 93.1\, The Dock 104.1\, Tourism Barrie \n[/col_one]
URL:https://barriefilmfestival.netgaindev.com/now-playing/short-film-showcase-anything-for-jackson-drive-in/
LOCATION:Sunset Barrie Drive-in\, 134 Line 4 South\, Oro-Medonte\, Ontario\, L0L 2L0\, Canada
END:VEVENT
BEGIN:VEVENT
DTSTART;TZID=America/Toronto:20201004T193000
DTEND;TZID=America/Toronto:20201004T193000
DTSTAMP:20260423T145516
CREATED:20200922T213926Z
LAST-MODIFIED:20200922T213926Z
UID:7747-1601839800-1601839800@barriefilmfestival.netgaindev.com
SUMMARY:Heroic Losers @ drive-in
DESCRIPTION:[fullwidth ][col_one ] \n \nHEROIC LOSERS\n\nSunday\, October 4\, 2020\nShowtime is at dusk (7:30 pm)\nLocation: Sunset Barrie Drive-in\, 134 Line 4 South\, Oro-Medonte\, ON L0L 2L0\n[btnsx id=”7713″] \n\n  \n\nWritten and Directed by: Sebastián Borensztein\nCast: Ricardo Darin\, Andrés Parra\, Luis Brandoni and Rita Cortese\nComedy/Drama\, Rated PG-13 for some mature themes\, 116 minutes\, Language: Spanish with English subtitles (Argentina/Spain) \n  \nThe year is 2001\, and Argentina is hitting the lowest point in its great depression. A group of friends and neighbours pool together all of their savings to reactivate an agricultural cooperative and the economy of their small town. The day after they deposit the group’s money in the bank\, Argentina’s economy and banking system collapses\, and they lose it all. But they soon find out that they are not only victims of the country’s economic collapse\, they have been scammed by the bank manager who has taken advantage of the situation. In a twist on the heist film\, this small town group of every man and woman bands together and puts a plan into action to recover what’s rightfully theirs. \nFeaturing the great Ricardo Darín\, star of The Secret in Their Eyes\, Nine Queens and Truman\, the latest from director Sebastian Borensztein is a rousing tale of working-class solidarity and collective revenge. \n  \nOFFICIAL SELECTION – 2019 TORONTO INTERNATIONAL FILM FESTIVAL\nOFFICIAL SELECTION (ARGENTINA) – 2020 ACADEMY AWARDS \n  \nAwards: 2 Wins\, 6 Nominations: \nNominated\, Best Latin-American Film\, Ariel Awards\, Mexico\, 2020\nNominated\, Best Ibero-American Film\, Cinema Brazil Grand Prize\, 2020\nWinner\, Best Ibero-American Film\, Goya Awards\, 2020\nWinner\, Best Latin-American Picture\, José María Forqué Awards\, 2020\nNominated\, Best Foreign Language Film\, Palm Springs International Film Festival\, 2020 \n  \n \n\n\nPlease buy your tickets ahead of time. Tickets will be available at box office\, subject to availability. \n\nSingle (1 person 1 car) $13\nCouple (2 people 1 car) $26\nGroup (3-4 people 1 car) $38 \n  \nATTENTION: EACH TICKET IS SOLD ON A PER CAR BASIS. Therefore you cannot combine tickets for the same vehicle. \n  \nCOVID-19 RULES AT SUNSET BARRIE DRIVE IN: \n\nWe encourage the wearing of masks/face coverings when interacting with volunteers at front gate/box office\nPlaygrounds\, dog parks\, volleyball court are off limits\nMust remain in vehicles with exception to concession and washroom use. Masks must be worn if outside your vehicle. NO SITTING IN LAWNCHAIRS\nSocial distancing must be maintained at all times\nOne vehicle centred between each pair of poles\nScreenings are rain or shine\n\n\nFunders:\nCity of Barrie | Ontario Trillium Foundation | Barrie Community Foundation \nPresenting Sponsor: Stewart Esten LLP \nProducer Level: Park Place \nDirector Level: Barriston Law LLP\, Express Radiant\, Devry Smith Frank LLP\, Lehman & Associates\, The Madison Group of RBC Wealth Management\, Michael & Marion’s\, Liz and Barry Peacock\, Storage Mart \nYear-round Series Sponsors: Busch Systems\, Netgain\, The Peggy Hill Team\, Restorations by Rodgers/Renovations by Rodgers\, Stewart Esten LLP\, Venable Park Investment Counsel Incl. \nActor Level: Baldwin Planning and Development Consultants\, Digital Giants\, Dr. Dove Dental Office\, Robert and Joan Gilroy\, The Hearing Clinic\, Kirkwood Properties\, Plumbtech Plumbing Inc.\, Simcoe Audio Video \nFilm Level: Carroll Heyd Chown LLP\, Edward Jones – Morgan Sheridan\, John Lawler – Royal Le Page\, George and Janet Lougheed\, Krista Alkerton – Royal Le Page\, Pearson Engineering Ltd.\, Voldi’s Time Centre\, Wall-Armstrong & Green\, Zuzu Fashion Boutique \nMedia Sponsors: 107.5 FM\, Barrie Advance\, Barrie 360\, BIG 101.1\, Pure Country\, Barrie Uncovered\, Rock 95\, Fresh Radio 93.1\, The Dock 104.1\, Tourism Barrie \n[/col_one]
URL:https://barriefilmfestival.netgaindev.com/now-playing/heroic-losers-drive-in/
LOCATION:Sunset Barrie Drive-in\, 134 Line 4 South\, Oro-Medonte\, Ontario\, L0L 2L0\, Canada
END:VEVENT
END:VCALENDAR