BEGIN:VCALENDAR
VERSION:2.0
PRODID:-//Barrie Film Festival - ECPv6.7.0//NONSGML v1.0//EN
CALSCALE:GREGORIAN
METHOD:PUBLISH
X-WR-CALNAME:Barrie Film Festival
X-ORIGINAL-URL:https://barriefilmfestival.netgaindev.com
X-WR-CALDESC:Events for Barrie Film Festival
REFRESH-INTERVAL;VALUE=DURATION:PT1H
X-Robots-Tag:noindex
X-PUBLISHED-TTL:PT1H
BEGIN:VTIMEZONE
TZID:America/Toronto
BEGIN:DAYLIGHT
TZOFFSETFROM:-0500
TZOFFSETTO:-0400
TZNAME:EDT
DTSTART:20220313T070000
END:DAYLIGHT
BEGIN:STANDARD
TZOFFSETFROM:-0400
TZOFFSETTO:-0500
TZNAME:EST
DTSTART:20221106T060000
END:STANDARD
END:VTIMEZONE
BEGIN:VEVENT
DTSTART;TZID=America/Toronto:20220706T212000
DTEND;TZID=America/Toronto:20220706T212000
DTSTAMP:20260422T035639
CREATED:20220624T134223Z
LAST-MODIFIED:20220624T134223Z
UID:9510-1657142400-1657142400@barriefilmfestival.netgaindev.com
SUMMARY:RON'S GONE WRONG - Outdoor Screening
DESCRIPTION:Lawn Chair Luminata | Outdoor screening \n \nWednesday\, July 6\, 2022\nMeridian Place\, Downtown Barrie\nAdmission: Free\nStarts at dusk\, weather permitting (rain date July 7)\nComedy/Animation\, 2021\, 106 min.\, Rated G – some bullying and an intense scene (USA) \nDirected by Jean-Philippe Vine\, Sarah Smith \n  \n“Ron’s Gone Wrong” is the story of Barney\, a socially awkward middle-schooler and Ron\, his new walking\, talking\, digitally-connected device\, which is supposed to be his “Best Friend out of the Box.” Ron’s hilarious malfunctions set against the backdrop of the social media age\, launch them into an action-packed journey in which boy and robot come to terms with the wonderful messiness of true friendship. “Ron’s Gone Wrong” features the voices of Zach Galifianakis\, Jack Dylan Grazer\, Olivia Colman\, Ed Helms\, Justice Smith\, Rob Delaney\, Kylie Cantrall\, Ricardo Hurtado\, Marcus Scribner\, Thomas Barbusca. \n  \n \n  \nPresented in partnership with the Downtown Barrie Business Association \n \n  \nSupported by:
URL:https://barriefilmfestival.netgaindev.com/now-playing/rons-gone-wrong-outdoor-screening/
LOCATION:Meridian Place\, 30 Simcoe Street\, Barrie\, ON\, L4M 1A7\, Canada
END:VEVENT
BEGIN:VEVENT
DTSTART;TZID=America/Toronto:20220710T191000
DTEND;TZID=America/Toronto:20220710T191000
DTSTAMP:20260422T035639
CREATED:20220707T145423Z
LAST-MODIFIED:20220707T145423Z
UID:9600-1657480200-1657480200@barriefilmfestival.netgaindev.com
SUMMARY:Q&A - THE LONG RIDER
DESCRIPTION:The Barrie Film Festival is partnering with Canadian Director Sean Cisterna to promote his latest film with two Q&As coming to Barrie!\n\n  \nQ&A screenings:\nSunday\, July 10 – 7:10 pm\, Galaxy Cinemas Barrie\nTuesday\, July 12 – 7:10 pm\, Galaxy Cinemas Barrie\n\n  \nThis is a Cineplex screening; tickets available through Galaxy Cinemas Barrie: https://www.cineplex.com/movie/the-long-rider-english-and-spanish-west?deeplink=true \nThe Long Rider will be screening all week\, be sure you choose correct date/theatre if you plan to attend one of the two Q&As! \n  \n \nDocumentary\, 96 min.\, PG (Canada) \n  \n“An inspirational and moving story.” – Chris Knight\, National Post \n  \nSYNOPSIS: When Filipe Leite leaves his adoptive home of Canada\, the aspiring journalist sets out on an epic quest to ride from Calgary to his family’s home in Brazil – and later beyond – entirely on horseback. Inspired by Aimé Tschiffely’s 1925 equestrian journey\, Filipe’s 8 year odyssey of over 25\,000 kms across 12 international borders\, sees the young rider battle intense heat\, drought\, speeding transport trucks\, nature’s wrath and corrupt border guards on his history-making long ride home.
URL:https://barriefilmfestival.netgaindev.com/now-playing/qa-the-long-rider/
LOCATION:Galaxy Cinemas Barrie\, 72 Commerce Park Dr\, Barrie\, ON L4N 8W8\, 72 Commerce Park Drive\, Barrie\, Ontario\, L4N 8W8\, Canada
END:VEVENT
BEGIN:VEVENT
DTSTART;TZID=America/Toronto:20220712T191000
DTEND;TZID=America/Toronto:20220712T191000
DTSTAMP:20260422T035639
CREATED:20220707T150223Z
LAST-MODIFIED:20220707T150223Z
UID:9607-1657653000-1657653000@barriefilmfestival.netgaindev.com
SUMMARY:Q&A - THE LONG RIDER
DESCRIPTION:The Barrie Film Festival is partnering with Canadian Director Sean Cisterna to promote his latest film with two Q&As coming to Barrie!\n\n  \nQ&A screenings:\nSunday\, July 10 – 7:10 pm\, Galaxy Cinemas Barrie\nTuesday\, July 12 – 7:10 pm\, Galaxy Cinemas Barrie\n\n  \nThis is a Cineplex screening; tickets available through Galaxy Cinemas Barrie: https://www.cineplex.com/movie/the-long-rider-english-and-spanish-west?deeplink=true \nThe Long Rider will be screening all week\, be sure you choose correct date/theatre if you plan to attend one of the two Q&As! \n  \n \nDocumentary\, 96 min.\, PG (Canada) \n  \n“An inspirational and moving story.” – Chris Knight\, National Post \n  \nSYNOPSIS: When Filipe Leite leaves his adoptive home of Canada\, the aspiring journalist sets out on an epic quest to ride from Calgary to his family’s home in Brazil – and later beyond – entirely on horseback. Inspired by Aimé Tschiffely’s 1925 equestrian journey\, Filipe’s 8 year odyssey of over 25\,000 kms across 12 international borders\, sees the young rider battle intense heat\, drought\, speeding transport trucks\, nature’s wrath and corrupt border guards on his history-making long ride home.
URL:https://barriefilmfestival.netgaindev.com/now-playing/qa-the-long-rider-2/
LOCATION:Galaxy Cinemas Barrie\, 72 Commerce Park Dr\, Barrie\, ON L4N 8W8\, 72 Commerce Park Drive\, Barrie\, Ontario\, L4N 8W8\, Canada
END:VEVENT
BEGIN:VEVENT
DTSTART;TZID=America/Toronto:20220713T211500
DTEND;TZID=America/Toronto:20220713T211500
DTSTAMP:20260422T035639
CREATED:20220624T142721Z
LAST-MODIFIED:20220624T142721Z
UID:9524-1657746900-1657746900@barriefilmfestival.netgaindev.com
SUMMARY:RATATOUILLE - Outdoor Screening
DESCRIPTION:Lawn Chair Luminata | Outdoor screening \n \nWednesday\, July 13\, 2022\nMeridian Place\, Downtown Barrie\nAdmission: Free\nStarts at dusk\, weather permitting (rain date July 14)\nComedy/Animation\, 2007\, 110 min.\, Rated G (USA) \nDirected by Brad Bird\, Jan Pinkava \n  \nIn this hilarious Academy Award®-winning animated-adventure\, a rat named Remy dreams of becoming a great chef despite his family’s wishes and the obvious problem of being a rat in a decidedly rodent-phobic profession. When fate places Remy in the city of Paris\, he finds himself ideally situated beneath a 5-star gourmet restaurant made famous by his culinary hero\, Auguste Gusteau. Despite the apparent dangers of being an unwanted visitor in the kitchen at one of Paris’ most exclusive restaurants\, Remy forms an unlikely partnership with Linguini\, the garbage boy\, who inadvertently discovers Remy’s amazing talents. They strike a deal\, ultimately setting into motion a hilarious and exciting chain of extraordinary events that turns the culinary world of Paris upside down. \n  \nRemy finds himself torn between following his dreams or returning forever to his previous existence as a rat. He learns the truth about friendship\, family and having no choice but to be who he really is\, a rat who wants to be a chef. \n  \nAwards – 67 wins\, 47 Nominations\, including: \nWinner – Oscar\, Best Animated Feature\, Academy Awards\, 2008\nWinner – Best Animated Film\, Golden Globes\, 2008\nWinner – Best Animated Film\, BAFTA Awards\, 2008\nWinner – Movie of the Year\, AFI Awards\, 2008\nWinner – 9 Awards\, Annie Awards\, 2008\nWinner – Best Score/Soundtrack Album for a Motion Picture\, Grammy Awards\, 2008\nWinner – Best Animated Film\, Austin Film Critics Association\, 2007\nWinner – Best Screenplay\, Boston Society of Film Critics Awards\, 2007\nWinner – Best Animated Feature\, Chicago Film Critics Association\, 2008 \n  \nPresented in partnership with the Downtown Barrie Business Association \n \n  \nSupported by:
URL:https://barriefilmfestival.netgaindev.com/now-playing/ratatouille-outdoor-screenings/
LOCATION:Meridian Place\, 30 Simcoe Street\, Barrie\, ON\, L4M 1A7\, Canada
END:VEVENT
BEGIN:VEVENT
DTSTART;TZID=America/Toronto:20220721T211500
DTEND;TZID=America/Toronto:20220721T211500
DTSTAMP:20260422T035639
CREATED:20220624T145421Z
LAST-MODIFIED:20220624T145421Z
UID:9529-1658438100-1658438100@barriefilmfestival.netgaindev.com
SUMMARY:UPDATED - Paddling Film Festival World Tour 2022
DESCRIPTION:Lawn Chair Luminata | Outdoor screening \n \nNEW DATE\, DUE TO WEATHER – Thursday\, July 21\, 2022\nMeridian Place\, Downtown Barrie\nAdmission: Free\nStarts at dusk\, weather permitting\nAdventure\, 2022\, PG – some films are unrated\, 91 min. \nHosted by: \n \n  \nThe Paddling Film Festival is an international adventure film tour presenting the world’s best paddling films of the year – whitewater\, sea kayaking\, canoeing\, SUP\, action and lifestyle – in more than 120 cities and towns across Canada\, United States and around the world. \nHere is the line up: \n\nLEAN AGAINST THE WIND\nConquering the Mount Everest of canoe racing—a 45-mile stretch of stacked waves\, crashing currents and blistering winds off the coast of Hawaii—is just one way 12-time Molokai OC-1 World Champion and outrigger canoeist Lauren Spalding has distinguished herself. Add Olympian and working parent to the list\, and it’s safe to say she’s fully inherited her father’s legendary\, push-the-limits fervor.\nDirector: Keith Malloy\nProducer: Brett Williams (11:51) \n\nCONNECTED TO WATER: STEFI VAN WIJK\nThough paddling is in Stefi Van Wijk’s blood\, she had to find her own connection to the water. This Connected To Water episode features her story growing up in a family of championship paddlers\, finding her place at the Madawaska Kanu Centre\, and also what the Madawaska River has taught her after years of paddling.\nDirector: Ben Hemmings\nProducers: Julie Mulligan & Joseph Coppolino (3:56) \n\nDORY LAND\nFor whitewater dory lovers\, there’s no better place than Idaho. The state’s miles of wild\, free-flowing rivers are home to the country’s deepest gorges and some of the best big water rapids. In 1972\, renowned conservationist and Grand Canyon Dories founder Martin Litton asked Curt Chang if he’d like to take some boats and a crew to Hells Canyon. After an initial scouting trip\, Curt started up the Idaho operation. Since then\, Curt has fostered a community of guides who care deeply about rivers\, running good trips and the legacy of dories.\nDirector: Logan Bockrath (22:17) \n\nA QUALITY OF IMAGINATION\nIn a culture seemingly full of adrenaline junkies and going bigger\, Benny Marr contemplates the ultimate form of self-expression\, and the subtle moments defining one’s style.\nDirector: Caleb Roberts (5:28) \n\nFLUID TRAILS\nFluid Trails follows three adventurers as they make their way across Kahurangi National Park in New Zealand via mountain bike and packraft. The park is an ancient place with rare birds\, rolling alpine tussock\, earthquake shattered peaks and towering podocarp forests. A place of colonialism\, gold fever and exertion. A place of cascading rivers and winding singletrack.\nDirector: Deane Parker\nProducers: Deane Parker\, Dylan Gerwschitz (12:08) \n\nMY DEAR FEAR\nWhether sea kayaking in the surf\, climbing a giant rock wall or hiking alone in the woods\, most outdoor enthusiasts have had a run-in with fear. Sometimes fear offers a rush of adrenaline that pushes us towards our limits and beyond. Sometimes it takes control and we’re left paralyzed. When is fear valuable? What amount is too much? And how can paddlers distinguish the thin line between the two? My Dear Fear is the filmmaker’s creative approach to engage with these questions.\nDirector & Producer: Tom Vetterl (5:42) \n\nANIAKCHAK\nNewlyweds Graham Zimmerman and Shannon McDowell are professional athletes in different sports and find joy and common ground in a new\, fledgling activity: packrafting. This shared pursuit takes them on a harrowing adventure to Alaska’s Aniakchak National Monument\, the most remote and least visited part of America’s national park system.\nDirectors: Forest Woodward\, Graham Zimmerman\nProducers: Jim Aikman\, Graham Zimmerman (25:04) \n\n  \nPresented in partnership with the Downtown Barrie Business Association \n \n  \nSupported by:
URL:https://barriefilmfestival.netgaindev.com/now-playing/paddling-film-festival-world-tour-2022/
LOCATION:Meridian Place\, 30 Simcoe Street\, Barrie\, ON\, L4M 1A7\, Canada
END:VEVENT
BEGIN:VEVENT
DTSTART;TZID=America/Toronto:20220727T210500
DTEND;TZID=America/Toronto:20220727T210500
DTSTAMP:20260422T035639
CREATED:20220624T152012Z
LAST-MODIFIED:20220624T152012Z
UID:9535-1658955900-1658955900@barriefilmfestival.netgaindev.com
SUMMARY:SING 2 - Outdoor Screening
DESCRIPTION:Lawn Chair Luminata | Outdoor screening \n \nWednesday\, July 27\, 2022\nMeridian Place\, Downtown Barrie\nAdmission: Free\nStarts at dusk\, weather permitting (rain date July 28)\nComedy/Animation\, 2021\, 110 min.\, Rated PG (USA/Japan) \nDirected by Garth Jennings \n  \nA whimsical group of animal musicians are about to audition for a talent show when the ruthless business-wolf Jimmy Crystal (Bobby Cannavale) slams the red button\, ending their chance at success. Jimmy says that he is looking for a “big idea\,” and that’s when Gunter (Nick Kroll) says that he knows Clay Calloway (Bono)\, a washed-out but infamous musician. \n  \nThe producer loves the idea and with his approval\, the crew goes to search for Calloway in hopes of getting him to find his voice after 15 years in recluse. Meanwhile\, Buster Moon (Matthew McConaughey) plans an ambitious new show in the big city\, putting the skills of skills of Meena (Tori Kelly)\, Rosita (Reese Witherspoon)\, Gunter (Nick Kroll)\, Johnny (Taron Egerton) and Ash (Scarlett Johansson) to the test while encouraging them to work together to pull it off. \n  \nAwards – 2 wins\, 16 nominations: \nWinner – Outstanding Character Voice-over performance (Letitia Wright)\, Image Awards\, 2022\nWinner – Favourite Voice from an Animated Movie (Scarlett Johansson)\, Kids’ Choice Awards\, 2022 \n  \nPresented in partnership with the Downtown Barrie Business Association \n \n  \nSupported by:
URL:https://barriefilmfestival.netgaindev.com/now-playing/sing-2-outdoor-screening/
LOCATION:Meridian Place\, 30 Simcoe Street\, Barrie\, ON\, L4M 1A7\, Canada
END:VEVENT
END:VCALENDAR