BEGIN:VCALENDAR
VERSION:2.0
PRODID:-//Barrie Film Festival - ECPv6.7.0//NONSGML v1.0//EN
CALSCALE:GREGORIAN
METHOD:PUBLISH
X-ORIGINAL-URL:https://barriefilmfestival.netgaindev.com
X-WR-CALDESC:Events for Barrie Film Festival
REFRESH-INTERVAL;VALUE=DURATION:PT1H
X-Robots-Tag:noindex
X-PUBLISHED-TTL:PT1H
BEGIN:VTIMEZONE
TZID:America/Toronto
BEGIN:DAYLIGHT
TZOFFSETFROM:-0500
TZOFFSETTO:-0400
TZNAME:EDT
DTSTART:20220313T070000
END:DAYLIGHT
BEGIN:STANDARD
TZOFFSETFROM:-0400
TZOFFSETTO:-0500
TZNAME:EST
DTSTART:20221106T060000
END:STANDARD
END:VTIMEZONE
BEGIN:VEVENT
DTSTART;TZID=America/Toronto:20220804T210000
DTEND;TZID=America/Toronto:20220804T210000
DTSTAMP:20260422T023842
CREATED:20220624T180616Z
LAST-MODIFIED:20220624T180616Z
UID:9539-1659646800-1659646800@barriefilmfestival.netgaindev.com
SUMMARY:UPDATED - CASABLANCA - Outdoor Screening
DESCRIPTION:Lawn Chair Luminata | Outdoor screening \n \nNEW DATE\, DUE TO WEATHER – Thursday\, August 4\, 2022\nMeridian Place\, Downtown Barrie\nAdmission: Free\nStarts at dusk\, weather permitting (rain date TBD)\nDrama/Romance\, 1942\, 102 min.\, Rated PG (USA) \nDirected by Michael Curtiz\nCast: Humphrey Bogart\, Ingrid Bergman\, Claude Rains \n  \n  \nWinner of three Academy Awards including “Best Picture\,” Casablanca is one of the most enduring romances in movie history. Rick Blaine (Humphrey Bogart) owns a nightclub in Vichy-controlled Casablanca\, frequented by refugees desperate to escape German domination. Despite the ever-present human misery\, Rick manages to remain uninvolved in World War II now raging across Europe and Northern Africa. But all that changes when Ilsa Lund (Ingrid Bergman) walks through the front door of Rick’s club – Rick must now choose between a life with the woman he loves and becoming the hero that both she and the world need.​ Casablanca remains one of Hollywood’s greatest treasures 80 years after it first lit up the screen. \n  \n  \nAwards – 10 wins\, 9 nominations\, including:\n3 Oscars: Best Picture\, Director\, Screenplay\, Academy Awards\, 1944 \n  \nPresented in partnership with the Downtown Barrie Business Association \n \n  \nSupported by:
URL:https://barriefilmfestival.netgaindev.com/now-playing/casablanca-outdoor-screening/
LOCATION:Meridian Place\, 30 Simcoe Street\, Barrie\, ON\, L4M 1A7\, Canada
END:VEVENT
BEGIN:VEVENT
DTSTART;TZID=America/Toronto:20220810T205500
DTEND;TZID=America/Toronto:20220810T205500
DTSTAMP:20260422T023842
CREATED:20220624T183227Z
LAST-MODIFIED:20220624T183227Z
UID:9545-1660164900-1660164900@barriefilmfestival.netgaindev.com
SUMMARY:CLIFFORD THE BIG RED DOG - Outdoor Screening
DESCRIPTION:Lawn Chair Luminata | Outdoor screening \n \nWednesday\, August 10\, 2022\nMeridian Place\, Downtown Barrie\nAdmission: Free\nStarts at dusk\, weather permitting (rain date Aug 11)\nComedy/Animation\, 2021\, 97 min.\, Rated G – mild action (USA/Canada) \nDirected by Walt Becker \n  \nWhen middle-schooler Emily Elizabeth (Darby Camp) meets a magical animal rescuer (John Cleese) who gifts her a little\, red puppy\, she never anticipated waking up to find a giant ten-foot hound in her small New York City apartment. While her single mom (Sienna Guillory) is away for business\, Emily and her fun but impulsive uncle Casey (Jack Whitehall) set out on an adventure that will keep you on the edge-of-your-seat as our heroes take a bite out of the Big Apple. Based on the beloved Scholastic book character\, Clifford will teach the world how to love big! \n  \nAwards – 2 nominations:\n \nNominated – Favourite Movie\, Kids’ Choice Awards\, 2022\nNominated – Best Family Film\, Sunset Film Circle Awards\, 2021 \n  \nPresented in partnership with the Downtown Barrie Business Association \n \n  \nSupported by:
URL:https://barriefilmfestival.netgaindev.com/now-playing/clifford-the-big-red-dog-outdoor-screening/
LOCATION:Meridian Place\, 30 Simcoe Street\, Barrie\, ON\, L4M 1A7\, Canada
END:VEVENT
BEGIN:VEVENT
DTSTART;TZID=America/Toronto:20220813T170000
DTEND;TZID=America/Toronto:20220813T223000
DTSTAMP:20260422T023842
CREATED:20220804T144537Z
LAST-MODIFIED:20220804T144537Z
UID:9653-1660410000-1660429800@barriefilmfestival.netgaindev.com
SUMMARY:THAT NIGHT'S TRAIN - Outdoor Screening
DESCRIPTION:MOSAIC NIGHTS FESTIVAL | Outdoor event & screening \n \nBring your lawn chairs\, blankets and your whole family to this colourful Persian Festival and movie night in Downtown Barrie. Enjoy food\, music and dance\, all from Iran. Meet at the intersection of Dunlop and Mulcaster at 4:45 pm for an extravagant Persian Parade to kick start the evening at Meridian Place.\n\n  \nFilm: THAT NIGHT’S TRAIN\n(Ghatare An Shab)     \nSaturday\, August 13\, 2022\nMeridian Place\, Downtown Barrie\nAdmission: Free\nEvent starts at 5:00pm\, movie starts at dusk\, weather permitting (rain date Aug 14)\nDrama\, 2019\, 85 min.\, Farsi with English subtitles (Iran) \nDirected by: Hamidreza Ghotbi\nCast: Afshin Hashemi\, Siamak Safari\, Maryam Boubani\, Behnaz Naderi\, Ailin Rashidian \n  \nA writer who also works as a primary school teacher\, tells her class the beginning of a story about a five-year-old girl named Banafsheh who meets a teacher on a night train after visiting her mother’s grave with her grandmother. The teacher learns that Banafsheh’s mother had died after childbirth and is touched by the little girl’s story\, gives her a stuffed toy puppet\, and promises to visit her the following week. The teacher invites her students to use their imaginations to decide what happens next which quickly becomes a popular challenge as they enthusiastically start to compete on who has the best ideas to finish the tale. Banafsheh who had formed an attachment to the teacher\, waits for her call and eventually takes matters into her own hands. \n  \nPhoto courtesy of Farabi Cinema Foundation (FCF) \n  \n\n  \nThis screening is presented as part of the MOSAIC NIGHTS FESTIVAL\, the celebration of 3 international films embedded in 3 different cultural extravaganzas. This year the Ethnic Mosaic Alliance is featuring the cultures of Iran\, South-East Asia and other multi-cultural communities. The series is on 3 separate evenings and at different locations.\n \n  \n \n       \n 
URL:https://barriefilmfestival.netgaindev.com/now-playing/that-nights-train-outdoor-screening/
LOCATION:Meridian Place\, 30 Simcoe Street\, Barrie\, ON\, L4M 1A7\, Canada
END:VEVENT
BEGIN:VEVENT
DTSTART;TZID=America/Toronto:20220817T205000
DTEND;TZID=America/Toronto:20220817T205000
DTSTAMP:20260422T023842
CREATED:20220624T185734Z
LAST-MODIFIED:20220624T185734Z
UID:9549-1660769400-1660769400@barriefilmfestival.netgaindev.com
SUMMARY:JUMANJI - Outdoor Screening
DESCRIPTION:Lawn Chair Luminata | Outdoor screening & pre-show live music \n \nWednesday\, August 17\, 2022\nMeridian Place\, Downtown Barrie\nAdmission: Free\nStarts at dusk\, weather permitting (rain date Aug 18)\nAdventure\, 1995\, 104 min.\, Rated PG – contains some frightening and intense scenes\, mild language (USA) \nDirected by Joe Johnston \n  \nRobin Williams\, Kirsten Dunst and Bonnie Hunt star in this phenomenal adaptation of the award-winning children’s book and block-buster hit\, that combines an entrancing mix of fantasy\, adventure and edge-of-your seat excitement. When young Alan Parrish discovers a mysterious board game\, he doesn’t realize its unimaginable powers\, until he is magically transported before the startled eyes of his friend\, Sarah\, into the untamed jungles of JUMANJI! There he remains for 26 years until he is freed from the game’s spell by two unsuspecting children. Now a grown man\, Alan (Williams) reunites with Sarah (Hunt) and together with Judy (Kirsten Dunst) and Peter (Bradley Pierce) tries to outwit the game’s powerful forces in this imaginative adventure that combines breathtaking special effects with an enchanting mixture of comedy\, magic and thrills. \n  \nAwards – 4 wins\, 11 nominations\, including:\n \nWinner – Best Supporting Actress (Bonnie Hunt)\, Best Special Effects\, Academy of Science Fiction\, Fantasy & Horror Films\, 1996\nWinner – Best Family Feature\, Young Artists Awards\, 1996\nNominated – Favourite Actor (Robin Williams)\, Kids’ Choice Awards\, 1996 \n  \n\nArrive early for a pre-show performance with 0Stella at 7:30pm\, Meridian Place\nWeather permitting (rain date Aug 18) \n \n  \n  \nPresented in partnership with the Downtown Barrie Business Association \n \n  \nSupported by:
URL:https://barriefilmfestival.netgaindev.com/now-playing/jumanji-outdoor-screening-2/
LOCATION:Meridian Place\, 30 Simcoe Street\, Barrie\, ON\, L4M 1A7\, Canada
END:VEVENT
BEGIN:VEVENT
DTSTART;TZID=America/Toronto:20220824T204000
DTEND;TZID=America/Toronto:20220824T204000
DTSTAMP:20260422T023842
CREATED:20220624T192852Z
LAST-MODIFIED:20220624T192852Z
UID:9552-1661373600-1661373600@barriefilmfestival.netgaindev.com
SUMMARY:ENCANTO - Outdoor Screening
DESCRIPTION:Lawn Chair Luminata | Outdoor screening \n \nWednesday\, August 24\, 2022\nMeridian Place\, Downtown Barrie\nAdmission: Free\nStarts at dusk\, weather permitting (rain date Aug 25)\nAdventure/Animation\, 2021\, 102 min.\, Rated G – some thematic elements and mild peril (USA) \nDirected by Jared Bush\, Charise Castro Smith \n  \nThe Madrigals are an extraordinary family who live hidden in the mountains of Colombia\, in a magical house\, in a vibrant town\, in a wondrous\, charmed place called an Encanto. Each child has been blessed with a magic gift unique to them—each child except Mirabel. But when the family’s home is threatened\, Mirabel may be their only hope. \n  \nAwards – 40 wins\, 78 Nominations\, including: \nWinner – Oscar\, Best Animated Feature\, Academy Awards\, 2022\nWinner – Best Animated Film\, BAFTA Awards\, 2022\nWinner – Best Animated Feature Film\, and Best Animated Female (Stephanie Beatriz)\, Alliance of Women Journalists\, 2022\nWinner – 3 Awards\, Annie Awards\, 2022\nWinner – Best Music in a Movie\, Golden Globes\, 2022\nWinner – Best Visual Effects or Animated Performance (Stephanie Beatriz)\, Hollywood Critics Association\, 2022\nWinner – Best Voice\, Musical Score\, Best Song\, Latino Entertainment Journalists Association Film Awards\, 2022\nWinner – Best Animated Feature\, National Board of Review (USA)\, 2021\nWinner – Animated Feature: Outstanding Visual Effects\, Animated Character\, Created Environment\, Virtual Cinematography in a CG Project\, Visual Effects Society Awards\, 2022 \n  \nPresented in partnership with the Downtown Barrie Business Association \n \n  \nSupported by:
URL:https://barriefilmfestival.netgaindev.com/now-playing/encanto-outdoor-screening/
LOCATION:Meridian Place\, 30 Simcoe Street\, Barrie\, ON\, L4M 1A7\, Canada
END:VEVENT
BEGIN:VEVENT
DTSTART;TZID=America/Toronto:20220827T170000
DTEND;TZID=America/Toronto:20220827T230000
DTSTAMP:20260422T023842
CREATED:20220822T235520Z
LAST-MODIFIED:20220822T235520Z
UID:9682-1661619600-1661641200@barriefilmfestival.netgaindev.com
SUMMARY:IN THE HEIGHTS - Bradford Outdoor Screening
DESCRIPTION:MOSAIC NIGHTS FESTIVAL | Outdoor event & screening in Bradford \n \nBring your lawn chairs and blankets to this Multicultural Night in Bradford where you can enjoy dance\, music\, food and a movie!\n\n  \nFilm: IN THE HEIGHTS    \nSaturday\, August 27\, 2022\nBradford West Gwillimbury Public Library Grounds\n425 Holland St. W.\, Bradford\nAdmission: Free\nEvent starts at 5:00pm\, movie starts at dusk\, weather permitting (rain date Aug 28)\nDrama/Musical\, 143 min.\, Language: English and Spanish\, PG – some language and suggestive references (USA) \nDirected by: Jon M. Chu\nCast: Stephanie Beatriz\, Lin-Manuel Miranda\, Jimmy Smits\, Dascha Polanco\, Anthony Ramos\, Corey Hawkins\, Melissa Barrera\, Ariana Greenblatt \n  \nIn Washington Heights\, N.Y.\, the scent of warm coffee hangs in the air just outside of the 181st St. subway stop\, where a kaleidoscope of dreams rallies a vibrant and tight-knit community. At the intersection of it all is a likable and magnetic bodega owner Usnavi (Anthony Ramos)\, who hopes\, imagines and sings about a better life. “In the Heights” fuses Lin-Manuel Miranda’s kinetic music and lyrics with director Jon M. Chu’s lively and authentic eye for storytelling to capture a world very much of its place\, but universal in its experience. \n  \nAwards: 10 wins\, 46 nominations \n  \n  \n\n  \nThis screening is presented as part of the MOSAIC NIGHTS FESTIVAL\, the celebration of 3 international films embedded in 3 different cultural extravaganzas. This year the Ethnic Mosaic Alliance is featuring the cultures of Iran\, South-East Asia and other multi-cultural communities. The series is on 3 separate evenings and at different locations.\n \n  \n \n       \n 
URL:https://barriefilmfestival.netgaindev.com/now-playing/in-the-heights-bradford-outdoor-screening/
LOCATION:Bradford West Gwillimbury Public Library Grounds\, 425 Holland St W\, Bradford West Gwillimbury\, Ontario\, L3Z 0J2\, Canada
END:VEVENT
BEGIN:VEVENT
DTSTART;TZID=America/Toronto:20220831T203000
DTEND;TZID=America/Toronto:20220831T203000
DTSTAMP:20260422T023842
CREATED:20220624T195127Z
LAST-MODIFIED:20220624T195127Z
UID:9556-1661977800-1661977800@barriefilmfestival.netgaindev.com
SUMMARY:SHANG-CHI AND THE LEGEND OF THE TEN RINGS - Outdoor Screening
DESCRIPTION:Lawn Chair Luminata | Outdoor screening \n \nWednesday\, August 31\, 2022\nMeridian Place\, Downtown Barrie\nAdmission: Free\nStarts at dusk\, weather permitting (rain date Sept 1)\nAction/Adventure/Fantasy\, 2021\, 133 min. (USA) \n***Rated PG – for sequences of violence\, action\, and language*** \nDirected by Destin Daniel Cretton\nCast: Simu Liu\, Tony Leung\, Awkwafina\, Michelle Yeoh\, Fala Chen\, Meng’er Zhang\, Florian Munteanu\, Ronny Chieng \n  \nMarvel Studios’ Shang-Chi and the Legend of the Ten Rings stars Simu Liu as Shang-Chi\, who must confront the past he thought he left behind when he is drawn into the web of the mysterious Ten Rings organization. \n  \nAwards – 18 wins\, 60 Nominations\, including:\n \nWinner – Outstanding Achievement for Character Animation in a Live Action Production\, Annie Awards\, 2022\nWinner – Best Stunts (Andy Cheng)\, Chicago Indie Critics Awards\, 2022\nWinner – Game Changer Award (Simu Liu) and Best Stunt Work\, Hollywood Critics Association\, 2022\nWinner – Favourite Action Movie Star (Simu Liu)\, People’s Choice Awards\, 2021 \n  \nPresented in partnership with the Downtown Barrie Business Association \n \n  \nSupported by:
URL:https://barriefilmfestival.netgaindev.com/now-playing/shang-chi-and-the-legend-of-the-ten-rings-outdoor-screenings/
LOCATION:Meridian Place\, 30 Simcoe Street\, Barrie\, ON\, L4M 1A7\, Canada
END:VEVENT
END:VCALENDAR