BEGIN:VCALENDAR
VERSION:2.0
PRODID:-//Barrie Film Festival - ECPv6.7.0//NONSGML v1.0//EN
CALSCALE:GREGORIAN
METHOD:PUBLISH
X-WR-CALNAME:Barrie Film Festival
X-ORIGINAL-URL:https://barriefilmfestival.netgaindev.com
X-WR-CALDESC:Events for Barrie Film Festival
REFRESH-INTERVAL;VALUE=DURATION:PT1H
X-Robots-Tag:noindex
X-PUBLISHED-TTL:PT1H
BEGIN:VTIMEZONE
TZID:America/Toronto
BEGIN:DAYLIGHT
TZOFFSETFROM:-0500
TZOFFSETTO:-0400
TZNAME:EDT
DTSTART:20230312T070000
END:DAYLIGHT
BEGIN:STANDARD
TZOFFSETFROM:-0400
TZOFFSETTO:-0500
TZNAME:EST
DTSTART:20231105T060000
END:STANDARD
END:VTIMEZONE
BEGIN:VEVENT
DTSTART;TZID=America/Toronto:20230610T210000
DTEND;TZID=America/Toronto:20230610T210000
DTSTAMP:20260421T111154
CREATED:20230602T230631Z
LAST-MODIFIED:20230602T230631Z
UID:10295-1686430800-1686430800@barriefilmfestival.netgaindev.com
SUMMARY:TOP GUN: MAVERICK - Outdoor Screening
DESCRIPTION:Barrie Airshow 2023 | Outdoor screening \nTOP GUN: MAVERICK\nSaturday\, June 10\, 2023\nMeridian Place\, Downtown Barrie\nAdmission: Free\nStarts at dusk\, weather permitting (rain date June 11) \n  \nAction/Drama | PG-13 | 130 min. | 2022 | USA \nDirected by Joseph Kosinski \nRated PG-13 for sequences of intense action\, and some strong language \n  \nSynopsis:\nAfter more than thirty years of service as one of the Navy’s top aviators\, Pete “Maverick” Mitchell (Tom Cruise) is where he belongs\, pushing the envelope as a courageous test pilot and dodging the advancement in rank that would ground him. When he finds himself training a detachment of Top Gun graduates for a specialized mission the likes of which no living pilot has ever seen\, Maverick encounters Lt. Bradley Bradshaw (Miles Teller)\, call sign: “Rooster\,” the son of Maverick’s late friend and Radar Intercept Officer Lt. Nick Bradshaw\, aka “Goose.” Facing an uncertain future and confronting the ghosts of his past\, Maverick is drawn into a confrontation with his own deepest fears\, culminating in a mission that demands the ultimate sacrifice from those who will be chosen to fly it. \n  \nAwards: Won 1 Oscar (Best Sound)\, 93 wins\, 214 nominations! \n  \n \n  \n\n  \nScreening as part of 2023 Barrie Airshow presented by Pratt Homes and hosted by the City of Barrie and Downtown Barrie BIA.\n  \nFor the full schedule of 2023 Barrie Airshow events\, CLICK HERE\n  \n                         \n  \n  \n 
URL:https://barriefilmfestival.netgaindev.com/now-playing/top-gun-maverick-outdoor-screening/
LOCATION:Meridian Place\, 30 Simcoe Street\, Barrie\, ON\, L4M 1A7\, Canada
END:VEVENT
BEGIN:VEVENT
DTSTART;TZID=America/Toronto:20230621T211500
DTEND;TZID=America/Toronto:20230621T211500
DTSTAMP:20260421T111154
CREATED:20230606T185413Z
LAST-MODIFIED:20230606T185413Z
UID:10323-1687382100-1687382100@barriefilmfestival.netgaindev.com
SUMMARY:BUFFY SAINTE MARIE - CARRY IT ON - Outdoor Screening
DESCRIPTION:Lawn Chair Luminata 2023 | Outdoor screening \nBUFFY SAINTE MARIE – CARRY IT ON\nWednesday\, June 21\, 2023\nMeridian Place\, Downtown Barrie\nAdmission: Free\nStarts at dusk\, weather permitting (rain date June 22) \n  \nDocumentary | 90 min. | Canada | 2022 \nDirected by Madison Thomas \nFeaturing: Buffy Sainte-Marie\, Joni Mitchell\, Robbie Robertson\, John Kay\, Jackson Browne\, Taj Mahal\, Sonia Manzano\, George Stroumboulopoulos\, Jeremy Dutcher\, Logan Staats \nContent advisory: themes of abuse and addiction \n  \nSynopsis: \nThe life\, music\, and activism of legendary Indigenous singer-songwriter Buffy Sainte-Marie are explored in this documentary that is as captivating as its subject\, who smashed through barriers to become an inspiration to fans and fellow musicians alike. \nInnovator\, musician\, songwriter\, performer\, activist\, philanthropist\, and educator. Buffy’s career spans over sixty years and includes countless milestones: she became famous by writing the anti-war anthem “Universal Soldier”; made one of the first electronic albums in 1969; was the first Indigenous person to win an Academy Award (in 1983 for “Up Where We Belong”); made the first album over the internet in 1991; and became the oldest person ever to win the Polaris Music Prize in 2015. \nA prolific and unique songwriter\, Buffy has been covered and sampled by everyone from Elvis and Barbra Streisand to Courtney Love and Kanye West. This film offers a retrospective on Buffy’s unique life and career\, utilizing archival material (some never seen before) and cinematic recreations. The film also looks ahead at what’s next for this trailblazing icon\, sharing Buffy’s unique message and approach to life: “Sometimes you have to carry the medicine a while before people are ready for it.” The film will examine not only Buffy’s medicine\, but if the world is now ready for it. \n  \nAwards: 3 wins\, 5 nominations \nWon – Allan King Award for Excellence in Documentary\, Directors Guild of Canada\, 2022\nNominated for 5 Canadian Screen Awards (best writing\, best direction\, best editorial research\, best sound documentary)\, 2023 \n  \n \n  \nScreening Includes documentary short “The Land Knows You” by Anushay Sheikh about The Land Knows You art installation on the pink building in downtown Barrie. The film features the creator of the artwork\, Indigenous artist Alanah Astehtsi Otsistohkwa (Morningstar) Jewell\, with Anishinaabekwe storyteller and activist Sarain Fox. (4:55) \n  \n\n  \nScreened as part of National Indigenous History Month and National Indigenous Peoples Day programming hosted by the City of Barrie and the Downtown Barrie BIA\, in partnership with the Barrie Film Festival\, with support from Meridian Credit Union and 107.5 KOOL FM.\n  \nArrive early for pre-show activities starting at 7 pm. For more details\, list of events throughout June\, and programming partners\, CLICK HERE\n  \n                         \n  \nSupported by: \n               
URL:https://barriefilmfestival.netgaindev.com/now-playing/buffy-sainte-marie-carry-it-on/
LOCATION:Meridian Place\, 30 Simcoe Street\, Barrie\, ON\, L4M 1A7\, Canada
END:VEVENT
BEGIN:VEVENT
DTSTART;TZID=America/Toronto:20230628T211500
DTEND;TZID=America/Toronto:20230628T211500
DTSTAMP:20260421T111154
CREATED:20230606T194007Z
LAST-MODIFIED:20230606T194007Z
UID:10329-1687986900-1687986900@barriefilmfestival.netgaindev.com
SUMMARY:KINKY BOOTS - Outdoor Screening
DESCRIPTION:  \n \nLawn Chair Luminata 2023 | Outdoor screening \nKINKY BOOTS\nWednesday\, June 28\, 2023\nMeridian Place\, Downtown Barrie\nAdmission: Free\nStarts at dusk\, weather permitting (rain date June 29) \n  \nComedy/Drama | PG-13 | 107 min. | 2005 | USA/UK \nDirected by Julian Jarrold \nRated PG-13 for mature content and coarse language. \n  \nSynopsis: For generations\, the Price family has made very sensible\, very conservative shoes for men. When young Charlie Price (Joel Edgerton) inherits the struggling business\, he turns to an unlikely new creative consultant to save the business from imminent bankruptcy: a sassy cross-dressing cabaret singer\, whose outrageous style and wild designs are a breath of fresh air in the stuffy old factory. Starring\, in alphabetical order: Linda Bassett\, Joel Edgerton\, Chiwetel Ejiofor\, Nick Frost\, Sarah-Jane Potts. \n  \nAwards: 1 win and 7 nominations \n  \n \n\nPresented in partnership with the Downtown Barrie BIA. Brought to you by our friends at the Queens Hotel and the Flying Monkeys. For list of Pride month events CLICK HERE.\n  \n \n  \nSupported by:
URL:https://barriefilmfestival.netgaindev.com/now-playing/kinky-boots/
LOCATION:Meridian Place\, 30 Simcoe Street\, Barrie\, ON\, L4M 1A7\, Canada
END:VEVENT
END:VCALENDAR